Workbook

Sheet data
A1: player | B1: role | C1: team | D1: oppteam | E1: home | F1: starter | G1: vote% | H1: MV | I1: MV std | J1: FV | K1: FV std | L1: MV loc | M1: MV scale | N1: MV skewness | O1: MV tailweight | P1: FV loc | Q1: FV scale | R1: FV skewness | S1: FV tailweight | T1: Clean Sheet %
A2: Musso | B2: P | C2: Atalanta | D2: Napoli | E2: 1 | F2: 1 | G2: 90 | H2: 6.2118179 | I2: 0.36569571 | J2: 4.8028953 | K2: 0.8292253 | L2: 6.0634017 | M2: 0.39497522 | N2: 0.27288628 | O2: 0.64554322 | P2: 2.455879 | Q2: 0.81928957 | R2: 1.7377677 | S2: 0.61612219 | T2: 26.643044
A3: Rossi F. | B3: P | C3: Atalanta | D3: Napoli | E3: 1 | F3: 0 | G3: 1 | H3: 6.0307394 | I3: 0.36413074 | J3: 4.0360645 | K3: 0.78885341 | L3: 5.9001837 | M3: 0.39642072 | N3: 0.23949437 | O3: 0.65455812 | P3: 2.0016305 | Q3: 0.84235495 | R3: 1.5115522 | S3: 0.64546657 | T3: 19.746639
A4: Sportiello | B4: P | C4: Atalanta | D4: Napoli | E4: 1 | F4: 0 | G4: 5 | H4: 5.8515652 | I4: 0.35827708 | J4: 2.9362896 | K4: 0.67986065 | L4: 5.7335081 | M4: 0.39172578 | N4: 0.21937367 | O4: 0.66982555 | P4: 1.4655895 | Q4: 0.81367594 | R4: 1.1829406 | S4: 0.69679558 | T4: 10.068003
A5: Toloi | B5: D | C5: Atalanta | D5: Napoli | E5: 1 | F5: 1 | G5: 85 | H5: 6.199484 | I5: 0.3957479 | J5: 6.3497581 | K5: 0.57902479 | L5: 6.1628118 | M5: 0.46402955 | N5: 0.058615405 | O5: 1.1875819 | P5: 5.9087687 | Q5: 0.79944992 | R5: 0.37652734 | S5: 1.9562569 | T5: 0
A6: Demiral | B6: D | C6: Atalanta | D6: Napoli | E6: 1 | F6: 1 | G6: 90 | H6: 6.0749884 | I6: 0.45974827 | J6: 6.2789738 | K6: 0.68017387 | L6: 5.9931569 | M6: 0.52073151 | N6: 0.11619328 | O6: 1.1536303 | P6: 5.7275734 | Q6: 0.87721634 | R6: 0.42015022 | S6: 1.9537344 | T6: 0
A7: Scalvini | B7: D | C7: Atalanta | D7: Napoli | E7: 1 | F7: 0 | G7: 55 | H7: 6.0039808 | I7: 0.54205585 | J7: 6.2692036 | K7: 0.83778691 | L7: 5.923141 | M7: 0.61913455 | N7: 0.096461281 | O7: 1.0829998 | P7: 5.568594 | Q7: 1.0375972 | R7: 0.44534877 | S7: 1.9545685 | T7: 0
A8: Palomino | B8: D | C8: Atalanta | D8: Napoli | E8: 1 | F8: 0 | G8: 0 | H8: 6.0274609 | I8: 0.51824522 | J8: 6.1467964 | K8: 0.63748121 | L8: 6.0883422 | M8: 0.63324094 | N8: -0.071035013 | O8: 1.0568767 | P8: 5.7624445 | Q8: 1.0342551 | R8: 0.26508692 | S8: 1.9615917 | T8: 0
A9: Hateboer | B9: D | C9: Atalanta | D9: Napoli | E9: 1 | F9: 1 | G9: 85 | H9: 5.7374221 | I9: 0.57161903 | J9: 5.9948803 | K9: 0.86215949 | L9: 5.607975 | M9: 0.63439763 | N9: 0.15039118 | O9: 1.0947859 | P9: 5.2896519 | Q9: 1.0990418 | R9: 0.42747819 | S9: 1.9506018 | T9: 0
A10: Maehle | B10: D | C10: Atalanta | D10: Napoli | E10: 1 | F10: 0 | G10: 55 | H10: 5.9545864 | I10: 0.31480026 | J10: 5.9777203 | K10: 0.32929587 | L10: 5.9274964 | M10: 0.37336075 | N10: 0.053957809 | O10: 1.2975024 | P10: 5.8245602 | Q10: 0.5850721 | R10: 0.19087794 | S10: 1.9495736 | T10: 0
A11: Zappacosta | B11: D | C11: Atalanta | D11: Napoli | E11: 1 | F11: 0 | G11: 0 | H11: 5.8739529 | I11: 0.40554857 | J11: 5.968846 | K11: 0.50098562 | L11: 5.8021741 | M11: 0.46038437 | N11: 0.11544658 | O11: 1.2208285 | P11: 5.6317291 | Q11: 0.76186776 | R11: 0.31077042 | S11: 1.9497455 | T11: 0
A12: Zortea | B12: D | C12: Atalanta | D12: Napoli | E12: 1 | F12: 0 | G12: 30 | H12: 5.8851745 | I12: 0.3449657 | J12: 5.9002723 | K12: 0.36240363 | L12: 5.8483319 | M12: 0.40485689 | N12: 0.067609504 | O12: 1.2737023 | P12: 5.7135754 | Q12: 0.62408233 | R12: 0.21671292 | S12: 1.9477921 | T12: 0
A13: Djimsiti | B13: D | C13: Atalanta | D13: Napoli | E13: 1 | F13: 1 | G13: 80 | H13: 5.756453 | I13: 0.41191101 | J13: 5.7566344 | K13: 0.43755817 | L13: 5.7454572 | M13: 0.49436161 | N13: 0.01651283 | O13: 1.196213 | P13: 5.5436583 | Q13: 0.76733732 | R13: 0.20183676 | S13: 1.9488688 | T13: 0
... A555: Djuric | B555: A | C555: Verona | D555: Monza | E555: 0 | F555: 0 | G555: 55 | H555: 5.8584584 | I555: 0.33791614 | J555: 5.8959264 | K555: 0.36354876 | L555: 5.7930832 | M555: 0.38128456 | N555: 0.12704916 | O555: 1.3042204 | P555: 5.6782045 | Q555: 0.58895451 | R555: 0.26408789 | S555: 1.9439578 | T555: 0

Sheet analysis
A1: player | B1: role | C1: team | D1: oppteam | E1: home | F1: MV | G1: MV std | H1: FV | I1: FV std | J1: Clean sheet % | K1: MV loc | L1: MV scale | M1: MV skewness | N1: MV tailweight | O1: FV loc | P1: FV scale | Q1: FV skewness | R1: FV tailweight | S1: FV Potential | T1: starter | U1: vote%
A2: =data!A2 -> Musso | B2: =data!B2 -> P | C2: =data!C2 -> Atalanta | D2: =data!D2 -> Napoli | E2: =data!E2 -> 1 | F2: =data!H2 -> 6.2118179 | G2: =data!I2 -> 0.36569571 | H2: =data!J2 -> 4.8028953 | I2: =data!K2 -> 0.8292253 | J2: =IF(data!T2 > 0,data!T2,"") -> 26.643044 | K2: =data!L2 -> 6.0634017 | L2: =data!M2 -> 0.39497522 | M2: =data!N2 -> 0.27288628 | N2: =data!O2 -> 0.64554322 | O2: =data!P2 -> 2.455879 | P2: =data!Q2 -> 0.81928957 | Q2: =data!R2 -> 1.7377677 | R2: =data!S2 -> 0.61612219 | S2: =IF(B2="P",H2-2*I2,H2+2*I2) -> 3.1444447 | T2: =data!F2 -> 1 | U2: =data!G2 -> 90
A3: =data!A3 -> Rossi F. | B3: =data!B3 -> P | C3: =data!C3 -> Atalanta | D3: =data!D3 -> Napoli | E3: =data!E3 -> 1 | F3: =data!H3 -> 6.0307394 | G3: =data!I3 -> 0.36413074 | H3: =data!J3 -> 4.0360645 | I3: =data!K3 -> 0.78885341 | J3: =IF(data!T3 > 0,data!T3,"") -> 19.746639 | K3: =data!L3 -> 5.9001837 | L3: =data!M3 -> 0.39642072 | M3: =data!N3 -> 0.23949437 | N3: =data!O3 -> 0.65455812 | O3: =data!P3 -> 2.0016305 | P3: =data!Q3 -> 0.84235495 | Q3: =data!R3 -> 1.5115522 | R3: =data!S3 -> 0.64546657 | S3: =IF(B3="P",H3-2*I3,H3+2*I3) -> 2.4583577 | T3: =data!F3 -> 0 | U3: =data!G3 -> 1
A4: =data!A4 -> Sportiello | B4: =data!B4 -> P | C4: =data!C4 -> Atalanta | D4: =data!D4 -> Napoli | E4: =data!E4 -> 1 | F4: =data!H4 -> 5.8515652 | G4: =data!I4 -> 0.35827708 | H4: =data!J4 -> 2.9362896 | I4: =data!K4 -> 0.67986065 | J4: =IF(data!T4 > 0,data!T4,"") -> 10.068003 | K4: =data!L4 -> 5.7335081 | L4: =data!M4 -> 0.39172578 | M4: =data!N4 -> 0.21937367 | N4: =data!O4 -> 0.66982555 | O4: =data!P4 -> 1.4655895 | P4: =data!Q4 -> 0.81367594 | Q4: =data!R4 -> 1.1829406 | R4: =data!S4 -> 0.69679558 | S4: =IF(B4="P",H4-2*I4,H4+2*I4) -> 1.5765683 | T4: =data!F4 -> 0 | U4: =data!G4 -> 5
A5: =data!A5 -> Toloi | B5: =data!B5 -> D | C5: =data!C5 -> Atalanta | D5: =data!D5 -> Napoli | E5: =data!E5 -> 1 | F5: =data!H5 -> 6.199484 | G5: =data!I5 -> 0.3957479 | H5: =data!J5 -> 6.3497581 | I5: =data!K5 -> 0.57902479 | J5: =IF(data!T5 > 0,data!T5,"") | K5: =data!L5 -> 6.1628118 | L5: =data!M5 -> 0.46402955 | M5: =data!N5 -> 0.058615405 | N5: =data!O5 -> 1.1875819 | O5: =data!P5 -> 5.9087687 | P5: =data!Q5 -> 0.79944992 | Q5: =data!R5 -> 0.37652734 | R5: =data!S5 -> 1.9562569 | S5: =IF(B5="P",H5-2*I5,H5+2*I5) -> 7.5078077 | T5: =data!F5 -> 1 | U5: =data!G5 -> 85
A6: =data!A6 -> Demiral | B6: =data!B6 -> D | C6: =data!C6 -> Atalanta | D6: =data!D6 -> Napoli | E6: =data!E6 -> 1 | F6: =data!H6 -> 6.0749884 | G6: =data!I6 -> 0.45974827 | H6: =data!J6 -> 6.2789738 | I6: =data!K6 -> 0.68017387 | J6: =IF(data!T6 > 0,data!T6,"") | K6: =data!L6 -> 5.9931569 | L6: =data!M6 -> 0.52073151 | M6: =data!N6 -> 0.11619328 | N6: =data!O6 -> 1.1536303 | O6: =data!P6 -> 5.7275734 | P6: =data!Q6 -> 0.87721634 | Q6: =data!R6 -> 0.42015022 | R6: =data!S6 -> 1.9537344 | S6: =IF(B6="P",H6-2*I6,H6+2*I6) -> 7.6393215 | T6: =data!F6 -> 1 | U6: =data!G6 -> 90
A7: =data!A7 -> Scalvini | B7: =data!B7 -> D | C7: =data!C7 -> Atalanta | D7: =data!D7 -> Napoli | E7: =data!E7 -> 1 | F7: =data!H7 -> 6.0039808 | G7: =data!I7 -> 0.54205585 | H7: =data!J7 -> 6.2692036 | I7: =data!K7 -> 0.83778691 | J7: =IF(data!T7 > 0,data!T7,"") | K7: =data!L7 -> 5.923141 | L7: =data!M7 -> 0.61913455 | M7: =data!N7 -> 0.096461281 | N7: =data!O7 -> 1.0829998 | O7: =data!P7 -> 5.568594 | P7: =data!Q7 -> 1.0375972 | Q7: =data!R7 -> 0.44534877 | R7: =data!S7 -> 1.9545685 | S7: =IF(B7="P",H7-2*I7,H7+2*I7) -> 7.9447774 | T7: =data!F7 -> 0 | U7: =data!G7 -> 55
A8: =data!A8 -> Palomino | B8: =data!B8 -> D | C8: =data!C8 -> Atalanta | D8: =data!D8 -> Napoli | E8: =data!E8 -> 1 | F8: =data!H8 -> 6.0274609 | G8: =data!I8 -> 0.51824522 | H8: =data!J8 -> 6.1467964 | I8: =data!K8 -> 0.63748121 | J8: =IF(data!T8 > 0,data!T8,"") | K8: =data!L8 -> 6.0883422 | L8: =data!M8 -> 0.63324094 | M8: =data!N8 -> -0.071035013 | N8: =data!O8 -> 1.0568767 | O8: =data!P8 -> 5.7624445 | P8: =data!Q8 -> 1.0342551 | Q8: =data!R8 -> 0.26508692 | R8: =data!S8 -> 1.9615917 | S8: =IF(B8="P",H8-2*I8,H8+2*I8) -> 7.4217588 | T8: =data!F8 -> 0 | U8: =data!G8 -> 0
A9: =data!A9 -> Hateboer | B9: =data!B9 -> D | C9: =data!C9 -> Atalanta | D9: =data!D9 -> Napoli | E9: =data!E9 -> 1 | F9: =data!H9 -> 5.7374221 | G9: =data!I9 -> 0.57161903 | H9: =data!J9 -> 5.9948803 | I9: =data!K9 -> 0.86215949 | J9: =IF(data!T9 > 0,data!T9,"") | K9: =data!L9 -> 5.607975 | L9: =data!M9 -> 0.63439763 | M9: =data!N9 -> 0.15039118 | N9: =data!O9 -> 1.0947859 | O9: =data!P9 -> 5.2896519 | P9: =data!Q9 -> 1.0990418 | Q9: =data!R9 -> 0.42747819 | R9: =data!S9 -> 1.9506018 | S9: =IF(B9="P",H9-2*I9,H9+2*I9) -> 7.7191993 | T9: =data!F9 -> 1 | U9: =data!G9 -> 85
A10: =data!A10 -> Maehle | B10: =data!B10 -> D | C10: =data!C10 -> Atalanta | D10: =data!D10 -> Napoli | E10: =data!E10 -> 1 | F10: =data!H10 -> 5.9545864 | G10: =data!I10 -> 0.31480026 | H10: =data!J10 -> 5.9777203 | I10: =data!K10 -> 0.32929587 | J10: =IF(data!T10 > 0,data!T10,"") | K10: =data!L10 -> 5.9274964 | L10: =data!M10 -> 0.37336075 | M10: =data!N10 -> 0.053957809 | N10: =data!O10 -> 1.2975024 | O10: =data!P10 -> 5.8245602 | P10: =data!Q10 -> 0.5850721 | Q10: =data!R10 -> 0.19087794 | R10: =data!S10 -> 1.9495736 | S10: =IF(B10="P",H10-2*I10,H10+2*I10) -> 6.6363121 | T10: =data!F10 -> 0 | U10: =data!G10 -> 55
A11: =data!A11 -> Zappacosta | B11: =data!B11 -> D | C11: =data!C11 -> Atalanta | D11: =data!D11 -> Napoli | E11: =data!E11 -> 1 | F11: =data!H11 -> 5.8739529 | G11: =data!I11 -> 0.40554857 | H11: =data!J11 -> 5.968846 | I11: =data!K11 -> 0.50098562 | J11: =IF(data!T11 > 0,data!T11,"") | K11: =data!L11 -> 5.8021741 | L11: =data!M11 -> 0.46038437 | M11: =data!N11 -> 0.11544658 | N11: =data!O11 -> 1.2208285 | O11: =data!P11 -> 5.6317291 | P11: =data!Q11 -> 0.76186776 | Q11: =data!R11 -> 0.31077042 | R11: =data!S11 -> 1.9497455 | S11: =IF(B11="P",H11-2*I11,H11+2*I11) -> 6.9708172 | T11: =data!F11 -> 0 | U11: =data!G11 -> 0
A12: =data!A12 -> Zortea | B12: =data!B12 -> D | C12: =data!C12 -> Atalanta | D12: =data!D12 -> Napoli | E12: =data!E12 -> 1 | F12: =data!H12 -> 5.8851745 | G12: =data!I12 -> 0.3449657 | H12: =data!J12 -> 5.9002723 | I12: =data!K12 -> 0.36240363 | J12: =IF(data!T12 > 0,data!T12,"") | K12: =data!L12 -> 5.8483319 | L12: =data!M12 -> 0.40485689 | M12: =data!N12 -> 0.067609504 | N12: =data!O12 -> 1.2737023 | O12: =data!P12 -> 5.7135754 | P12: =data!Q12 -> 0.62408233 | Q12: =data!R12 -> 0.21671292 | R12: =data!S12 -> 1.9477921 | S12: =IF(B12="P",H12-2*I12,H12+2*I12) -> 6.6250796 | T12: =data!F12 -> 0 | U12: =data!G12 -> 30
A13: =data!A13 -> Djimsiti | B13: =data!B13 -> D | C13: =data!C13 -> Atalanta | D13: =data!D13 -> Napoli | E13: =data!E13 -> 1 | F13: =data!H13 -> 5.756453 | G13: =data!I13 -> 0.41191101 | H13: =data!J13 -> 5.7566344 | I13: =data!K13 -> 0.43755817 | J13: =IF(data!T13 > 0,data!T13,"") | K13: =data!L13 -> 5.7454572 | L13: =data!M13 -> 0.49436161 | M13: =data!N13 -> 0.01651283 | N13: =data!O13 -> 1.196213 | O13: =data!P13 -> 5.5436583 | P13: =data!Q13 -> 0.76733732 | Q13: =data!R13 -> 0.20183676 | R13: =data!S13 -> 1.9488688 | S13: =IF(B13="P",H13-2*I13,H13+2*I13) -> 6.6317508 | T13: =data!F13 -> 1 | U13: =data!G13 -> 80
... A555: =data!A555 -> Djuric | B555: =data!B555 -> A | C555: =data!C555 -> Verona | D555: =data!D555 -> Monza | E555: =data!E555 -> 0 | F555: =data!H555 -> 5.8584584 | G555: =data!I555 -> 0.33791614 | H555: =data!J555 -> 5.8959264 | I555: =data!K555 -> 0.36354876 | J555: =IF(data!T555 > 0,data!T555,"") | K555: =data!L555 -> 5.7930832 | L555: =data!M555 -> 0.38128456 | M555: =data!N555 -> 0.12704916 | N555: =data!O555 -> 1.3042204 | O555: =data!P555 -> 5.6782045 | P555: =data!Q555 -> 0.58895451 | Q555: =data!R555 -> 0.26408789 | R555: =data!S555 -> 1.9439578 | S555: =IF(B555="P",H555-2*I555,H555+2*I555) -> 6.6230239 | T555: =data!F555 -> 0 | U555: =data!G555 -> 55

Sheet analysis_workarea
A1: player | B1: role | C1: team | D1: oppteam | E1: home | F1: MV | G1: MV std | H1: FV | I1: FV std | J1: Clean sheet % | K1: MV loc | L1: MV scale | M1: MV skewness | N1: MV tailweight | O1: FV loc | P1: FV scale | Q1: FV skewness | R1: FV tailweight | S1: FV Potential | T1: starter | U1: vote%
A2: =data!A2 -> Musso | B2: =data!B2 -> P | C2: =data!C2 -> Atalanta | D2: =data!D2 -> Napoli | E2: =data!E2 -> 1 | F2: =data!H2 -> 6.2118179 | G2: =data!I2 -> 0.36569571 | H2: =data!J2 -> 4.8028953 | I2: =data!K2 -> 0.8292253 | J2: =IF(data!T2 > 0,data!T2,"") -> 26.643044 | K2: =data!L2 -> 6.0634017 | L2: =data!M2 -> 0.39497522 | M2: =data!N2 -> 0.27288628 | N2: =data!O2 -> 0.64554322 | O2: =data!P2 -> 2.455879 | P2: =data!Q2 -> 0.81928957 | Q2: =data!R2 -> 1.7377677 | R2: =data!S2 -> 0.61612219 | S2: =IF(B2="P",H2-2*I2,H2+2*I2) -> 3.1444447 | T2: =data!F2 -> 1 | U2: =data!G2 -> 90
A3: =data!A3 -> Rossi F. | B3: =data!B3 -> P | C3: =data!C3 -> Atalanta | D3: =data!D3 -> Napoli | E3: =data!E3 -> 1 | F3: =data!H3 -> 6.0307394 | G3: =data!I3 -> 0.36413074 | H3: =data!J3 -> 4.0360645 | I3: =data!K3 -> 0.78885341 | J3: =IF(data!T3 > 0,data!T3,"") -> 19.746639 | K3: =data!L3 -> 5.9001837 | L3: =data!M3 -> 0.39642072 | M3: =data!N3 -> 0.23949437 | N3: =data!O3 -> 0.65455812 | O3: =data!P3 -> 2.0016305 | P3: =data!Q3 -> 0.84235495 | Q3: =data!R3 -> 1.5115522 | R3: =data!S3 -> 0.64546657 | S3: =IF(B3="P",H3-2*I3,H3+2*I3) -> 2.4583577 | T3: =data!F3 -> 0 | U3: =data!G3 -> 1
A4: =data!A4 -> Sportiello | B4: =data!B4 -> P | C4: =data!C4 -> Atalanta | D4: =data!D4 -> Napoli | E4: =data!E4 -> 1 | F4: =data!H4 -> 5.8515652 | G4: =data!I4 -> 0.35827708 | H4: =data!J4 -> 2.9362896 | I4: =data!K4 -> 0.67986065 | J4: =IF(data!T4 > 0,data!T4,"") -> 10.068003 | K4: =data!L4 -> 5.7335081 | L4: =data!M4 -> 0.39172578 | M4: =data!N4 -> 0.21937367 | N4: =data!O4 -> 0.66982555 | O4: =data!P4 -> 1.4655895 | P4: =data!Q4 -> 0.81367594 | Q4: =data!R4 -> 1.1829406 | R4: =data!S4 -> 0.69679558 | S4: =IF(B4="P",H4-2*I4,H4+2*I4) -> 1.5765683 | T4: =data!F4 -> 0 | U4: =data!G4 -> 5
A5: =data!A5 -> Toloi | B5: =data!B5 -> D | C5: =data!C5 -> Atalanta | D5: =data!D5 -> Napoli | E5: =data!E5 -> 1 | F5: =data!H5 -> 6.199484 | G5: =data!I5 -> 0.3957479 | H5: =data!J5 -> 6.3497581 | I5: =data!K5 -> 0.57902479 | J5: =IF(data!T5 > 0,data!T5,"") | K5: =data!L5 -> 6.1628118 | L5: =data!M5 -> 0.46402955 | M5: =data!N5 -> 0.058615405 | N5: =data!O5 -> 1.1875819 | O5: =data!P5 -> 5.9087687 | P5: =data!Q5 -> 0.79944992 | Q5: =data!R5 -> 0.37652734 | R5: =data!S5 -> 1.9562569 | S5: =IF(B5="P",H5-2*I5,H5+2*I5) -> 7.5078077 | T5: =data!F5 -> 1 | U5: =data!G5 -> 85
A6: =data!A6 -> Demiral | B6: =data!B6 -> D | C6: =data!C6 -> Atalanta | D6: =data!D6 -> Napoli | E6: =data!E6 -> 1 | F6: =data!H6 -> 6.0749884 | G6: =data!I6 -> 0.45974827 | H6: =data!J6 -> 6.2789738 | I6: =data!K6 -> 0.68017387 | J6: =IF(data!T6 > 0,data!T6,"") | K6: =data!L6 -> 5.9931569 | L6: =data!M6 -> 0.52073151 | M6: =data!N6 -> 0.11619328 | N6: =data!O6 -> 1.1536303 | O6: =data!P6 -> 5.7275734 | P6: =data!Q6 -> 0.87721634 | Q6: =data!R6 -> 0.42015022 | R6: =data!S6 -> 1.9537344 | S6: =IF(B6="P",H6-2*I6,H6+2*I6) -> 7.6393215 | T6: =data!F6 -> 1 | U6: =data!G6 -> 90
A7: =data!A7 -> Scalvini | B7: =data!B7 -> D | C7: =data!C7 -> Atalanta | D7: =data!D7 -> Napoli | E7: =data!E7 -> 1 | F7: =data!H7 -> 6.0039808 | G7: =data!I7 -> 0.54205585 | H7: =data!J7 -> 6.2692036 | I7: =data!K7 -> 0.83778691 | J7: =IF(data!T7 > 0,data!T7,"") | K7: =data!L7 -> 5.923141 | L7: =data!M7 -> 0.61913455 | M7: =data!N7 -> 0.096461281 | N7: =data!O7 -> 1.0829998 | O7: =data!P7 -> 5.568594 | P7: =data!Q7 -> 1.0375972 | Q7: =data!R7 -> 0.44534877 | R7: =data!S7 -> 1.9545685 | S7: =IF(B7="P",H7-2*I7,H7+2*I7) -> 7.9447774 | T7: =data!F7 -> 0 | U7: =data!G7 -> 55
A8: =data!A8 -> Palomino | B8: =data!B8 -> D | C8: =data!C8 -> Atalanta | D8: =data!D8 -> Napoli | E8: =data!E8 -> 1 | F8: =data!H8 -> 6.0274609 | G8: =data!I8 -> 0.51824522 | H8: =data!J8 -> 6.1467964 | I8: =data!K8 -> 0.63748121 | J8: =IF(data!T8 > 0,data!T8,"") | K8: =data!L8 -> 6.0883422 | L8: =data!M8 -> 0.63324094 | M8: =data!N8 -> -0.071035013 | N8: =data!O8 -> 1.0568767 | O8: =data!P8 -> 5.7624445 | P8: =data!Q8 -> 1.0342551 | Q8: =data!R8 -> 0.26508692 | R8: =data!S8 -> 1.9615917 | S8: =IF(B8="P",H8-2*I8,H8+2*I8) -> 7.4217588 | T8: =data!F8 -> 0 | U8: =data!G8 -> 0
A9: =data!A9 -> Hateboer | B9: =data!B9 -> D | C9: =data!C9 -> Atalanta | D9: =data!D9 -> Napoli | E9: =data!E9 -> 1 | F9: =data!H9 -> 5.7374221 | G9: =data!I9 -> 0.57161903 | H9: =data!J9 -> 5.9948803 | I9: =data!K9 -> 0.86215949 | J9: =IF(data!T9 > 0,data!T9,"") | K9: =data!L9 -> 5.607975 | L9: =data!M9 -> 0.63439763 | M9: =data!N9 -> 0.15039118 | N9: =data!O9 -> 1.0947859 | O9: =data!P9 -> 5.2896519 | P9: =data!Q9 -> 1.0990418 | Q9: =data!R9 -> 0.42747819 | R9: =data!S9 -> 1.9506018 | S9: =IF(B9="P",H9-2*I9,H9+2*I9) -> 7.7191993 | T9: =data!F9 -> 1 | U9: =data!G9 -> 85
A10: =data!A10 -> Maehle | B10: =data!B10 -> D | C10: =data!C10 -> Atalanta | D10: =data!D10 -> Napoli | E10: =data!E10 -> 1 | F10: =data!H10 -> 5.9545864 | G10: =data!I10 -> 0.31480026 | H10: =data!J10 -> 5.9777203 | I10: =data!K10 -> 0.32929587 | J10: =IF(data!T10 > 0,data!T10,"") | K10: =data!L10 -> 5.9274964 | L10: =data!M10 -> 0.37336075 | M10: =data!N10 -> 0.053957809 | N10: =data!O10 -> 1.2975024 | O10: =data!P10 -> 5.8245602 | P10: =data!Q10 -> 0.5850721 | Q10: =data!R10 -> 0.19087794 | R10: =data!S10 -> 1.9495736 | S10: =IF(B10="P",H10-2*I10,H10+2*I10) -> 6.6363121 | T10: =data!F10 -> 0 | U10: =data!G10 -> 55
A11: =data!A11 -> Zappacosta | B11: =data!B11 -> D | C11: =data!C11 -> Atalanta | D11: =data!D11 -> Napoli | E11: =data!E11 -> 1 | F11: =data!H11 -> 5.8739529 | G11: =data!I11 -> 0.40554857 | H11: =data!J11 -> 5.968846 | I11: =data!K11 -> 0.50098562 | J11: =IF(data!T11 > 0,data!T11,"") | K11: =data!L11 -> 5.8021741 | L11: =data!M11 -> 0.46038437 | M11: =data!N11 -> 0.11544658 | N11: =data!O11 -> 1.2208285 | O11: =data!P11 -> 5.6317291 | P11: =data!Q11 -> 0.76186776 | Q11: =data!R11 -> 0.31077042 | R11: =data!S11 -> 1.9497455 | S11: =IF(B11="P",H11-2*I11,H11+2*I11) -> 6.9708172 | T11: =data!F11 -> 0 | U11: =data!G11 -> 0
A12: =data!A12 -> Zortea | B12: =data!B12 -> D | C12: =data!C12 -> Atalanta | D12: =data!D12 -> Napoli | E12: =data!E12 -> 1 | F12: =data!H12 -> 5.8851745 | G12: =data!I12 -> 0.3449657 | H12: =data!J12 -> 5.9002723 | I12: =data!K12 -> 0.36240363 | J12: =IF(data!T12 > 0,data!T12,"") | K12: =data!L12 -> 5.8483319 | L12: =data!M12 -> 0.40485689 | M12: =data!N12 -> 0.067609504 | N12: =data!O12 -> 1.2737023 | O12: =data!P12 -> 5.7135754 | P12: =data!Q12 -> 0.62408233 | Q12: =data!R12 -> 0.21671292 | R12: =data!S12 -> 1.9477921 | S12: =IF(B12="P",H12-2*I12,H12+2*I12) -> 6.6250796 | T12: =data!F12 -> 0 | U12: =data!G12 -> 30
A13: =data!A13 -> Djimsiti | B13: =data!B13 -> D | C13: =data!C13 -> Atalanta | D13: =data!D13 -> Napoli | E13: =data!E13 -> 1 | F13: =data!H13 -> 5.756453 | G13: =data!I13 -> 0.41191101 | H13: =data!J13 -> 5.7566344 | I13: =data!K13 -> 0.43755817 | J13: =IF(data!T13 > 0,data!T13,"") | K13: =data!L13 -> 5.7454572 | L13: =data!M13 -> 0.49436161 | M13: =data!N13 -> 0.01651283 | N13: =data!O13 -> 1.196213 | O13: =data!P13 -> 5.5436583 | P13: =data!Q13 -> 0.76733732 | Q13: =data!R13 -> 0.20183676 | R13: =data!S13 -> 1.9488688 | S13: =IF(B13="P",H13-2*I13,H13+2*I13) -> 6.6317508 | T13: =data!F13 -> 1 | U13: =data!G13 -> 80
... A555: =data!A555 -> Djuric | B555: =data!B555 -> A | C555: =data!C555 -> Verona | D555: =data!D555 -> Monza | E555: =data!E555 -> 0 | F555: =data!H555 -> 5.8584584 | G555: =data!I555 -> 0.33791614 | H555: =data!J555 -> 5.8959264 | I555: =data!K555 -> 0.36354876 | J555: =IF(data!T555 > 0,data!T555,"") | K555: =data!L555 -> 5.7930832 | L555: =data!M555 -> 0.38128456 | M555: =data!N555 -> 0.12704916 | N555: =data!O555 -> 1.3042204 | O555: =data!P555 -> 5.6782045 | P555: =data!Q555 -> 0.58895451 | Q555: =data!R555 -> 0.26408789 | R555: =data!S555 -> 1.9439578 | S555: =IF(B555="P",H555-2*I555,H555+2*I555) -> 6.6230239 | T555: =data!F555 -> 0 | U555: =data!G555 -> 55

Sheet graph
A1: Player | C1: =CONCATENATE($A$2," (",$D$5," vs ",$E$5,", ",IF(F5>0,"home","away"),")") -> Zielinski (Napoli vs Atalanta, away)
A2: Zielinski
C3: 2 | D3: 3 | E3: 4 | F3: 5 | G3: 6 | H3: 7 | I3: 8 | J3: 9 | K3: 10 | L3: 11 | M3: 12 | N3: 13 | O3: 14 | P3: 15 | Q3: 16 | R3: 17 | S3: 18 | T3: 19
C4: role | D4: team | E4: oppteam | F4: home | G4: MV | H4: MV std | I4: FV | J4: FV std | K4: Clean Sheet % | L4: MV loc | M4: MV scale | N4: MV skewness | O4: MV tailweight | P4: FV loc | Q4: FV scale | R4: FV skewness | S4: FV tailweight | T4: FV Potential | Y4: http://stats-www.open.ac.uk/TechnicalReports/sinhasinh.pdf
C5: =VLOOKUP($A$2,analysis!$A2:$S1048576,C3,FALSE) -> C | D5: =VLOOKUP($A$2,analysis!$A2:$S1048576,D3,FALSE) -> Napoli | E5: =VLOOKUP($A$2,analysis!$A2:$S1048576,E3,FALSE) -> Atalanta | F5: =VLOOKUP($A$2,analysis!$A2:$S1048576,F3,FALSE) -> 0 | G5: =VLOOKUP($A$2,analysis!$A2:$S1048576,G3,FALSE) -> 6.3152179 | H5: =VLOOKUP($A$2,analysis!$A2:$S1048576,H3,FALSE) -> 0.47281027 | I5: =VLOOKUP($A$2,analysis!$A2:$S1048576,I3,FALSE) -> 6.8669406 | J5: =VLOOKUP($A$2,analysis!$A2:$S1048576,J3,FALSE) -> 1.0356822 | ... T5: =VLOOKUP($A$2,analysis!$A2:$S1048576,T3,FALSE) -> 8.938305 | Y5: https://rstudio-pubs-static.s3.amazonaws.com/288278_21fcf61824774db3a6fb4ac2c706e390.html
Y6: https://stats.stackexchange.com/questions/43482/transformation-to-increase-kurtosis-and-skewness-of-normal-r-v
Y7: https://rdrr.io/cran/gamlss.dist/src/R/SHASHo2.R
G8: starter | H8: vote% | Y8: https://rdrr.io/cran/gamlss.dist/man/SHASH.html
G9: =VLOOKUP($A$2,analysis!$A2:$U1048576,20,FALSE) -> 1 | H9: =VLOOKUP($A$2,analysis!$A2:$U1048576,21,FALSE) -> 85 | Y9: https://search.r-project.org/CRAN/refmans/gamlss.dist/html/SHASH.html
B25: x | C25: mul | D25: z | E25: asinh(z) | F25: sinh | G25: cosh | H25: pdf | K25: x | L25: mul | M25: z | N25: asinh(z) | O25: sinh | P25: cosh | Q25: pdf
B26: 0 | C26: =2/SINH(LN(2+SQRT(1+2^2))*$O$5) -> 0.77847596 | D26: =(B26-$L$5)/($M$5)/C26 -> -15.7685 | E26: =LN(D26 + SQRT(1 + D26^2)) -> -3.4521654 | F26: =SINH( -$N$5 + E26 * (1/$O$5)) -> -12.197092 | G26: =SQRT(F26^2 + 1) -> 12.238017 | H26: =(G26)/($O$5*$M$5*C26*(SQRT(2*PI()*(1+D26^2)))) * EXP(- (1/2) * F26^2) -> 3.3802082e-33 | K26: 0 | L26: =2/SINH(LN(2+SQRT(1+2^2))*$S$5) -> 0.23789606 | M26: =(K26-$P$5)/($Q$5)/L26 -> -25.13971 | N26: =LN(M26 + SQRT(1 + M26^2)) -> -3.9179912 | O26: =SINH( -$R$5 + N26 * (1/$S$5)) -> -6.7150361 | P26: =SQRT(O26^2 + 1) -> 6.7890875 | Q26: =(P26)/($S$5*$Q$5*L26*(SQRT(2*PI()*(1+M26^2)))) * EXP(- (1/2) * O26^2) -> 3.8006809e-11
B27: 0.01 | C27: =2/SINH(LN(2+SQRT(1+2^2))*$O$5) -> 0.77847596 | D27: =(B27-$L$5)/($M$5)/C27 -> -15.742931 | E27: =LN(D27 + SQRT(1 + D27^2)) -> -3.4505458 | F27: =SINH( -$N$5 + E27 * (1/$O$5)) -> -12.179997 | G27: =SQRT(F27^2 + 1) -> 12.220979 | H27: =(G27)/($O$5*$M$5*C27*(SQRT(2*PI()*(1+D27^2)))) * EXP(- (1/2) * F27^2) -> 4.1642066e-33 | K27: 0.01 | L27: =2/SINH(LN(2+SQRT(1+2^2))*$S$5) -> 0.23789606 | M27: =(K27-$P$5)/($Q$5)/L27 -> -25.096949 | N27: =LN(M27 + SQRT(1 + M27^2)) -> -3.9162901 | O27: =SINH( -$R$5 + N27 * (1/$S$5)) -> -6.7091385 | P27: =SQRT(O27^2 + 1) -> 6.7832543 | Q27: =(P27)/($S$5*$Q$5*L27*(SQRT(2*PI()*(1+M27^2)))) * EXP(- (1/2) * O27^2) -> 3.9574721e-11
B28: 0.02 | C28: =2/SINH(LN(2+SQRT(1+2^2))*$O$5) -> 0.77847596 | D28: =(B28-$L$5)/($M$5)/C28 -> -15.717363 | E28: =LN(D28 + SQRT(1 + D28^2)) -> -3.4489237 | F28: =SINH( -$N$5 + E28 * (1/$O$5)) -> -12.162898 | G28: =SQRT(F28^2 + 1) -> 12.203938 | H28: =(G28)/($O$5*$M$5*C28*(SQRT(2*PI()*(1+D28^2)))) * EXP(- (1/2) * F28^2) -> 5.1287849e-33 | K28: 0.02 | L28: =2/SINH(LN(2+SQRT(1+2^2))*$S$5) -> 0.23789606 | M28: =(K28-$P$5)/($Q$5)/L28 -> -25.054187 | N28: =LN(M28 + SQRT(1 + M28^2)) -> -3.9145862 | O28: =SINH( -$R$5 + N28 * (1/$S$5)) -> -6.7032359 | P28: =SQRT(O28^2 + 1) -> 6.7774163 | Q28: =(P28)/($S$5*$Q$5*L28*(SQRT(2*PI()*(1+M28^2)))) * EXP(- (1/2) * O28^2) -> 4.1207312e-11
B29: 0.03 | C29: =2/SINH(LN(2+SQRT(1+2^2))*$O$5) -> 0.77847596 | D29: =(B29-$L$5)/($M$5)/C29 -> -15.691794 | E29: =LN(D29 + SQRT(1 + D29^2)) -> -3.4472988 | F29: =SINH( -$N$5 + E29 * (1/$O$5)) -> -12.145795 | G29: =SQRT(F29^2 + 1) -> 12.186892 | H29: =(G29)/($O$5*$M$5*C29*(SQRT(2*PI()*(1+D29^2)))) * EXP(- (1/2) * F29^2) -> 6.315243e-33 | K29: 0.03 | L29: =2/SINH(LN(2+SQRT(1+2^2))*$S$5) -> 0.23789606 | M29: =(K29-$P$5)/($Q$5)/L29 -> -25.011425 | N29: =LN(M29 + SQRT(1 + M29^2)) -> -3.9128793 | O29: =SINH( -$R$5 + N29 * (1/$S$5)) -> -6.6973284 | P29: =SQRT(O29^2 + 1) -> 6.7715735 | Q29: =(P29)/($S$5*$Q$5*L29*(SQRT(2*PI()*(1+M29^2)))) * EXP(- (1/2) * O29^2) -> 4.2907249e-11
B30: 0.04 | C30: =2/SINH(LN(2+SQRT(1+2^2))*$O$5) -> 0.77847596 | D30: =(B30-$L$5)/($M$5)/C30 -> -15.666225 | E30: =LN(D30 + SQRT(1 + D30^2)) -> -3.4456714 | F30: =SINH( -$N$5 + E30 * (1/$O$5)) -> -12.128689 | G30: =SQRT(F30^2 + 1) -> 12.169844 | H30: =(G30)/($O$5*$M$5*C30*(SQRT(2*PI()*(1+D30^2)))) * EXP(- (1/2) * F30^2) -> 7.7742581e-33 | K30: 0.04 | L30: =2/SINH(LN(2+SQRT(1+2^2))*$S$5) -> 0.23789606 | M30: =(K30-$P$5)/($Q$5)/L30 -> -24.968663 | N30: =LN(M30 + SQRT(1 + M30^2)) -> -3.9111695 | O30: =SINH( -$R$5 + N30 * (1/$S$5)) -> -6.6914159 | P30: =SQRT(O30^2 + 1) -> 6.7657259 | Q30: =(P30)/($S$5*$Q$5*L30*(SQRT(2*PI()*(1+M30^2)))) * EXP(- (1/2) * O30^2) -> 4.4677311e-11
B31: 0.05 | C31: =2/SINH(LN(2+SQRT(1+2^2))*$O$5) -> 0.77847596 | D31: =(B31-$L$5)/($M$5)/C31 -> -15.640656 | E31: =LN(D31 + SQRT(1 + D31^2)) -> -3.4440413 | F31: =SINH( -$N$5 + E31 * (1/$O$5)) -> -12.111578 | G31: =SQRT(F31^2 + 1) -> 12.152791 | H31: =(G31)/($O$5*$M$5*C31*(SQRT(2*PI()*(1+D31^2)))) * EXP(- (1/2) * F31^2) -> 9.5679987e-33 | K31: 0.05 | L31: =2/SINH(LN(2+SQRT(1+2^2))*$S$5) -> 0.23789606 | M31: =(K31-$P$5)/($Q$5)/L31 -> -24.925901 | N31: =LN(M31 + SQRT(1 + M31^2)) -> -3.9094568 | O31: =SINH( -$R$5 + N31 * (1/$S$5)) -> -6.6854984 | P31: =SQRT(O31^2 + 1) -> 6.7598734 | Q31: =(P31)/($S$5*$Q$5*L31*(SQRT(2*PI()*(1+M31^2)))) * EXP(- (1/2) * O31^2) -> 4.652039e-11
B32: 0.06 | C32: =2/SINH(LN(2+SQRT(1+2^2))*$O$5) -> 0.77847596 | D32: =(B32-$L$5)/($M$5)/C32 -> -15.615087 | E32: =LN(D32 + SQRT(1 + D32^2)) -> -3.4424085 | F32: =SINH( -$N$5 + E32 * (1/$O$5)) -> -12.094464 | G32: =SQRT(F32^2 + 1) -> 12.135735 | H32: =(G32)/($O$5*$M$5*C32*(SQRT(2*PI()*(1+D32^2)))) * EXP(- (1/2) * F32^2) -> 1.1772711e-32 | K32: 0.06 | L32: =2/SINH(LN(2+SQRT(1+2^2))*$S$5) -> 0.23789606 | M32: =(K32-$P$5)/($Q$5)/L32 -> -24.883139 | N32: =LN(M32 + SQRT(1 + M32^2)) -> -3.9077411 | O32: =SINH( -$R$5 + N32 * (1/$S$5)) -> -6.6795759 | P32: =SQRT(O32^2 + 1) -> 6.7540161 | Q32: =(P32)/($S$5*$Q$5*L32*(SQRT(2*PI()*(1+M32^2)))) * EXP(- (1/2) * O32^2) -> 4.8439498e-11
B33: 0.07 | C33: =2/SINH(LN(2+SQRT(1+2^2))*$O$5) -> 0.77847596 | D33: =(B33-$L$5)/($M$5)/C33 -> -15.589519 | E33: =LN(D33 + SQRT(1 + D33^2)) -> -3.4407731 | F33: =SINH( -$N$5 + E33 * (1/$O$5)) -> -12.077346 | G33: =SQRT(F33^2 + 1) -> 12.118675 | H33: =(G33)/($O$5*$M$5*C33*(SQRT(2*PI()*(1+D33^2)))) * EXP(- (1/2) * F33^2) -> 1.4481882e-32 | K33: 0.07 | L33: =2/SINH(LN(2+SQRT(1+2^2))*$S$5) -> 0.23789606 | M33: =(K33-$P$5)/($Q$5)/L33 -> -24.840377 | N33: =LN(M33 + SQRT(1 + M33^2)) -> -3.9060225 | O33: =SINH( -$R$5 + N33 * (1/$S$5)) -> -6.6736483 | P33: =SQRT(O33^2 + 1) -> 6.748154 | Q33: =(P33)/($S$5*$Q$5*L33*(SQRT(2*PI()*(1+M33^2)))) * EXP(- (1/2) * O33^2) -> 5.0437771e-11
B34: 0.08 | C34: =2/SINH(LN(2+SQRT(1+2^2))*$O$5) -> 0.77847596 | D34: =(B34-$L$5)/($M$5)/C34 -> -15.56395 | E34: =LN(D34 + SQRT(1 + D34^2)) -> -3.439135 | F34: =SINH( -$N$5 + E34 * (1/$O$5)) -> -12.060224 | G34: =SQRT(F34^2 + 1) -> 12.101611 | H34: =(G34)/($O$5*$M$5*C34*(SQRT(2*PI()*(1+D34^2)))) * EXP(- (1/2) * F34^2) -> 1.7810113e-32 | K34: 0.08 | L34: =2/SINH(LN(2+SQRT(1+2^2))*$S$5) -> 0.23789606 | M34: =(K34-$P$5)/($Q$5)/L34 -> -24.797615 | N34: =LN(M34 + SQRT(1 + M34^2)) -> -3.904301 | O34: =SINH( -$R$5 + N34 * (1/$S$5)) -> -6.6677158 | P34: =SQRT(O34^2 + 1) -> 6.742287 | Q34: =(P34)/($S$5*$Q$5*L34*(SQRT(2*PI()*(1+M34^2)))) * EXP(- (1/2) * O34^2) -> 5.2518476e-11
B35: 0.09 | C35: =2/SINH(LN(2+SQRT(1+2^2))*$O$5) -> 0.77847596 | D35: =(B35-$L$5)/($M$5)/C35 -> -15.538381 | E35: =LN(D35 + SQRT(1 + D35^2)) -> -3.4374942 | F35: =SINH( -$N$5 + E35 * (1/$O$5)) -> -12.043098 | G35: =SQRT(F35^2 + 1) -> 12.084544 | H35: =(G35)/($O$5*$M$5*C35*(SQRT(2*PI()*(1+D35^2)))) * EXP(- (1/2) * F35^2) -> 2.1897847e-32 | K35: 0.09 | L35: =2/SINH(LN(2+SQRT(1+2^2))*$S$5) -> 0.23789606 | M35: =(K35-$P$5)/($Q$5)/L35 -> -24.754853 | N35: =LN(M35 + SQRT(1 + M35^2)) -> -3.9025764 | O35: =SINH( -$R$5 + N35 * (1/$S$5)) -> -6.6617781 | P35: =SQRT(O35^2 + 1) -> 6.7364151 | Q35: =(P35)/($S$5*$Q$5*L35*(SQRT(2*PI()*(1+M35^2)))) * EXP(- (1/2) * O35^2) -> 5.4685012e-11
B36: 0.1 | C36: =2/SINH(LN(2+SQRT(1+2^2))*$O$5) -> 0.77847596 | D36: =(B36-$L$5)/($M$5)/C36 -> -15.512812 | E36: =LN(D36 + SQRT(1 + D36^2)) -> -3.4358507 | F36: =SINH( -$N$5 + E36 * (1/$O$5)) -> -12.025968 | G36: =SQRT(F36^2 + 1) -> 12.067473 | H36: =(G36)/($O$5*$M$5*C36*(SQRT(2*PI()*(1+D36^2)))) * EXP(- (1/2) * F36^2) -> 2.6917156e-32 | K36: 0.1 | L36: =2/SINH(LN(2+SQRT(1+2^2))*$S$5) -> 0.23789606 | M36: =(K36-$P$5)/($Q$5)/L36 -> -24.712091 | N36: =LN(M36 + SQRT(1 + M36^2)) -> -3.9008489 | O36: =SINH( -$R$5 + N36 * (1/$S$5)) -> -6.6558354 | P36: =SQRT(O36^2 + 1) -> 6.7305383 | Q36: =(P36)/($S$5*$Q$5*L36*(SQRT(2*PI()*(1+M36^2)))) * EXP(- (1/2) * O36^2) -> 5.694092e-11
B37: 0.11 | C37: =2/SINH(LN(2+SQRT(1+2^2))*$O$5) -> 0.77847596 | D37: =(B37-$L$5)/($M$5)/C37 -> -15.487243 | E37: =LN(D37 + SQRT(1 + D37^2)) -> -3.4342045 | F37: =SINH( -$N$5 + E37 * (1/$O$5)) -> -12.008834 | G37: =SQRT(F37^2 + 1) -> 12.050398 | H37: =(G37)/($O$5*$M$5*C37*(SQRT(2*PI()*(1+D37^2)))) * EXP(- (1/2) * F37^2) -> 3.3078812e-32 | K37: 0.11 | L37: =2/SINH(LN(2+SQRT(1+2^2))*$S$5) -> 0.23789606 | M37: =(K37-$P$5)/($Q$5)/L37 -> -24.669329 | N37: =LN(M37 + SQRT(1 + M37^2)) -> -3.8991185 | O37: =SINH( -$R$5 + N37 * (1/$S$5)) -> -6.6498877 | P37: =SQRT(O37^2 + 1) -> 6.7246566 | Q37: =(P37)/($S$5*$Q$5*L37*(SQRT(2*PI()*(1+M37^2)))) * EXP(- (1/2) * O37^2) -> 5.9289887e-11
... B2988: 29.62 | C2988: =2/SINH(LN(2+SQRT(1+2^2))*$O$5) -> 0.77847596 | D2988: =(B2988-$L$5)/($M$5)/C2988 -> 59.966373 | E2988: =LN(D2988 + SQRT(1 + D2988^2)) -> 4.7870006 | F2988: =SINH( -$N$5 + E2988 * (1/$O$5)) -> 25.071337 | G2988: =SQRT(F2988^2 + 1) -> 25.091272 | H2988: =(G2988)/($O$5*$M$5*C2988*(SQRT(2*PI()*(1+D2988^2)))) * EXP(- (1/2) * F2988^2) -> 1.1846173e-137 | K2988: 29.62 | L2988: =2/SINH(LN(2+SQRT(1+2^2))*$S$5) -> 0.23789606 | M2988: =(K2988-$P$5)/($Q$5)/L2988 -> 101.5212 | N2988: =LN(M2988 + SQRT(1 + M2988^2)) -> 5.313439 | O2988: =SINH( -$R$5 + N2988 * (1/$S$5)) -> 4.0770708 | P2988: =SQRT(O2988^2 + 1) -> 4.1979169 | Q2988: =(P2988)/($S$5*$Q$5*L2988*(SQRT(2*PI()*(1+M2988^2)))) * EXP(- (1/2) * O2988^2) -> 8.8556106e-06

Sheet my_team_1
A1: Players | B1: role | C1: team | D1: oppteam | E1: home | F1: MV | G1: FV | H1: Potential | I1: Clean Sheet % | J1: starter | K1: vote%
B2: 2 | C2: 3 | D2: 4 | E2: 5 | F2: 6 | G2: 8 | H2: 19 | I2: 10 | J2: 20 | K2: 21
A3: Szczesny | B3: =VLOOKUP($A3,analysis!$A$2:$S$1048576,B$2,FALSE) -> P | C3: =VLOOKUP($A3,analysis!$A$2:$S$1048576,C$2,FALSE) -> Juventus | D3: =VLOOKUP($A3,analysis!$A$2:$S$1048576,D$2,FALSE) -> Inter | E3: =VLOOKUP($A3,analysis!$A$2:$S$1048576,E$2,FALSE) -> 1 | F3: =VLOOKUP($A3,analysis!$A$2:$S$1048576,F$2,FALSE) -> 6.4599732 | G3: =VLOOKUP($A3,analysis!$A$2:$S$1048576,G$2,FALSE) -> 5.1086296 | H3: =VLOOKUP($A3,analysis!$A$2:$S$1048576,H$2,FALSE) -> 3.4336015 | I3: =VLOOKUP($A3,analysis!$A$2:$S$1048576,I$2,FALSE) -> 26.645443 | J3: =VLOOKUP($A3,analysis!$A$2:$U$1048576,J$2,FALSE) -> 1 | K3: =VLOOKUP($A3,analysis!$A$2:$U$1048576,K$2,FALSE) -> 90
A4: Perin | B4: =VLOOKUP($A4,analysis!$A$2:$S$1048576,B$2,FALSE) -> P | C4: =VLOOKUP($A4,analysis!$A$2:$S$1048576,C$2,FALSE) -> Juventus | D4: =VLOOKUP($A4,analysis!$A$2:$S$1048576,D$2,FALSE) -> Inter | E4: =VLOOKUP($A4,analysis!$A$2:$S$1048576,E$2,FALSE) -> 1 | F4: =VLOOKUP($A4,analysis!$A$2:$S$1048576,F$2,FALSE) -> 6.4898276 | G4: =VLOOKUP($A4,analysis!$A$2:$S$1048576,G$2,FALSE) -> 4.5145314 | H4: =VLOOKUP($A4,analysis!$A$2:$S$1048576,H$2,FALSE) -> 2.8715622 | I4: =VLOOKUP($A4,analysis!$A$2:$S$1048576,I$2,FALSE) -> 19.201995 | J4: =VLOOKUP($A4,analysis!$A$2:$U$1048576,J$2,FALSE) -> 0 | K4: =VLOOKUP($A4,analysis!$A$2:$U$1048576,K$2,FALSE) -> 5
A5: Milinkovic-Savic V. | B5: =VLOOKUP($A5,analysis!$A$2:$S$1048576,B$2,FALSE) -> P | C5: =VLOOKUP($A5,analysis!$A$2:$S$1048576,C$2,FALSE) -> Torino | D5: =VLOOKUP($A5,analysis!$A$2:$S$1048576,D$2,FALSE) -> Bologna | E5: =VLOOKUP($A5,analysis!$A$2:$S$1048576,E$2,FALSE) -> 0 | F5: =VLOOKUP($A5,analysis!$A$2:$S$1048576,F$2,FALSE) -> 6.3580896 | G5: =VLOOKUP($A5,analysis!$A$2:$S$1048576,G$2,FALSE) -> 5.22833 | H5: =VLOOKUP($A5,analysis!$A$2:$S$1048576,H$2,FALSE) -> 3.5345012 | I5: =VLOOKUP($A5,analysis!$A$2:$S$1048576,I$2,FALSE) -> 30.969641 | J5: =VLOOKUP($A5,analysis!$A$2:$U$1048576,J$2,FALSE) -> 1 | K5: =VLOOKUP($A5,analysis!$A$2:$U$1048576,K$2,FALSE) -> 90
A6: Kim | B6: =VLOOKUP($A6,analysis!$A$2:$S$1048576,B$2,FALSE) -> D | C6: =VLOOKUP($A6,analysis!$A$2:$S$1048576,C$2,FALSE) -> Napoli | D6: =VLOOKUP($A6,analysis!$A$2:$S$1048576,D$2,FALSE) -> Atalanta | E6: =VLOOKUP($A6,analysis!$A$2:$S$1048576,E$2,FALSE) -> 0 | F6: =VLOOKUP($A6,analysis!$A$2:$S$1048576,F$2,FALSE) -> 6.3117972 | G6: =VLOOKUP($A6,analysis!$A$2:$S$1048576,G$2,FALSE) -> 6.7065774 | H6: =VLOOKUP($A6,analysis!$A$2:$S$1048576,H$2,FALSE) -> 8.3727799 | I6: =VLOOKUP($A6,analysis!$A$2:$S$1048576,I$2,FALSE) | J6: =VLOOKUP($A6,analysis!$A$2:$U$1048576,J$2,FALSE) -> 1 | K6: =VLOOKUP($A6,analysis!$A$2:$U$1048576,K$2,FALSE) -> 90
A7: Bastoni | B7: =VLOOKUP($A7,analysis!$A$2:$S$1048576,B$2,FALSE) -> D | C7: =VLOOKUP($A7,analysis!$A$2:$S$1048576,C$2,FALSE) -> Inter | D7: =VLOOKUP($A7,analysis!$A$2:$S$1048576,D$2,FALSE) -> Juventus | E7: =VLOOKUP($A7,analysis!$A$2:$S$1048576,E$2,FALSE) -> 0 | F7: =VLOOKUP($A7,analysis!$A$2:$S$1048576,F$2,FALSE) -> 5.8493461 | G7: =VLOOKUP($A7,analysis!$A$2:$S$1048576,G$2,FALSE) -> 5.7618999 | H7: =VLOOKUP($A7,analysis!$A$2:$S$1048576,H$2,FALSE) -> 6.4722867 | I7: =VLOOKUP($A7,analysis!$A$2:$S$1048576,I$2,FALSE) | J7: =VLOOKUP($A7,analysis!$A$2:$U$1048576,J$2,FALSE) -> 1 | K7: =VLOOKUP($A7,analysis!$A$2:$U$1048576,K$2,FALSE) -> 80
A8: Demiral | B8: =VLOOKUP($A8,analysis!$A$2:$S$1048576,B$2,FALSE) -> D | C8: =VLOOKUP($A8,analysis!$A$2:$S$1048576,C$2,FALSE) -> Atalanta | D8: =VLOOKUP($A8,analysis!$A$2:$S$1048576,D$2,FALSE) -> Napoli | E8: =VLOOKUP($A8,analysis!$A$2:$S$1048576,E$2,FALSE) -> 1 | F8: =VLOOKUP($A8,analysis!$A$2:$S$1048576,F$2,FALSE) -> 6.0749884 | G8: =VLOOKUP($A8,analysis!$A$2:$S$1048576,G$2,FALSE) -> 6.2789738 | H8: =VLOOKUP($A8,analysis!$A$2:$S$1048576,H$2,FALSE) -> 7.6393215 | I8: =VLOOKUP($A8,analysis!$A$2:$S$1048576,I$2,FALSE) | J8: =VLOOKUP($A8,analysis!$A$2:$U$1048576,J$2,FALSE) -> 1 | K8: =VLOOKUP($A8,analysis!$A$2:$U$1048576,K$2,FALSE) -> 90
A9: Bijol | B9: =VLOOKUP($A9,analysis!$A$2:$S$1048576,B$2,FALSE) -> D | C9: =VLOOKUP($A9,analysis!$A$2:$S$1048576,C$2,FALSE) -> Udinese | D9: =VLOOKUP($A9,analysis!$A$2:$S$1048576,D$2,FALSE) -> Lecce | E9: =VLOOKUP($A9,analysis!$A$2:$S$1048576,E$2,FALSE) -> 1 | F9: =VLOOKUP($A9,analysis!$A$2:$S$1048576,F$2,FALSE) -> 6.2487419 | G9: =VLOOKUP($A9,analysis!$A$2:$S$1048576,G$2,FALSE) -> 6.937559 | H9: =VLOOKUP($A9,analysis!$A$2:$S$1048576,H$2,FALSE) -> 9.334338 | I9: =VLOOKUP($A9,analysis!$A$2:$S$1048576,I$2,FALSE) | J9: =VLOOKUP($A9,analysis!$A$2:$U$1048576,J$2,FALSE) -> 1 | K9: =VLOOKUP($A9,analysis!$A$2:$U$1048576,K$2,FALSE) -> 90
A10: Fazio | B10: =VLOOKUP($A10,analysis!$A$2:$S$1048576,B$2,FALSE) -> D | C10: =VLOOKUP($A10,analysis!$A$2:$S$1048576,C$2,FALSE) -> Salernitana | D10: =VLOOKUP($A10,analysis!$A$2:$S$1048576,D$2,FALSE) -> Cremonese | E10: =VLOOKUP($A10,analysis!$A$2:$S$1048576,E$2,FALSE) -> 1 | F10: =VLOOKUP($A10,analysis!$A$2:$S$1048576,F$2,FALSE) -> 6.2947509 | G10: =VLOOKUP($A10,analysis!$A$2:$S$1048576,G$2,FALSE) -> 6.6248947 | H10: =VLOOKUP($A10,analysis!$A$2:$S$1048576,H$2,FALSE) -> 8.3153135 | I10: =VLOOKUP($A10,analysis!$A$2:$S$1048576,I$2,FALSE) | J10: =VLOOKUP($A10,analysis!$A$2:$U$1048576,J$2,FALSE) -> 1 | K10: =VLOOKUP($A10,analysis!$A$2:$U$1048576,K$2,FALSE) -> 90
A11: Patric | B11: =VLOOKUP($A11,analysis!$A$2:$S$1048576,B$2,FALSE) -> D | C11: =VLOOKUP($A11,analysis!$A$2:$S$1048576,C$2,FALSE) -> Lazio | D11: =VLOOKUP($A11,analysis!$A$2:$S$1048576,D$2,FALSE) -> Roma | E11: =VLOOKUP($A11,analysis!$A$2:$S$1048576,E$2,FALSE) -> 0 | F11: =VLOOKUP($A11,analysis!$A$2:$S$1048576,F$2,FALSE) -> 6.0672591 | G11: =VLOOKUP($A11,analysis!$A$2:$S$1048576,G$2,FALSE) -> 6.0035259 | H11: =VLOOKUP($A11,analysis!$A$2:$S$1048576,H$2,FALSE) -> 6.6613232 | I11: =VLOOKUP($A11,analysis!$A$2:$S$1048576,I$2,FALSE) | J11: =VLOOKUP($A11,analysis!$A$2:$U$1048576,J$2,FALSE) -> 0 | K11: =VLOOKUP($A11,analysis!$A$2:$U$1048576,K$2,FALSE) -> 50
A12: Luperto | B12: =VLOOKUP($A12,analysis!$A$2:$S$1048576,B$2,FALSE) -> D | C12: =VLOOKUP($A12,analysis!$A$2:$S$1048576,C$2,FALSE) -> Empoli | D12: =VLOOKUP($A12,analysis!$A$2:$S$1048576,D$2,FALSE) -> Sassuolo | E12: =VLOOKUP($A12,analysis!$A$2:$S$1048576,E$2,FALSE) -> 1 | F12: =VLOOKUP($A12,analysis!$A$2:$S$1048576,F$2,FALSE) -> 5.8643141 | G12: =VLOOKUP($A12,analysis!$A$2:$S$1048576,G$2,FALSE) -> 5.7817135 | H12: =VLOOKUP($A12,analysis!$A$2:$S$1048576,H$2,FALSE) -> 6.5829864 | I12: =VLOOKUP($A12,analysis!$A$2:$S$1048576,I$2,FALSE) | J12: =VLOOKUP($A12,analysis!$A$2:$U$1048576,J$2,FALSE) -> 1 | K12: =VLOOKUP($A12,analysis!$A$2:$U$1048576,K$2,FALSE) -> 85
A13: Gendrey | B13: =VLOOKUP($A13,analysis!$A$2:$S$1048576,B$2,FALSE) -> D | C13: =VLOOKUP($A13,analysis!$A$2:$S$1048576,C$2,FALSE) -> Lecce | D13: =VLOOKUP($A13,analysis!$A$2:$S$1048576,D$2,FALSE) -> Udinese | E13: =VLOOKUP($A13,analysis!$A$2:$S$1048576,E$2,FALSE) -> 0 | F13: =VLOOKUP($A13,analysis!$A$2:$S$1048576,F$2,FALSE) -> 5.6283431 | G13: =VLOOKUP($A13,analysis!$A$2:$S$1048576,G$2,FALSE) -> 5.5362035 | H13: =VLOOKUP($A13,analysis!$A$2:$S$1048576,H$2,FALSE) -> 6.1528522 | I13: =VLOOKUP($A13,analysis!$A$2:$S$1048576,I$2,FALSE) | J13: =VLOOKUP($A13,analysis!$A$2:$U$1048576,J$2,FALSE) -> 1 | K13: =VLOOKUP($A13,analysis!$A$2:$U$1048576,K$2,FALSE) -> 70
A14: Di Lorenzo | B14: =VLOOKUP($A14,analysis!$A$2:$S$1048576,B$2,FALSE) -> D | C14: =VLOOKUP($A14,analysis!$A$2:$S$1048576,C$2,FALSE) -> Napoli | D14: =VLOOKUP($A14,analysis!$A$2:$S$1048576,D$2,FALSE) -> Atalanta | E14: =VLOOKUP($A14,analysis!$A$2:$S$1048576,E$2,FALSE) -> 0 | F14: =VLOOKUP($A14,analysis!$A$2:$S$1048576,F$2,FALSE) -> 6.1826734 | G14: =VLOOKUP($A14,analysis!$A$2:$S$1048576,G$2,FALSE) -> 6.2374565 | H14: =VLOOKUP($A14,analysis!$A$2:$S$1048576,H$2,FALSE) -> 7.0586444 | I14: =VLOOKUP($A14,analysis!$A$2:$S$1048576,I$2,FALSE) | J14: =VLOOKUP($A14,analysis!$A$2:$U$1048576,J$2,FALSE) -> 1 | K14: =VLOOKUP($A14,analysis!$A$2:$U$1048576,K$2,FALSE) -> 90
... A33: Hojlund | B33: =VLOOKUP($A33,analysis!$A$2:$S$1048576,B$2,FALSE) -> A | C33: =VLOOKUP($A33,analysis!$A$2:$S$1048576,C$2,FALSE) -> Atalanta | D33: =VLOOKUP($A33,analysis!$A$2:$S$1048576,D$2,FALSE) -> Napoli | E33: =VLOOKUP($A33,analysis!$A$2:$S$1048576,E$2,FALSE) -> 1 | F33: =VLOOKUP($A33,analysis!$A$2:$S$1048576,F$2,FALSE) -> 5.9621699 | G33: =VLOOKUP($A33,analysis!$A$2:$S$1048576,G$2,FALSE) -> 6.2434936 | H33: =VLOOKUP($A33,analysis!$A$2:$S$1048576,H$2,FALSE) -> 7.7266017 | I33: =VLOOKUP($A33,analysis!$A$2:$S$1048576,I$2,FALSE) | J33: =VLOOKUP($A33,analysis!$A$2:$U$1048576,J$2,FALSE) -> 0 | K33: =VLOOKUP($A33,analysis!$A$2:$U$1048576,K$2,FALSE) -> 55

Sheet my_team_2
A1: Players | B1: role | C1: team | D1: oppteam | E1: home | F1: MV | G1: FV | H1: Potential | I1: Clean Sheet % | J1: starter | K1: vote%
B2: 2 | C2: 3 | D2: 4 | E2: 5 | F2: 6 | G2: 8 | H2: 19 | I2: 10 | J2: 20 | K2: 21
A3: Handanovic | B3: =VLOOKUP($A3,analysis!$A$2:$S$1048576,B$2,FALSE) -> P | C3: =VLOOKUP($A3,analysis!$A$2:$S$1048576,C$2,FALSE) -> Inter | D3: =VLOOKUP($A3,analysis!$A$2:$S$1048576,D$2,FALSE) -> Juventus | E3: =VLOOKUP($A3,analysis!$A$2:$S$1048576,E$2,FALSE) -> 0 | F3: =VLOOKUP($A3,analysis!$A$2:$S$1048576,F$2,FALSE) -> 6.473632 | G3: =VLOOKUP($A3,analysis!$A$2:$S$1048576,G$2,FALSE) -> 5.1145341 | H3: =VLOOKUP($A3,analysis!$A$2:$S$1048576,H$2,FALSE) -> 3.4392011 | I3: =VLOOKUP($A3,analysis!$A$2:$S$1048576,I$2,FALSE) -> 26.983863 | J3: =VLOOKUP($A3,analysis!$A$2:$U$1048576,J$2,FALSE) -> 0 | K3: =VLOOKUP($A3,analysis!$A$2:$U$1048576,K$2,FALSE) -> 5
A4: Milinkovic-Savic V. | B4: =VLOOKUP($A4,analysis!$A$2:$S$1048576,B$2,FALSE) -> P | C4: =VLOOKUP($A4,analysis!$A$2:$S$1048576,C$2,FALSE) -> Torino | D4: =VLOOKUP($A4,analysis!$A$2:$S$1048576,D$2,FALSE) -> Bologna | E4: =VLOOKUP($A4,analysis!$A$2:$S$1048576,E$2,FALSE) -> 0 | F4: =VLOOKUP($A4,analysis!$A$2:$S$1048576,F$2,FALSE) -> 6.3580896 | G4: =VLOOKUP($A4,analysis!$A$2:$S$1048576,G$2,FALSE) -> 5.22833 | H4: =VLOOKUP($A4,analysis!$A$2:$S$1048576,H$2,FALSE) -> 3.5345012 | I4: =VLOOKUP($A4,analysis!$A$2:$S$1048576,I$2,FALSE) -> 30.969641 | J4: =VLOOKUP($A4,analysis!$A$2:$U$1048576,J$2,FALSE) -> 1 | K4: =VLOOKUP($A4,analysis!$A$2:$U$1048576,K$2,FALSE) -> 90
A5: Berisha | B5: =VLOOKUP($A5,analysis!$A$2:$S$1048576,B$2,FALSE) -> P | C5: =VLOOKUP($A5,analysis!$A$2:$S$1048576,C$2,FALSE) -> Torino | D5: =VLOOKUP($A5,analysis!$A$2:$S$1048576,D$2,FALSE) -> Bologna | E5: =VLOOKUP($A5,analysis!$A$2:$S$1048576,E$2,FALSE) -> 0 | F5: =VLOOKUP($A5,analysis!$A$2:$S$1048576,F$2,FALSE) -> 6.355738 | G5: =VLOOKUP($A5,analysis!$A$2:$S$1048576,G$2,FALSE) -> 5.2307121 | H5: =VLOOKUP($A5,analysis!$A$2:$S$1048576,H$2,FALSE) -> 3.5360338 | I5: =VLOOKUP($A5,analysis!$A$2:$S$1048576,I$2,FALSE) -> 31.137872 | J5: =VLOOKUP($A5,analysis!$A$2:$U$1048576,J$2,FALSE) -> 0 | K5: =VLOOKUP($A5,analysis!$A$2:$U$1048576,K$2,FALSE) -> 5
A6: Rrahmani | B6: =VLOOKUP($A6,analysis!$A$2:$S$1048576,B$2,FALSE) -> D | C6: =VLOOKUP($A6,analysis!$A$2:$S$1048576,C$2,FALSE) -> Napoli | D6: =VLOOKUP($A6,analysis!$A$2:$S$1048576,D$2,FALSE) -> Atalanta | E6: =VLOOKUP($A6,analysis!$A$2:$S$1048576,E$2,FALSE) -> 0 | F6: =VLOOKUP($A6,analysis!$A$2:$S$1048576,F$2,FALSE) -> 6.2299513 | G6: =VLOOKUP($A6,analysis!$A$2:$S$1048576,G$2,FALSE) -> 6.3301325 | H6: =VLOOKUP($A6,analysis!$A$2:$S$1048576,H$2,FALSE) -> 7.2831845 | I6: =VLOOKUP($A6,analysis!$A$2:$S$1048576,I$2,FALSE) | J6: =VLOOKUP($A6,analysis!$A$2:$U$1048576,J$2,FALSE) -> 0 | K6: =VLOOKUP($A6,analysis!$A$2:$U$1048576,K$2,FALSE) -> 0
A7: Dimarco | B7: =VLOOKUP($A7,analysis!$A$2:$S$1048576,B$2,FALSE) -> D | C7: =VLOOKUP($A7,analysis!$A$2:$S$1048576,C$2,FALSE) -> Inter | D7: =VLOOKUP($A7,analysis!$A$2:$S$1048576,D$2,FALSE) -> Juventus | E7: =VLOOKUP($A7,analysis!$A$2:$S$1048576,E$2,FALSE) -> 0 | F7: =VLOOKUP($A7,analysis!$A$2:$S$1048576,F$2,FALSE) -> 6.0116886 | G7: =VLOOKUP($A7,analysis!$A$2:$S$1048576,G$2,FALSE) -> 5.9927132 | H7: =VLOOKUP($A7,analysis!$A$2:$S$1048576,H$2,FALSE) -> 6.6792485 | I7: =VLOOKUP($A7,analysis!$A$2:$S$1048576,I$2,FALSE) | J7: =VLOOKUP($A7,analysis!$A$2:$U$1048576,J$2,FALSE) -> 1 | K7: =VLOOKUP($A7,analysis!$A$2:$U$1048576,K$2,FALSE) -> 85
A8: Singo | B8: =VLOOKUP($A8,analysis!$A$2:$S$1048576,B$2,FALSE) -> D | C8: =VLOOKUP($A8,analysis!$A$2:$S$1048576,C$2,FALSE) -> Torino | D8: =VLOOKUP($A8,analysis!$A$2:$S$1048576,D$2,FALSE) -> Bologna | E8: =VLOOKUP($A8,analysis!$A$2:$S$1048576,E$2,FALSE) -> 0 | F8: =VLOOKUP($A8,analysis!$A$2:$S$1048576,F$2,FALSE) -> 5.9549943 | G8: =VLOOKUP($A8,analysis!$A$2:$S$1048576,G$2,FALSE) -> 5.9427724 | H8: =VLOOKUP($A8,analysis!$A$2:$S$1048576,H$2,FALSE) -> 6.6173697 | I8: =VLOOKUP($A8,analysis!$A$2:$S$1048576,I$2,FALSE) | J8: =VLOOKUP($A8,analysis!$A$2:$U$1048576,J$2,FALSE) -> 1 | K8: =VLOOKUP($A8,analysis!$A$2:$U$1048576,K$2,FALSE) -> 60
A9: Calabria | B9: =VLOOKUP($A9,analysis!$A$2:$S$1048576,B$2,FALSE) -> D | C9: =VLOOKUP($A9,analysis!$A$2:$S$1048576,C$2,FALSE) -> Milan | D9: =VLOOKUP($A9,analysis!$A$2:$S$1048576,D$2,FALSE) -> Spezia | E9: =VLOOKUP($A9,analysis!$A$2:$S$1048576,E$2,FALSE) -> 1 | F9: =VLOOKUP($A9,analysis!$A$2:$S$1048576,F$2,FALSE) -> 6.1752544 | G9: =VLOOKUP($A9,analysis!$A$2:$S$1048576,G$2,FALSE) -> 6.2331699 | H9: =VLOOKUP($A9,analysis!$A$2:$S$1048576,H$2,FALSE) -> 7.0243548 | I9: =VLOOKUP($A9,analysis!$A$2:$S$1048576,I$2,FALSE) | J9: =VLOOKUP($A9,analysis!$A$2:$U$1048576,J$2,FALSE) -> 0 | K9: =VLOOKUP($A9,analysis!$A$2:$U$1048576,K$2,FALSE) -> 0
A10: Gosens | B10: =VLOOKUP($A10,analysis!$A$2:$S$1048576,B$2,FALSE) -> D | C10: =VLOOKUP($A10,analysis!$A$2:$S$1048576,C$2,FALSE) -> Inter | D10: =VLOOKUP($A10,analysis!$A$2:$S$1048576,D$2,FALSE) -> Juventus | E10: =VLOOKUP($A10,analysis!$A$2:$S$1048576,E$2,FALSE) -> 0 | F10: =VLOOKUP($A10,analysis!$A$2:$S$1048576,F$2,FALSE) -> 5.8164952 | G10: =VLOOKUP($A10,analysis!$A$2:$S$1048576,G$2,FALSE) -> 5.7593071 | H10: =VLOOKUP($A10,analysis!$A$2:$S$1048576,H$2,FALSE) -> 6.2556402 | I10: =VLOOKUP($A10,analysis!$A$2:$S$1048576,I$2,FALSE) | J10: =VLOOKUP($A10,analysis!$A$2:$U$1048576,J$2,FALSE) -> 0 | K10: =VLOOKUP($A10,analysis!$A$2:$U$1048576,K$2,FALSE) -> 50
A11: Valeri | B11: =VLOOKUP($A11,analysis!$A$2:$S$1048576,B$2,FALSE) -> D | C11: =VLOOKUP($A11,analysis!$A$2:$S$1048576,C$2,FALSE) -> Cremonese | D11: =VLOOKUP($A11,analysis!$A$2:$S$1048576,D$2,FALSE) -> Salernitana | E11: =VLOOKUP($A11,analysis!$A$2:$S$1048576,E$2,FALSE) -> 0 | F11: =VLOOKUP($A11,analysis!$A$2:$S$1048576,F$2,FALSE) -> 6.2095243 | G11: =VLOOKUP($A11,analysis!$A$2:$S$1048576,G$2,FALSE) -> 6.3847263 | H11: =VLOOKUP($A11,analysis!$A$2:$S$1048576,H$2,FALSE) -> 7.5047777 | I11: =VLOOKUP($A11,analysis!$A$2:$S$1048576,I$2,FALSE) | J11: =VLOOKUP($A11,analysis!$A$2:$U$1048576,J$2,FALSE) -> 1 | K11: =VLOOKUP($A11,analysis!$A$2:$U$1048576,K$2,FALSE) -> 90
A12: Kyriakopoulos | B12: =VLOOKUP($A12,analysis!$A$2:$S$1048576,B$2,FALSE) -> D | C12: =VLOOKUP($A12,analysis!$A$2:$S$1048576,C$2,FALSE) -> Sassuolo | D12: =VLOOKUP($A12,analysis!$A$2:$S$1048576,D$2,FALSE) -> Empoli | E12: =VLOOKUP($A12,analysis!$A$2:$S$1048576,E$2,FALSE) -> 0 | F12: =VLOOKUP($A12,analysis!$A$2:$S$1048576,F$2,FALSE) -> 6.1297228 | G12: =VLOOKUP($A12,analysis!$A$2:$S$1048576,G$2,FALSE) -> 6.2447058 | H12: =VLOOKUP($A12,analysis!$A$2:$S$1048576,H$2,FALSE) -> 7.3710047 | I12: =VLOOKUP($A12,analysis!$A$2:$S$1048576,I$2,FALSE) | J12: =VLOOKUP($A12,analysis!$A$2:$U$1048576,J$2,FALSE) -> 0 | K12: =VLOOKUP($A12,analysis!$A$2:$U$1048576,K$2,FALSE) -> 55
A13: De Silvestri | B13: =VLOOKUP($A13,analysis!$A$2:$S$1048576,B$2,FALSE) -> D | C13: =VLOOKUP($A13,analysis!$A$2:$S$1048576,C$2,FALSE) -> Bologna | D13: =VLOOKUP($A13,analysis!$A$2:$S$1048576,D$2,FALSE) -> Torino | E13: =VLOOKUP($A13,analysis!$A$2:$S$1048576,E$2,FALSE) -> 1 | F13: =VLOOKUP($A13,analysis!$A$2:$S$1048576,F$2,FALSE) -> 5.7256276 | G13: =VLOOKUP($A13,analysis!$A$2:$S$1048576,G$2,FALSE) -> 5.662618 | H13: =VLOOKUP($A13,analysis!$A$2:$S$1048576,H$2,FALSE) -> 6.3674687 | I13: =VLOOKUP($A13,analysis!$A$2:$S$1048576,I$2,FALSE) | J13: =VLOOKUP($A13,analysis!$A$2:$U$1048576,J$2,FALSE) -> 0 | K13: =VLOOKUP($A13,analysis!$A$2:$U$1048576,K$2,FALSE) -> 50
A14: Felipe Anderson | B14: =VLOOKUP($A14,analysis!$A$2:$S$1048576,B$2,FALSE) -> C | C14: =VLOOKUP($A14,analysis!$A$2:$S$1048576,C$2,FALSE) -> Lazio | D14: =VLOOKUP($A14,analysis!$A$2:$S$1048576,D$2,FALSE) -> Roma | E14: =VLOOKUP($A14,analysis!$A$2:$S$1048576,E$2,FALSE) -> 0 | F14: =VLOOKUP($A14,analysis!$A$2:$S$1048576,F$2,FALSE) -> 6.2316061 | G14: =VLOOKUP($A14,analysis!$A$2:$S$1048576,G$2,FALSE) -> 7.0880295 | H14: =VLOOKUP($A14,analysis!$A$2:$S$1048576,H$2,FALSE) -> 10.114807 | I14: =VLOOKUP($A14,analysis!$A$2:$S$1048576,I$2,FALSE) | J14: =VLOOKUP($A14,analysis!$A$2:$U$1048576,J$2,FALSE) -> 1 | K14: =VLOOKUP($A14,analysis!$A$2:$U$1048576,K$2,FALSE) -> 85
... A27: Hojlund | B27: =VLOOKUP($A27,analysis!$A$2:$S$1048576,B$2,FALSE) -> A | C27: =VLOOKUP($A27,analysis!$A$2:$S$1048576,C$2,FALSE) -> Atalanta | D27: =VLOOKUP($A27,analysis!$A$2:$S$1048576,D$2,FALSE) -> Napoli | E27: =VLOOKUP($A27,analysis!$A$2:$S$1048576,E$2,FALSE) -> 1 | F27: =VLOOKUP($A27,analysis!$A$2:$S$1048576,F$2,FALSE) -> 5.9621699 | G27: =VLOOKUP($A27,analysis!$A$2:$S$1048576,G$2,FALSE) -> 6.2434936 | H27: =VLOOKUP($A27,analysis!$A$2:$S$1048576,H$2,FALSE) -> 7.7266017 | I27: =VLOOKUP($A27,analysis!$A$2:$S$1048576,I$2,FALSE) | J27: =VLOOKUP($A27,analysis!$A$2:$U$1048576,J$2,FALSE) -> 0 | K27: =VLOOKUP($A27,analysis!$A$2:$U$1048576,K$2,FALSE) -> 55

Sheet my_team_3
A1: Players | B1: role | C1: team | D1: oppteam | E1: home | F1: MV | G1: FV | H1: Potential | I1: Clean Sheet % | J1: starter | K1: vote%
B2: 2 | C2: 3 | D2: 4 | E2: 5 | F2: 6 | G2: 8 | H2: 19 | I2: 10 | J2: 20 | K2: 21
A3: Provedel | B3: =VLOOKUP($A3,analysis!$A$2:$S$1048576,B$2,FALSE) -> P | C3: =VLOOKUP($A3,analysis!$A$2:$S$1048576,C$2,FALSE) -> Lazio | D3: =VLOOKUP($A3,analysis!$A$2:$S$1048576,D$2,FALSE) -> Roma | E3: =VLOOKUP($A3,analysis!$A$2:$S$1048576,E$2,FALSE) -> 0 | F3: =VLOOKUP($A3,analysis!$A$2:$S$1048576,F$2,FALSE) -> 6.2729991 | G3: =VLOOKUP($A3,analysis!$A$2:$S$1048576,G$2,FALSE) -> 5.2686832 | H3: =VLOOKUP($A3,analysis!$A$2:$S$1048576,H$2,FALSE) -> 3.5435082 | I3: =VLOOKUP($A3,analysis!$A$2:$S$1048576,I$2,FALSE) -> 36.382392 | J3: =VLOOKUP($A3,analysis!$A$2:$U$1048576,J$2,FALSE) -> 1 | K3: =VLOOKUP($A3,analysis!$A$2:$U$1048576,K$2,FALSE) -> 90
A4: Milinkovic-Savic V. | B4: =VLOOKUP($A4,analysis!$A$2:$S$1048576,B$2,FALSE) -> P | C4: =VLOOKUP($A4,analysis!$A$2:$S$1048576,C$2,FALSE) -> Torino | D4: =VLOOKUP($A4,analysis!$A$2:$S$1048576,D$2,FALSE) -> Bologna | E4: =VLOOKUP($A4,analysis!$A$2:$S$1048576,E$2,FALSE) -> 0 | F4: =VLOOKUP($A4,analysis!$A$2:$S$1048576,F$2,FALSE) -> 6.3580896 | G4: =VLOOKUP($A4,analysis!$A$2:$S$1048576,G$2,FALSE) -> 5.22833 | H4: =VLOOKUP($A4,analysis!$A$2:$S$1048576,H$2,FALSE) -> 3.5345012 | I4: =VLOOKUP($A4,analysis!$A$2:$S$1048576,I$2,FALSE) -> 30.969641 | J4: =VLOOKUP($A4,analysis!$A$2:$U$1048576,J$2,FALSE) -> 1 | K4: =VLOOKUP($A4,analysis!$A$2:$U$1048576,K$2,FALSE) -> 90
A5: Berisha | B5: =VLOOKUP($A5,analysis!$A$2:$S$1048576,B$2,FALSE) -> P | C5: =VLOOKUP($A5,analysis!$A$2:$S$1048576,C$2,FALSE) -> Torino | D5: =VLOOKUP($A5,analysis!$A$2:$S$1048576,D$2,FALSE) -> Bologna | E5: =VLOOKUP($A5,analysis!$A$2:$S$1048576,E$2,FALSE) -> 0 | F5: =VLOOKUP($A5,analysis!$A$2:$S$1048576,F$2,FALSE) -> 6.355738 | G5: =VLOOKUP($A5,analysis!$A$2:$S$1048576,G$2,FALSE) -> 5.2307121 | H5: =VLOOKUP($A5,analysis!$A$2:$S$1048576,H$2,FALSE) -> 3.5360338 | I5: =VLOOKUP($A5,analysis!$A$2:$S$1048576,I$2,FALSE) -> 31.137872 | J5: =VLOOKUP($A5,analysis!$A$2:$U$1048576,J$2,FALSE) -> 0 | K5: =VLOOKUP($A5,analysis!$A$2:$U$1048576,K$2,FALSE) -> 5
A6: Skriniar | B6: =VLOOKUP($A6,analysis!$A$2:$S$1048576,B$2,FALSE) -> D | C6: =VLOOKUP($A6,analysis!$A$2:$S$1048576,C$2,FALSE) -> Inter | D6: =VLOOKUP($A6,analysis!$A$2:$S$1048576,D$2,FALSE) -> Juventus | E6: =VLOOKUP($A6,analysis!$A$2:$S$1048576,E$2,FALSE) -> 0 | F6: =VLOOKUP($A6,analysis!$A$2:$S$1048576,F$2,FALSE) -> 5.777467 | G6: =VLOOKUP($A6,analysis!$A$2:$S$1048576,G$2,FALSE) -> 5.7168293 | H6: =VLOOKUP($A6,analysis!$A$2:$S$1048576,H$2,FALSE) -> 6.2365055 | I6: =VLOOKUP($A6,analysis!$A$2:$S$1048576,I$2,FALSE) | J6: =VLOOKUP($A6,analysis!$A$2:$U$1048576,J$2,FALSE) -> 1 | K6: =VLOOKUP($A6,analysis!$A$2:$U$1048576,K$2,FALSE) -> 90
A7: Bastoni | B7: =VLOOKUP($A7,analysis!$A$2:$S$1048576,B$2,FALSE) -> D | C7: =VLOOKUP($A7,analysis!$A$2:$S$1048576,C$2,FALSE) -> Inter | D7: =VLOOKUP($A7,analysis!$A$2:$S$1048576,D$2,FALSE) -> Juventus | E7: =VLOOKUP($A7,analysis!$A$2:$S$1048576,E$2,FALSE) -> 0 | F7: =VLOOKUP($A7,analysis!$A$2:$S$1048576,F$2,FALSE) -> 5.8493461 | G7: =VLOOKUP($A7,analysis!$A$2:$S$1048576,G$2,FALSE) -> 5.7618999 | H7: =VLOOKUP($A7,analysis!$A$2:$S$1048576,H$2,FALSE) -> 6.4722867 | I7: =VLOOKUP($A7,analysis!$A$2:$S$1048576,I$2,FALSE) | J7: =VLOOKUP($A7,analysis!$A$2:$U$1048576,J$2,FALSE) -> 1 | K7: =VLOOKUP($A7,analysis!$A$2:$U$1048576,K$2,FALSE) -> 80
A8: Lazzari | B8: =VLOOKUP($A8,analysis!$A$2:$S$1048576,B$2,FALSE) -> D | C8: =VLOOKUP($A8,analysis!$A$2:$S$1048576,C$2,FALSE) -> Lazio | D8: =VLOOKUP($A8,analysis!$A$2:$S$1048576,D$2,FALSE) -> Roma | E8: =VLOOKUP($A8,analysis!$A$2:$S$1048576,E$2,FALSE) -> 0 | F8: =VLOOKUP($A8,analysis!$A$2:$S$1048576,F$2,FALSE) -> 6.0756804 | G8: =VLOOKUP($A8,analysis!$A$2:$S$1048576,G$2,FALSE) -> 6.063066 | H8: =VLOOKUP($A8,analysis!$A$2:$S$1048576,H$2,FALSE) -> 6.9279966 | I8: =VLOOKUP($A8,analysis!$A$2:$S$1048576,I$2,FALSE) | J8: =VLOOKUP($A8,analysis!$A$2:$U$1048576,J$2,FALSE) -> 1 | K8: =VLOOKUP($A8,analysis!$A$2:$U$1048576,K$2,FALSE) -> 80
A9: Danilo | B9: =VLOOKUP($A9,analysis!$A$2:$S$1048576,B$2,FALSE) -> D | C9: =VLOOKUP($A9,analysis!$A$2:$S$1048576,C$2,FALSE) -> Juventus | D9: =VLOOKUP($A9,analysis!$A$2:$S$1048576,D$2,FALSE) -> Inter | E9: =VLOOKUP($A9,analysis!$A$2:$S$1048576,E$2,FALSE) -> 1 | F9: =VLOOKUP($A9,analysis!$A$2:$S$1048576,F$2,FALSE) -> 6.2199991 | G9: =VLOOKUP($A9,analysis!$A$2:$S$1048576,G$2,FALSE) -> 6.4952188 | H9: =VLOOKUP($A9,analysis!$A$2:$S$1048576,H$2,FALSE) -> 8.0961629 | I9: =VLOOKUP($A9,analysis!$A$2:$S$1048576,I$2,FALSE) | J9: =VLOOKUP($A9,analysis!$A$2:$U$1048576,J$2,FALSE) -> 1 | K9: =VLOOKUP($A9,analysis!$A$2:$U$1048576,K$2,FALSE) -> 90
A10: Mario Rui | B10: =VLOOKUP($A10,analysis!$A$2:$S$1048576,B$2,FALSE) -> D | C10: =VLOOKUP($A10,analysis!$A$2:$S$1048576,C$2,FALSE) -> Napoli | D10: =VLOOKUP($A10,analysis!$A$2:$S$1048576,D$2,FALSE) -> Atalanta | E10: =VLOOKUP($A10,analysis!$A$2:$S$1048576,E$2,FALSE) -> 0 | F10: =VLOOKUP($A10,analysis!$A$2:$S$1048576,F$2,FALSE) -> 6.1582541 | G10: =VLOOKUP($A10,analysis!$A$2:$S$1048576,G$2,FALSE) -> 6.2888087 | H10: =VLOOKUP($A10,analysis!$A$2:$S$1048576,H$2,FALSE) -> 7.3673686 | I10: =VLOOKUP($A10,analysis!$A$2:$S$1048576,I$2,FALSE) | J10: =VLOOKUP($A10,analysis!$A$2:$U$1048576,J$2,FALSE) -> 1 | K10: =VLOOKUP($A10,analysis!$A$2:$U$1048576,K$2,FALSE) -> 60
A11: Mazzocchi | B11: =VLOOKUP($A11,analysis!$A$2:$S$1048576,B$2,FALSE) -> D | C11: =VLOOKUP($A11,analysis!$A$2:$S$1048576,C$2,FALSE) -> Salernitana | D11: =VLOOKUP($A11,analysis!$A$2:$S$1048576,D$2,FALSE) -> Cremonese | E11: =VLOOKUP($A11,analysis!$A$2:$S$1048576,E$2,FALSE) -> 1 | F11: =VLOOKUP($A11,analysis!$A$2:$S$1048576,F$2,FALSE) -> 6.3465241 | G11: =VLOOKUP($A11,analysis!$A$2:$S$1048576,G$2,FALSE) -> 7.3238501 | H11: =VLOOKUP($A11,analysis!$A$2:$S$1048576,H$2,FALSE) -> 10.568117 | I11: =VLOOKUP($A11,analysis!$A$2:$S$1048576,I$2,FALSE) | J11: =VLOOKUP($A11,analysis!$A$2:$U$1048576,J$2,FALSE) -> 1 | K11: =VLOOKUP($A11,analysis!$A$2:$U$1048576,K$2,FALSE) -> 90
A12: Singo | B12: =VLOOKUP($A12,analysis!$A$2:$S$1048576,B$2,FALSE) -> D | C12: =VLOOKUP($A12,analysis!$A$2:$S$1048576,C$2,FALSE) -> Torino | D12: =VLOOKUP($A12,analysis!$A$2:$S$1048576,D$2,FALSE) -> Bologna | E12: =VLOOKUP($A12,analysis!$A$2:$S$1048576,E$2,FALSE) -> 0 | F12: =VLOOKUP($A12,analysis!$A$2:$S$1048576,F$2,FALSE) -> 5.9549943 | G12: =VLOOKUP($A12,analysis!$A$2:$S$1048576,G$2,FALSE) -> 5.9427724 | H12: =VLOOKUP($A12,analysis!$A$2:$S$1048576,H$2,FALSE) -> 6.6173697 | I12: =VLOOKUP($A12,analysis!$A$2:$S$1048576,I$2,FALSE) | J12: =VLOOKUP($A12,analysis!$A$2:$U$1048576,J$2,FALSE) -> 1 | K12: =VLOOKUP($A12,analysis!$A$2:$U$1048576,K$2,FALSE) -> 60
A13: Scalvini | B13: =VLOOKUP($A13,analysis!$A$2:$S$1048576,B$2,FALSE) -> D | C13: =VLOOKUP($A13,analysis!$A$2:$S$1048576,C$2,FALSE) -> Atalanta | D13: =VLOOKUP($A13,analysis!$A$2:$S$1048576,D$2,FALSE) -> Napoli | E13: =VLOOKUP($A13,analysis!$A$2:$S$1048576,E$2,FALSE) -> 1 | F13: =VLOOKUP($A13,analysis!$A$2:$S$1048576,F$2,FALSE) -> 6.0039808 | G13: =VLOOKUP($A13,analysis!$A$2:$S$1048576,G$2,FALSE) -> 6.2692036 | H13: =VLOOKUP($A13,analysis!$A$2:$S$1048576,H$2,FALSE) -> 7.9447774 | I13: =VLOOKUP($A13,analysis!$A$2:$S$1048576,I$2,FALSE) | J13: =VLOOKUP($A13,analysis!$A$2:$U$1048576,J$2,FALSE) -> 0 | K13: =VLOOKUP($A13,analysis!$A$2:$U$1048576,K$2,FALSE) -> 55
A14: Pasalic | B14: =VLOOKUP($A14,analysis!$A$2:$S$1048576,B$2,FALSE) -> C | C14: =VLOOKUP($A14,analysis!$A$2:$S$1048576,C$2,FALSE) -> Atalanta | D14: =VLOOKUP($A14,analysis!$A$2:$S$1048576,D$2,FALSE) -> Napoli | E14: =VLOOKUP($A14,analysis!$A$2:$S$1048576,E$2,FALSE) -> 1 | F14: =VLOOKUP($A14,analysis!$A$2:$S$1048576,F$2,FALSE) -> 6.0489046 | G14: =VLOOKUP($A14,analysis!$A$2:$S$1048576,G$2,FALSE) -> 6.831158 | H14: =VLOOKUP($A14,analysis!$A$2:$S$1048576,H$2,FALSE) -> 9.7446383 | I14: =VLOOKUP($A14,analysis!$A$2:$S$1048576,I$2,FALSE) | J14: =VLOOKUP($A14,analysis!$A$2:$U$1048576,J$2,FALSE) -> 1 | K14: =VLOOKUP($A14,analysis!$A$2:$U$1048576,K$2,FALSE) -> 75
... A27: Petagna | B27: =VLOOKUP($A27,analysis!$A$2:$S$1048576,B$2,FALSE) -> A | C27: =VLOOKUP($A27,analysis!$A$2:$S$1048576,C$2,FALSE) -> Monza | D27: =VLOOKUP($A27,analysis!$A$2:$S$1048576,D$2,FALSE) -> Verona | E27: =VLOOKUP($A27,analysis!$A$2:$S$1048576,E$2,FALSE) -> 1 | F27: =VLOOKUP($A27,analysis!$A$2:$S$1048576,F$2,FALSE) -> 5.8764845 | G27: =VLOOKUP($A27,analysis!$A$2:$S$1048576,G$2,FALSE) -> 6.1414593 | H27: =VLOOKUP($A27,analysis!$A$2:$S$1048576,H$2,FALSE) -> 7.4811862 | I27: =VLOOKUP($A27,analysis!$A$2:$S$1048576,I$2,FALSE) | J27: =VLOOKUP($A27,analysis!$A$2:$U$1048576,J$2,FALSE) -> 1 | K27: =VLOOKUP($A27,analysis!$A$2:$U$1048576,K$2,FALSE) -> 60

Sheet my_team_4
A1: Players | B1: role | C1: team | D1: oppteam | E1: home | F1: MV | G1: FV | H1: Potential | I1: Clean Sheet % | J1: starter | K1: vote%
B2: 2 | C2: 3 | D2: 4 | E2: 5 | F2: 6 | G2: 8 | H2: 19 | I2: 10 | J2: 20 | K2: 21
A3: Handanovic | B3: =VLOOKUP($A3,analysis!$A$2:$S$1048576,B$2,FALSE) -> P | C3: =VLOOKUP($A3,analysis!$A$2:$S$1048576,C$2,FALSE) -> Inter | D3: =VLOOKUP($A3,analysis!$A$2:$S$1048576,D$2,FALSE) -> Juventus | E3: =VLOOKUP($A3,analysis!$A$2:$S$1048576,E$2,FALSE) -> 0 | F3: =VLOOKUP($A3,analysis!$A$2:$S$1048576,F$2,FALSE) -> 6.473632 | G3: =VLOOKUP($A3,analysis!$A$2:$S$1048576,G$2,FALSE) -> 5.1145341 | H3: =VLOOKUP($A3,analysis!$A$2:$S$1048576,H$2,FALSE) -> 3.4392011 | I3: =VLOOKUP($A3,analysis!$A$2:$S$1048576,I$2,FALSE) -> 26.983863 | J3: =VLOOKUP($A3,analysis!$A$2:$U$1048576,J$2,FALSE) -> 0 | K3: =VLOOKUP($A3,analysis!$A$2:$U$1048576,K$2,FALSE) -> 5
A4: Onana | B4: =VLOOKUP($A4,analysis!$A$2:$S$1048576,B$2,FALSE) -> P | C4: =VLOOKUP($A4,analysis!$A$2:$S$1048576,C$2,FALSE) -> Inter | D4: =VLOOKUP($A4,analysis!$A$2:$S$1048576,D$2,FALSE) -> Juventus | E4: =VLOOKUP($A4,analysis!$A$2:$S$1048576,E$2,FALSE) -> 0 | F4: =VLOOKUP($A4,analysis!$A$2:$S$1048576,F$2,FALSE) -> 6.062364 | G4: =VLOOKUP($A4,analysis!$A$2:$S$1048576,G$2,FALSE) -> 4.8767757 | H4: =VLOOKUP($A4,analysis!$A$2:$S$1048576,H$2,FALSE) -> 3.1607246 | I4: =VLOOKUP($A4,analysis!$A$2:$S$1048576,I$2,FALSE) -> 37.317255 | J4: =VLOOKUP($A4,analysis!$A$2:$U$1048576,J$2,FALSE) -> 1 | K4: =VLOOKUP($A4,analysis!$A$2:$U$1048576,K$2,FALSE) -> 70
A5: Falcone | B5: =VLOOKUP($A5,analysis!$A$2:$S$1048576,B$2,FALSE) -> P | C5: =VLOOKUP($A5,analysis!$A$2:$S$1048576,C$2,FALSE) -> Lecce | D5: =VLOOKUP($A5,analysis!$A$2:$S$1048576,D$2,FALSE) -> Udinese | E5: =VLOOKUP($A5,analysis!$A$2:$S$1048576,E$2,FALSE) -> 0 | F5: =VLOOKUP($A5,analysis!$A$2:$S$1048576,F$2,FALSE) -> 6.4884028 | G5: =VLOOKUP($A5,analysis!$A$2:$S$1048576,G$2,FALSE) -> 4.0301569 | H5: =VLOOKUP($A5,analysis!$A$2:$S$1048576,H$2,FALSE) -> 2.5274835 | I5: =VLOOKUP($A5,analysis!$A$2:$S$1048576,I$2,FALSE) -> 10.695347 | J5: =VLOOKUP($A5,analysis!$A$2:$U$1048576,J$2,FALSE) -> 1 | K5: =VLOOKUP($A5,analysis!$A$2:$U$1048576,K$2,FALSE) -> 90
