Workbook

Sheet data
A1: player | B1: role | C1: team | D1: oppteam | E1: home | F1: starter | G1: vote% | H1: MV | I1: MV std | J1: FV | K1: FV std | L1: MV loc | M1: MV scale | N1: MV skewness | O1: MV tailweight | P1: FV loc | Q1: FV scale | R1: FV skewness | S1: FV tailweight | T1: Clean Sheet %
A2: Vicario | B2: P | C2: Empoli | D2: Avg | E2: 1 | F2: 1 | G2: 100 | H2: 6.5033207 | I2: 0.52554643 | J2: 6.0216511 | K2: 0.64662898 | L2: 6.5050516 | M2: 0.70214784 | N2: 0.0020264983 | O2: 1.9967871 | P2: 6.4891162 | Q2: 0.87302125 | R2: -0.38244954 | S2: 1.3351748 | T2: 57.973814
A3: Ujkani | B3: P | C3: Empoli | D3: Avg | E3: 1 | F3: 0 | G3: 0 | H3: 6.5033207 | I3: 0.52554643 | J3: 6.0216511 | K3: 0.64662898 | L3: 6.5050516 | M3: 0.70214784 | N3: 0.0020264983 | O3: 1.9967871 | P3: 6.4891162 | Q3: 0.87302125 | R3: -0.38244954 | S3: 1.3351748 | T3: 57.973814
A4: Perisan | B4: P | C4: Empoli | D4: Avg | E4: 1 | F4: 0 | G4: 0 | H4: 6.5033207 | I4: 0.52554643 | J4: 6.0216511 | K4: 0.64662898 | L4: 6.5050516 | M4: 0.70214784 | N4: 0.0020264983 | O4: 1.9967871 | P4: 6.4891162 | Q4: 0.87302125 | R4: -0.38244954 | S4: 1.3351748 | T4: 57.973814
A5: Zoet | B5: P | C5: Spezia | D5: Avg | E5: 1 | F5: 0 | G5: 0 | H5: 6.5016044 | I5: 0.59518993 | J5: 5.8802065 | K5: 0.63744211 | L5: 6.3545637 | M5: 0.64301562 | N5: 0.16732192 | O5: 1.9960785 | P5: 6.3457971 | Q5: 0.85668635 | R5: -0.38758969 | S5: 1.3615996 | T5: 53.765596
A6: Musso | B6: P | C6: Atalanta | D6: Avg | E6: 1 | F6: 1 | G6: 100 | H6: 6.2498073 | I6: 0.50995028 | J6: 5.8363375 | K6: 0.63170707 | L6: 6.0180635 | M6: 0.35137594 | N6: 0.44447705 | O6: 1.9976211 | P6: 6.3471694 | Q6: 0.80258608 | R6: -0.4453043 | S6: 1.3818266 | T6: 66.118824
A7: Rossi F. | B7: P | C7: Atalanta | D7: Avg | E7: 1 | F7: 0 | G7: 0 | H7: 6.2498073 | I7: 0.50995028 | J7: 5.8363375 | K7: 0.63170707 | L7: 6.0180635 | M7: 0.35137594 | N7: 0.44447705 | O7: 1.9976211 | P7: 6.3471694 | Q7: 0.80258608 | R7: -0.4453043 | S7: 1.3818266 | T7: 66.118824
A8: Szczesny | B8: P | C8: Juventus | D8: Avg | E8: 1 | F8: 1 | G8: 100 | H8: 6.0852952 | I8: 0.20840466 | J8: 5.8071833 | K8: 0.48215389 | L8: 5.9974484 | M8: 0.16097268 | N8: 0.37315923 | O8: 1.9987905 | P8: 6.1974463 | Q8: 0.61016876 | R8: -0.44426364 | S8: 1.502224 | T8: 72.564453
A9: Pinsoglio | B9: P | C9: Juventus | D9: Avg | E9: 1 | F9: 0 | G9: 0 | H9: 6.0852952 | I9: 0.20840466 | J9: 5.8071833 | K9: 0.48215389 | L9: 5.9974484 | M9: 0.16097268 | N9: 0.37315923 | O9: 1.9987905 | P9: 6.1974463 | Q9: 0.61016876 | R9: -0.44426364 | S9: 1.502224 | T9: 72.564453
A10: Rui Patricio | B10: P | C10: Roma | D10: Avg | E10: 1 | F10: 1 | G10: 100 | H10: 6.103556 | I10: 0.28194773 | J10: 5.6567446 | K10: 0.52236485 | L10: 5.9983101 | M10: 0.24584241 | N10: 0.3081249 | O10: 1.9985411 | P10: 6.0492396 | Q10: 0.6941396 | R10: -0.39956483 | S10: 1.4378409 | T10: 57.628873
A11: Boer | B11: P | C11: Roma | D11: Avg | E11: 1 | F11: 0 | G11: 0 | H11: 6.103556 | I11: 0.28194773 | J11: 5.6567446 | K11: 0.52236485 | L11: 5.9983101 | M11: 0.24584241 | N11: 0.3081249 | O11: 1.9985411 | P11: 6.0492396 | Q11: 0.6941396 | R11: -0.39956483 | S11: 1.4378409 | T11: 57.628873
A12: Svilar | B12: P | C12: Roma | D12: Avg | E12: 1 | F12: 0 | G12: 0 | H12: 6.103556 | I12: 0.28194773 | J12: 5.6567446 | K12: 0.52236485 | L12: 5.9983101 | M12: 0.24584241 | N12: 0.3081249 | O12: 1.9985411 | P12: 6.0492396 | Q12: 0.6941396 | R12: -0.39956483 | S12: 1.4378409 | T12: 57.628873
A13: Provedel | B13: P | C13: Lazio | D13: Avg | E13: 1 | F13: 1 | G13: 100 | H13: 6.2421512 | I13: 0.5941447 | J13: 5.597016 | K13: 0.74772412 | L13: 6.017283 | M13: 0.51158702 | N13: 0.31127003 | O13: 1.9973072 | P13: 6.2333493 | Q13: 0.92290425 | R13: -0.48277339 | S13: 1.2813146 | T13: 55.387686
... A544: Afena-Gyan | B544: A | C544: Cremonese | D544: Avg | E544: 1 | F544: 0 | G544: 55 | H544: 5.6068311 | I544: 0.34191954 | J544: 5.7077521 | K544: 0.42791438 | L544: 5.6246033 | M544: 0.43803287 | N544: -0.030398242 | O544: 1.4841793 | P544: 5.4233923 | Q544: 0.66251493 | R544: 0.30131292 | S544: 1.991267 | T544: 0

Sheet fantacalcio
B1: Quotazioni Fantacalcio Stagione 2022 23
B2: Id | C2: R | D2: RM | E2: Nome | F2: Squadra | G2: Qt.A | H2: Qt.I | I2: Diff. | J2: Qt.A M | K2: Qt.I M | L2: Diff.M | M2: FVM | N2: FVM M
A3: =E3 -> Meret | B3: 572 | C3: P | D3: Por | E3: Meret | F3: Napoli | G3: 18 | H3: 14 | I3: 4 | J3: 18 | K3: 14 | L3: 4 | M3: 74 | N3: 74
A4: =E4 -> Provedel | B4: 2814 | C4: P | D4: Por | E4: Provedel | F4: Lazio | G4: 16 | H4: 7 | I4: 9 | J4: 16 | K4: 7 | L4: 9 | M4: 63 | N4: 63
A5: =E5 -> Vicario | B5: 4964 | C5: P | D5: Por | E5: Vicario | F5: Empoli | G5: 16 | H5: 9 | I5: 7 | J5: 16 | K5: 9 | L5: 7 | M5: 37 | N5: 37
A6: =E6 -> Szczesny | B6: 453 | C6: P | D6: Por | E6: Szczesny | F6: Juventus | G6: 14 | H6: 16 | I6: -2 | J6: 14 | K6: 16 | L6: -2 | M6: 62 | N6: 62
A7: =E7 -> Falcone | B7: 2134 | C7: P | D7: Por | E7: Falcone | F7: Lecce | G7: 14 | H7: 5 | I7: 9 | J7: 14 | K7: 5 | L7: 9 | M7: 25 | N7: 25
A8: =E8 -> Silvestri | B8: 2211 | C8: P | D8: Por | E8: Silvestri | F8: Udinese | G8: 14 | H8: 10 | I8: 4 | J8: 14 | K8: 10 | L8: 4 | M8: 34 | N8: 34
A9: =E9 -> Rui Patricio | B9: 4270 | C9: P | D9: Por | E9: Rui Patricio | F9: Roma | G9: 14 | H9: 14 | I9: 0 | J9: 14 | K9: 14 | L9: 0 | M9: 60 | N9: 60
A10: =E10 -> Onana | B10: 5830 | C10: P | D10: Por | E10: Onana | F10: Inter | G10: 13 | H10: 1 | I10: 12 | J10: 13 | K10: 1 | L10: 12 | M10: 54 | N10: 54
A11: =E11 -> Sepe | B11: 159 | C11: P | D11: Por | E11: Sepe | F11: Salernitana | G11: 12 | H11: 8 | I11: 4 | J11: 12 | K11: 8 | L11: 4 | M11: 11 | N11: 11
A12: =E12 -> Milinkovic-Savic V. | B12: 2170 | C12: P | D12: Por | E12: Milinkovic-Savic V. | F12: Torino | G12: 12 | H12: 1 | I12: 11 | J12: 12 | K12: 1 | L12: 11 | M12: 35 | N12: 35
A13: =E13 -> Musso | B13: 2792 | C13: P | D13: Por | E13: Musso | F13: Atalanta | G13: 12 | H13: 13 | I13: -1 | J13: 12 | K13: 13 | L13: -1 | M13: 46 | N13: 46
A14: =E14 -> Maignan | B14: 4312 | C14: P | D14: Por | E14: Maignan | F14: Milan | G14: 12 | H14: 18 | I14: -6 | J14: 12 | K14: 18 | L14: -6 | M14: 60 | N14: 60
... A545: =E545 -> Vivaldo | B545: 6160 | C545: A | D545: Pc | E545: Vivaldo | F545: Udinese | G545: 1 | H545: 1 | I545: 0 | J545: 1 | K545: 1 | L545: 0 | M545: 1 | N545: 1

Sheet analysis
A1: player | B1: role | C1: team | D1: oppteam | E1: home | F1: MV | G1: MV std | H1: FV | I1: FV std | J1: Clean sheet % | K1: MV loc | L1: MV scale | M1: MV skewness | N1: MV tailweight | O1: FV loc | P1: FV scale | Q1: FV skewness | R1: FV tailweight | S1: FV Potential | T1: starter | U1: vote% | V1: Mantra
A2: =data!A2 -> Vicario | B2: =data!B2 -> P | C2: =data!C2 -> Empoli | D2: =data!D2 -> Avg | E2: =data!E2 -> 1 | F2: =data!H2 -> 6.5033207 | G2: =data!I2 -> 0.52554643 | H2: =data!J2 -> 6.0216511 | I2: =data!K2 -> 0.64662898 | J2: =IF(data!T2 > 0,data!T2,"") -> 57.973814 | K2: =data!L2 -> 6.5050516 | L2: =data!M2 -> 0.70214784 | M2: =data!N2 -> 0.0020264983 | N2: =data!O2 -> 1.9967871 | O2: =data!P2 -> 6.4891162 | P2: =data!Q2 -> 0.87302125 | Q2: =data!R2 -> -0.38244954 | R2: =data!S2 -> 1.3351748 | S2: =IF(B2="P",H2-2*I2,H2+2*I2) -> 4.7283931 | T2: =data!F2 -> 1 | U2: =data!G2 -> 100 | V2: =VLOOKUP(A2,fantacalcio!A:N,4, FALSE) -> Por
A3: =data!A3 -> Ujkani | B3: =data!B3 -> P | C3: =data!C3 -> Empoli | D3: =data!D3 -> Avg | E3: =data!E3 -> 1 | F3: =data!H3 -> 6.5033207 | G3: =data!I3 -> 0.52554643 | H3: =data!J3 -> 6.0216511 | I3: =data!K3 -> 0.64662898 | J3: =IF(data!T3 > 0,data!T3,"") -> 57.973814 | K3: =data!L3 -> 6.5050516 | L3: =data!M3 -> 0.70214784 | M3: =data!N3 -> 0.0020264983 | N3: =data!O3 -> 1.9967871 | O3: =data!P3 -> 6.4891162 | P3: =data!Q3 -> 0.87302125 | Q3: =data!R3 -> -0.38244954 | R3: =data!S3 -> 1.3351748 | S3: =IF(B3="P",H3-2*I3,H3+2*I3) -> 4.7283931 | T3: =data!F3 -> 0 | U3: =data!G3 -> 0 | V3: =VLOOKUP(A3,fantacalcio!A:N,4, FALSE) -> Por
A4: =data!A4 -> Perisan | B4: =data!B4 -> P | C4: =data!C4 -> Empoli | D4: =data!D4 -> Avg | E4: =data!E4 -> 1 | F4: =data!H4 -> 6.5033207 | G4: =data!I4 -> 0.52554643 | H4: =data!J4 -> 6.0216511 | I4: =data!K4 -> 0.64662898 | J4: =IF(data!T4 > 0,data!T4,"") -> 57.973814 | K4: =data!L4 -> 6.5050516 | L4: =data!M4 -> 0.70214784 | M4: =data!N4 -> 0.0020264983 | N4: =data!O4 -> 1.9967871 | O4: =data!P4 -> 6.4891162 | P4: =data!Q4 -> 0.87302125 | Q4: =data!R4 -> -0.38244954 | R4: =data!S4 -> 1.3351748 | S4: =IF(B4="P",H4-2*I4,H4+2*I4) -> 4.7283931 | T4: =data!F4 -> 0 | U4: =data!G4 -> 0 | V4: =VLOOKUP(A4,fantacalcio!A:N,4, FALSE) -> Por
A5: =data!A5 -> Zoet | B5: =data!B5 -> P | C5: =data!C5 -> Spezia | D5: =data!D5 -> Avg | E5: =data!E5 -> 1 | F5: =data!H5 -> 6.5016044 | G5: =data!I5 -> 0.59518993 | H5: =data!J5 -> 5.8802065 | I5: =data!K5 -> 0.63744211 | J5: =IF(data!T5 > 0,data!T5,"") -> 53.765596 | K5: =data!L5 -> 6.3545637 | L5: =data!M5 -> 0.64301562 | M5: =data!N5 -> 0.16732192 | N5: =data!O5 -> 1.9960785 | O5: =data!P5 -> 6.3457971 | P5: =data!Q5 -> 0.85668635 | Q5: =data!R5 -> -0.38758969 | R5: =data!S5 -> 1.3615996 | S5: =IF(B5="P",H5-2*I5,H5+2*I5) -> 4.6053223 | T5: =data!F5 -> 0 | U5: =data!G5 -> 0 | V5: =VLOOKUP(A5,fantacalcio!A:N,4, FALSE) -> Por
A6: =data!A6 -> Musso | B6: =data!B6 -> P | C6: =data!C6 -> Atalanta | D6: =data!D6 -> Avg | E6: =data!E6 -> 1 | F6: =data!H6 -> 6.2498073 | G6: =data!I6 -> 0.50995028 | H6: =data!J6 -> 5.8363375 | I6: =data!K6 -> 0.63170707 | J6: =IF(data!T6 > 0,data!T6,"") -> 66.118824 | K6: =data!L6 -> 6.0180635 | L6: =data!M6 -> 0.35137594 | M6: =data!N6 -> 0.44447705 | N6: =data!O6 -> 1.9976211 | O6: =data!P6 -> 6.3471694 | P6: =data!Q6 -> 0.80258608 | Q6: =data!R6 -> -0.4453043 | R6: =data!S6 -> 1.3818266 | S6: =IF(B6="P",H6-2*I6,H6+2*I6) -> 4.5729234 | T6: =data!F6 -> 1 | U6: =data!G6 -> 100 | V6: =VLOOKUP(A6,fantacalcio!A:N,4, FALSE) -> Por
A7: =data!A7 -> Rossi F. | B7: =data!B7 -> P | C7: =data!C7 -> Atalanta | D7: =data!D7 -> Avg | E7: =data!E7 -> 1 | F7: =data!H7 -> 6.2498073 | G7: =data!I7 -> 0.50995028 | H7: =data!J7 -> 5.8363375 | I7: =data!K7 -> 0.63170707 | J7: =IF(data!T7 > 0,data!T7,"") -> 66.118824 | K7: =data!L7 -> 6.0180635 | L7: =data!M7 -> 0.35137594 | M7: =data!N7 -> 0.44447705 | N7: =data!O7 -> 1.9976211 | O7: =data!P7 -> 6.3471694 | P7: =data!Q7 -> 0.80258608 | Q7: =data!R7 -> -0.4453043 | R7: =data!S7 -> 1.3818266 | S7: =IF(B7="P",H7-2*I7,H7+2*I7) -> 4.5729234 | T7: =data!F7 -> 0 | U7: =data!G7 -> 0 | V7: =VLOOKUP(A7,fantacalcio!A:N,4, FALSE) -> Por
A8: =data!A8 -> Szczesny | B8: =data!B8 -> P | C8: =data!C8 -> Juventus | D8: =data!D8 -> Avg | E8: =data!E8 -> 1 | F8: =data!H8 -> 6.0852952 | G8: =data!I8 -> 0.20840466 | H8: =data!J8 -> 5.8071833 | I8: =data!K8 -> 0.48215389 | J8: =IF(data!T8 > 0,data!T8,"") -> 72.564453 | K8: =data!L8 -> 5.9974484 | L8: =data!M8 -> 0.16097268 | M8: =data!N8 -> 0.37315923 | N8: =data!O8 -> 1.9987905 | O8: =data!P8 -> 6.1974463 | P8: =data!Q8 -> 0.61016876 | Q8: =data!R8 -> -0.44426364 | R8: =data!S8 -> 1.502224 | S8: =IF(B8="P",H8-2*I8,H8+2*I8) -> 4.8428755 | T8: =data!F8 -> 1 | U8: =data!G8 -> 100 | V8: =VLOOKUP(A8,fantacalcio!A:N,4, FALSE) -> Por
A9: =data!A9 -> Pinsoglio | B9: =data!B9 -> P | C9: =data!C9 -> Juventus | D9: =data!D9 -> Avg | E9: =data!E9 -> 1 | F9: =data!H9 -> 6.0852952 | G9: =data!I9 -> 0.20840466 | H9: =data!J9 -> 5.8071833 | I9: =data!K9 -> 0.48215389 | J9: =IF(data!T9 > 0,data!T9,"") -> 72.564453 | K9: =data!L9 -> 5.9974484 | L9: =data!M9 -> 0.16097268 | M9: =data!N9 -> 0.37315923 | N9: =data!O9 -> 1.9987905 | O9: =data!P9 -> 6.1974463 | P9: =data!Q9 -> 0.61016876 | Q9: =data!R9 -> -0.44426364 | R9: =data!S9 -> 1.502224 | S9: =IF(B9="P",H9-2*I9,H9+2*I9) -> 4.8428755 | T9: =data!F9 -> 0 | U9: =data!G9 -> 0 | V9: =VLOOKUP(A9,fantacalcio!A:N,4, FALSE) -> Por
A10: =data!A10 -> Rui Patricio | B10: =data!B10 -> P | C10: =data!C10 -> Roma | D10: =data!D10 -> Avg | E10: =data!E10 -> 1 | F10: =data!H10 -> 6.103556 | G10: =data!I10 -> 0.28194773 | H10: =data!J10 -> 5.6567446 | I10: =data!K10 -> 0.52236485 | J10: =IF(data!T10 > 0,data!T10,"") -> 57.628873 | K10: =data!L10 -> 5.9983101 | L10: =data!M10 -> 0.24584241 | M10: =data!N10 -> 0.3081249 | N10: =data!O10 -> 1.9985411 | O10: =data!P10 -> 6.0492396 | P10: =data!Q10 -> 0.6941396 | Q10: =data!R10 -> -0.39956483 | R10: =data!S10 -> 1.4378409 | S10: =IF(B10="P",H10-2*I10,H10+2*I10) -> 4.6120149 | T10: =data!F10 -> 1 | U10: =data!G10 -> 100 | V10: =VLOOKUP(A10,fantacalcio!A:N,4, FALSE) -> Por
A11: =data!A11 -> Boer | B11: =data!B11 -> P | C11: =data!C11 -> Roma | D11: =data!D11 -> Avg | E11: =data!E11 -> 1 | F11: =data!H11 -> 6.103556 | G11: =data!I11 -> 0.28194773 | H11: =data!J11 -> 5.6567446 | I11: =data!K11 -> 0.52236485 | J11: =IF(data!T11 > 0,data!T11,"") -> 57.628873 | K11: =data!L11 -> 5.9983101 | L11: =data!M11 -> 0.24584241 | M11: =data!N11 -> 0.3081249 | N11: =data!O11 -> 1.9985411 | O11: =data!P11 -> 6.0492396 | P11: =data!Q11 -> 0.6941396 | Q11: =data!R11 -> -0.39956483 | R11: =data!S11 -> 1.4378409 | S11: =IF(B11="P",H11-2*I11,H11+2*I11) -> 4.6120149 | T11: =data!F11 -> 0 | U11: =data!G11 -> 0 | V11: =VLOOKUP(A11,fantacalcio!A:N,4, FALSE) -> Por
A12: =data!A12 -> Svilar | B12: =data!B12 -> P | C12: =data!C12 -> Roma | D12: =data!D12 -> Avg | E12: =data!E12 -> 1 | F12: =data!H12 -> 6.103556 | G12: =data!I12 -> 0.28194773 | H12: =data!J12 -> 5.6567446 | I12: =data!K12 -> 0.52236485 | J12: =IF(data!T12 > 0,data!T12,"") -> 57.628873 | K12: =data!L12 -> 5.9983101 | L12: =data!M12 -> 0.24584241 | M12: =data!N12 -> 0.3081249 | N12: =data!O12 -> 1.9985411 | O12: =data!P12 -> 6.0492396 | P12: =data!Q12 -> 0.6941396 | Q12: =data!R12 -> -0.39956483 | R12: =data!S12 -> 1.4378409 | S12: =IF(B12="P",H12-2*I12,H12+2*I12) -> 4.6120149 | T12: =data!F12 -> 0 | U12: =data!G12 -> 0 | V12: =VLOOKUP(A12,fantacalcio!A:N,4, FALSE) -> Por
A13: =data!A13 -> Provedel | B13: =data!B13 -> P | C13: =data!C13 -> Lazio | D13: =data!D13 -> Avg | E13: =data!E13 -> 1 | F13: =data!H13 -> 6.2421512 | G13: =data!I13 -> 0.5941447 | H13: =data!J13 -> 5.597016 | I13: =data!K13 -> 0.74772412 | J13: =IF(data!T13 > 0,data!T13,"") -> 55.387686 | K13: =data!L13 -> 6.017283 | L13: =data!M13 -> 0.51158702 | M13: =data!N13 -> 0.31127003 | N13: =data!O13 -> 1.9973072 | O13: =data!P13 -> 6.2333493 | P13: =data!Q13 -> 0.92290425 | Q13: =data!R13 -> -0.48277339 | R13: =data!S13 -> 1.2813146 | S13: =IF(B13="P",H13-2*I13,H13+2*I13) -> 4.1015677 | T13: =data!F13 -> 1 | U13: =data!G13 -> 100 | V13: =VLOOKUP(A13,fantacalcio!A:N,4, FALSE) -> Por
... A544: =data!A544 -> Afena-Gyan | B544: =data!B544 -> A | C544: =data!C544 -> Cremonese | D544: =data!D544 -> Avg | E544: =data!E544 -> 1 | F544: =data!H544 -> 5.6068311 | G544: =data!I544 -> 0.34191954 | H544: =data!J544 -> 5.7077521 | I544: =data!K544 -> 0.42791438 | J544: =IF(data!T544 > 0,data!T544,"") | K544: =data!L544 -> 5.6246033 | L544: =data!M544 -> 0.43803287 | M544: =data!N544 -> -0.030398242 | N544: =data!O544 -> 1.4841793 | O544: =data!P544 -> 5.4233923 | P544: =data!Q544 -> 0.66251493 | Q544: =data!R544 -> 0.30131292 | R544: =data!S544 -> 1.991267 | S544: =IF(B544="P",H544-2*I544,H544+2*I544) -> 6.5635809 | T544: =data!F544 -> 0 | U544: =data!G544 -> 55 | V544: =VLOOKUP(A544,fantacalcio!A:N,4, FALSE) -> A

Sheet analysis_workarea
A1: player | B1: role | C1: team | D1: oppteam | E1: home | F1: MV | G1: MV std | H1: FV | I1: FV std | J1: Clean sheet % | K1: MV loc | L1: MV scale | M1: MV skewness | N1: MV tailweight | O1: FV loc | P1: FV scale | Q1: FV skewness | R1: FV tailweight | S1: FV Potential | T1: starter | U1: vote% | V1: Mantra | W1: Corrected FV
A2: =data!A2 -> Vicario | B2: =data!B2 -> P | C2: =data!C2 -> Empoli | D2: =data!D2 -> Avg | E2: =data!E2 -> 1 | F2: =data!H2 -> 6.5033207 | G2: =data!I2 -> 0.52554643 | H2: =data!J2 -> 6.0216511 | I2: =data!K2 -> 0.64662898 | J2: =IF(data!T2 > 0,data!T2,"") -> 57.973814 | K2: =data!L2 -> 6.5050516 | L2: =data!M2 -> 0.70214784 | M2: =data!N2 -> 0.0020264983 | N2: =data!O2 -> 1.9967871 | O2: =data!P2 -> 6.4891162 | P2: =data!Q2 -> 0.87302125 | Q2: =data!R2 -> -0.38244954 | R2: =data!S2 -> 1.3351748 | S2: =IF(B2="P",H2-2*I2,H2+2*I2) -> 4.7283931 | T2: =data!F2 -> 1 | U2: =data!G2 -> 100 | V2: =VLOOKUP(A2,fantacalcio!A:N,4, FALSE) -> Por | W2: =IF(U2>70,H2,H2+1*(U2+30)/100 - 1 - 1 *(U2 <= 5)) -> 6.0216511
A3: =data!A3 -> Ujkani | B3: =data!B3 -> P | C3: =data!C3 -> Empoli | D3: =data!D3 -> Avg | E3: =data!E3 -> 1 | F3: =data!H3 -> 6.5033207 | G3: =data!I3 -> 0.52554643 | H3: =data!J3 -> 6.0216511 | I3: =data!K3 -> 0.64662898 | J3: =IF(data!T3 > 0,data!T3,"") -> 57.973814 | K3: =data!L3 -> 6.5050516 | L3: =data!M3 -> 0.70214784 | M3: =data!N3 -> 0.0020264983 | N3: =data!O3 -> 1.9967871 | O3: =data!P3 -> 6.4891162 | P3: =data!Q3 -> 0.87302125 | Q3: =data!R3 -> -0.38244954 | R3: =data!S3 -> 1.3351748 | S3: =IF(B3="P",H3-2*I3,H3+2*I3) -> 4.7283931 | T3: =data!F3 -> 0 | U3: =data!G3 -> 0 | V3: =VLOOKUP(A3,fantacalcio!A:N,4, FALSE) -> Por | W3: =IF(U3>70,H3,H3+1*(U3+30)/100 - 1 - 1 *(U3 <= 5)) -> 4.3216511
A4: =data!A4 -> Perisan | B4: =data!B4 -> P | C4: =data!C4 -> Empoli | D4: =data!D4 -> Avg | E4: =data!E4 -> 1 | F4: =data!H4 -> 6.5033207 | G4: =data!I4 -> 0.52554643 | H4: =data!J4 -> 6.0216511 | I4: =data!K4 -> 0.64662898 | J4: =IF(data!T4 > 0,data!T4,"") -> 57.973814 | K4: =data!L4 -> 6.5050516 | L4: =data!M4 -> 0.70214784 | M4: =data!N4 -> 0.0020264983 | N4: =data!O4 -> 1.9967871 | O4: =data!P4 -> 6.4891162 | P4: =data!Q4 -> 0.87302125 | Q4: =data!R4 -> -0.38244954 | R4: =data!S4 -> 1.3351748 | S4: =IF(B4="P",H4-2*I4,H4+2*I4) -> 4.7283931 | T4: =data!F4 -> 0 | U4: =data!G4 -> 0 | V4: =VLOOKUP(A4,fantacalcio!A:N,4, FALSE) -> Por | W4: =IF(U4>70,H4,H4+1*(U4+30)/100 - 1 - 1 *(U4 <= 5)) -> 4.3216511
A5: =data!A5 -> Zoet | B5: =data!B5 -> P | C5: =data!C5 -> Spezia | D5: =data!D5 -> Avg | E5: =data!E5 -> 1 | F5: =data!H5 -> 6.5016044 | G5: =data!I5 -> 0.59518993 | H5: =data!J5 -> 5.8802065 | I5: =data!K5 -> 0.63744211 | J5: =IF(data!T5 > 0,data!T5,"") -> 53.765596 | K5: =data!L5 -> 6.3545637 | L5: =data!M5 -> 0.64301562 | M5: =data!N5 -> 0.16732192 | N5: =data!O5 -> 1.9960785 | O5: =data!P5 -> 6.3457971 | P5: =data!Q5 -> 0.85668635 | Q5: =data!R5 -> -0.38758969 | R5: =data!S5 -> 1.3615996 | S5: =IF(B5="P",H5-2*I5,H5+2*I5) -> 4.6053223 | T5: =data!F5 -> 0 | U5: =data!G5 -> 0 | V5: =VLOOKUP(A5,fantacalcio!A:N,4, FALSE) -> Por | W5: =IF(U5>70,H5,H5+1*(U5+30)/100 - 1 - 1 *(U5 <= 5)) -> 4.1802065
A6: =data!A6 -> Musso | B6: =data!B6 -> P | C6: =data!C6 -> Atalanta | D6: =data!D6 -> Avg | E6: =data!E6 -> 1 | F6: =data!H6 -> 6.2498073 | G6: =data!I6 -> 0.50995028 | H6: =data!J6 -> 5.8363375 | I6: =data!K6 -> 0.63170707 | J6: =IF(data!T6 > 0,data!T6,"") -> 66.118824 | K6: =data!L6 -> 6.0180635 | L6: =data!M6 -> 0.35137594 | M6: =data!N6 -> 0.44447705 | N6: =data!O6 -> 1.9976211 | O6: =data!P6 -> 6.3471694 | P6: =data!Q6 -> 0.80258608 | Q6: =data!R6 -> -0.4453043 | R6: =data!S6 -> 1.3818266 | S6: =IF(B6="P",H6-2*I6,H6+2*I6) -> 4.5729234 | T6: =data!F6 -> 1 | U6: =data!G6 -> 100 | V6: =VLOOKUP(A6,fantacalcio!A:N,4, FALSE) -> Por | W6: =IF(U6>70,H6,H6+1*(U6+30)/100 - 1 - 1 *(U6 <= 5)) -> 5.8363375
A7: =data!A7 -> Rossi F. | B7: =data!B7 -> P | C7: =data!C7 -> Atalanta | D7: =data!D7 -> Avg | E7: =data!E7 -> 1 | F7: =data!H7 -> 6.2498073 | G7: =data!I7 -> 0.50995028 | H7: =data!J7 -> 5.8363375 | I7: =data!K7 -> 0.63170707 | J7: =IF(data!T7 > 0,data!T7,"") -> 66.118824 | K7: =data!L7 -> 6.0180635 | L7: =data!M7 -> 0.35137594 | M7: =data!N7 -> 0.44447705 | N7: =data!O7 -> 1.9976211 | O7: =data!P7 -> 6.3471694 | P7: =data!Q7 -> 0.80258608 | Q7: =data!R7 -> -0.4453043 | R7: =data!S7 -> 1.3818266 | S7: =IF(B7="P",H7-2*I7,H7+2*I7) -> 4.5729234 | T7: =data!F7 -> 0 | U7: =data!G7 -> 0 | V7: =VLOOKUP(A7,fantacalcio!A:N,4, FALSE) -> Por | W7: =IF(U7>70,H7,H7+1*(U7+30)/100 - 1 - 1 *(U7 <= 5)) -> 4.1363375
A8: =data!A8 -> Szczesny | B8: =data!B8 -> P | C8: =data!C8 -> Juventus | D8: =data!D8 -> Avg | E8: =data!E8 -> 1 | F8: =data!H8 -> 6.0852952 | G8: =data!I8 -> 0.20840466 | H8: =data!J8 -> 5.8071833 | I8: =data!K8 -> 0.48215389 | J8: =IF(data!T8 > 0,data!T8,"") -> 72.564453 | K8: =data!L8 -> 5.9974484 | L8: =data!M8 -> 0.16097268 | M8: =data!N8 -> 0.37315923 | N8: =data!O8 -> 1.9987905 | O8: =data!P8 -> 6.1974463 | P8: =data!Q8 -> 0.61016876 | Q8: =data!R8 -> -0.44426364 | R8: =data!S8 -> 1.502224 | S8: =IF(B8="P",H8-2*I8,H8+2*I8) -> 4.8428755 | T8: =data!F8 -> 1 | U8: =data!G8 -> 100 | V8: =VLOOKUP(A8,fantacalcio!A:N,4, FALSE) -> Por | W8: =IF(U8>70,H8,H8+1*(U8+30)/100 - 1 - 1 *(U8 <= 5)) -> 5.8071833
A9: =data!A9 -> Pinsoglio | B9: =data!B9 -> P | C9: =data!C9 -> Juventus | D9: =data!D9 -> Avg | E9: =data!E9 -> 1 | F9: =data!H9 -> 6.0852952 | G9: =data!I9 -> 0.20840466 | H9: =data!J9 -> 5.8071833 | I9: =data!K9 -> 0.48215389 | J9: =IF(data!T9 > 0,data!T9,"") -> 72.564453 | K9: =data!L9 -> 5.9974484 | L9: =data!M9 -> 0.16097268 | M9: =data!N9 -> 0.37315923 | N9: =data!O9 -> 1.9987905 | O9: =data!P9 -> 6.1974463 | P9: =data!Q9 -> 0.61016876 | Q9: =data!R9 -> -0.44426364 | R9: =data!S9 -> 1.502224 | S9: =IF(B9="P",H9-2*I9,H9+2*I9) -> 4.8428755 | T9: =data!F9 -> 0 | U9: =data!G9 -> 0 | V9: =VLOOKUP(A9,fantacalcio!A:N,4, FALSE) -> Por | W9: =IF(U9>70,H9,H9+1*(U9+30)/100 - 1 - 1 *(U9 <= 5)) -> 4.1071833
A10: =data!A10 -> Rui Patricio | B10: =data!B10 -> P | C10: =data!C10 -> Roma | D10: =data!D10 -> Avg | E10: =data!E10 -> 1 | F10: =data!H10 -> 6.103556 | G10: =data!I10 -> 0.28194773 | H10: =data!J10 -> 5.6567446 | I10: =data!K10 -> 0.52236485 | J10: =IF(data!T10 > 0,data!T10,"") -> 57.628873 | K10: =data!L10 -> 5.9983101 | L10: =data!M10 -> 0.24584241 | M10: =data!N10 -> 0.3081249 | N10: =data!O10 -> 1.9985411 | O10: =data!P10 -> 6.0492396 | P10: =data!Q10 -> 0.6941396 | Q10: =data!R10 -> -0.39956483 | R10: =data!S10 -> 1.4378409 | S10: =IF(B10="P",H10-2*I10,H10+2*I10) -> 4.6120149 | T10: =data!F10 -> 1 | U10: =data!G10 -> 100 | V10: =VLOOKUP(A10,fantacalcio!A:N,4, FALSE) -> Por | W10: =IF(U10>70,H10,H10+1*(U10+30)/100 - 1 - 1 *(U10 <= 5)) -> 5.6567446
A11: =data!A11 -> Boer | B11: =data!B11 -> P | C11: =data!C11 -> Roma | D11: =data!D11 -> Avg | E11: =data!E11 -> 1 | F11: =data!H11 -> 6.103556 | G11: =data!I11 -> 0.28194773 | H11: =data!J11 -> 5.6567446 | I11: =data!K11 -> 0.52236485 | J11: =IF(data!T11 > 0,data!T11,"") -> 57.628873 | K11: =data!L11 -> 5.9983101 | L11: =data!M11 -> 0.24584241 | M11: =data!N11 -> 0.3081249 | N11: =data!O11 -> 1.9985411 | O11: =data!P11 -> 6.0492396 | P11: =data!Q11 -> 0.6941396 | Q11: =data!R11 -> -0.39956483 | R11: =data!S11 -> 1.4378409 | S11: =IF(B11="P",H11-2*I11,H11+2*I11) -> 4.6120149 | T11: =data!F11 -> 0 | U11: =data!G11 -> 0 | V11: =VLOOKUP(A11,fantacalcio!A:N,4, FALSE) -> Por | W11: =IF(U11>70,H11,H11+1*(U11+30)/100 - 1 - 1 *(U11 <= 5)) -> 3.9567446
A12: =data!A12 -> Svilar | B12: =data!B12 -> P | C12: =data!C12 -> Roma | D12: =data!D12 -> Avg | E12: =data!E12 -> 1 | F12: =data!H12 -> 6.103556 | G12: =data!I12 -> 0.28194773 | H12: =data!J12 -> 5.6567446 | I12: =data!K12 -> 0.52236485 | J12: =IF(data!T12 > 0,data!T12,"") -> 57.628873 | K12: =data!L12 -> 5.9983101 | L12: =data!M12 -> 0.24584241 | M12: =data!N12 -> 0.3081249 | N12: =data!O12 -> 1.9985411 | O12: =data!P12 -> 6.0492396 | P12: =data!Q12 -> 0.6941396 | Q12: =data!R12 -> -0.39956483 | R12: =data!S12 -> 1.4378409 | S12: =IF(B12="P",H12-2*I12,H12+2*I12) -> 4.6120149 | T12: =data!F12 -> 0 | U12: =data!G12 -> 0 | V12: =VLOOKUP(A12,fantacalcio!A:N,4, FALSE) -> Por | W12: =IF(U12>70,H12,H12+1*(U12+30)/100 - 1 - 1 *(U12 <= 5)) -> 3.9567446
A13: =data!A13 -> Provedel | B13: =data!B13 -> P | C13: =data!C13 -> Lazio | D13: =data!D13 -> Avg | E13: =data!E13 -> 1 | F13: =data!H13 -> 6.2421512 | G13: =data!I13 -> 0.5941447 | H13: =data!J13 -> 5.597016 | I13: =data!K13 -> 0.74772412 | J13: =IF(data!T13 > 0,data!T13,"") -> 55.387686 | K13: =data!L13 -> 6.017283 | L13: =data!M13 -> 0.51158702 | M13: =data!N13 -> 0.31127003 | N13: =data!O13 -> 1.9973072 | O13: =data!P13 -> 6.2333493 | P13: =data!Q13 -> 0.92290425 | Q13: =data!R13 -> -0.48277339 | R13: =data!S13 -> 1.2813146 | S13: =IF(B13="P",H13-2*I13,H13+2*I13) -> 4.1015677 | T13: =data!F13 -> 1 | U13: =data!G13 -> 100 | V13: =VLOOKUP(A13,fantacalcio!A:N,4, FALSE) -> Por | W13: =IF(U13>70,H13,H13+1*(U13+30)/100 - 1 - 1 *(U13 <= 5)) -> 5.597016
... A544: =data!A544 -> Afena-Gyan | B544: =data!B544 -> A | C544: =data!C544 -> Cremonese | D544: =data!D544 -> Avg | E544: =data!E544 -> 1 | F544: =data!H544 -> 5.6068311 | G544: =data!I544 -> 0.34191954 | H544: =data!J544 -> 5.7077521 | I544: =data!K544 -> 0.42791438 | J544: =IF(data!T544 > 0,data!T544,"") | K544: =data!L544 -> 5.6246033 | L544: =data!M544 -> 0.43803287 | M544: =data!N544 -> -0.030398242 | N544: =data!O544 -> 1.4841793 | O544: =data!P544 -> 5.4233923 | P544: =data!Q544 -> 0.66251493 | Q544: =data!R544 -> 0.30131292 | R544: =data!S544 -> 1.991267 | S544: =IF(B544="P",H544-2*I544,H544+2*I544) -> 6.5635809 | T544: =data!F544 -> 0 | U544: =data!G544 -> 55 | V544: =VLOOKUP(A544,fantacalcio!A:N,4, FALSE) -> A | W544: =IF(U544>70,H544,H544+1*(U544+30)/100 - 1 - 1 *(U544 <= 5)) -> 5.5577521

Sheet graph
A1: Player | C1: =CONCATENATE($A$2," (",$D$5," vs ",$E$5,", ",IF(F5>0,"home","away"),")") -> Zielinski (Napoli vs Avg, home)
A2: Zielinski
C3: 2 | D3: 3 | E3: 4 | F3: 5 | G3: 6 | H3: 7 | I3: 8 | J3: 9 | K3: 10 | L3: 11 | M3: 12 | N3: 13 | O3: 14 | P3: 15 | Q3: 16 | R3: 17 | S3: 18 | T3: 19
C4: role | D4: team | E4: oppteam | F4: home | G4: MV | H4: MV std | I4: FV | J4: FV std | K4: Clean Sheet % | L4: MV loc | M4: MV scale | N4: MV skewness | O4: MV tailweight | P4: FV loc | Q4: FV scale | R4: FV skewness | S4: FV tailweight | T4: FV Potential | Y4: http://stats-www.open.ac.uk/TechnicalReports/sinhasinh.pdf
C5: =VLOOKUP($A$2,analysis!$A2:$S1048576,C3,FALSE) -> C | D5: =VLOOKUP($A$2,analysis!$A2:$S1048576,D3,FALSE) -> Napoli | E5: =VLOOKUP($A$2,analysis!$A2:$S1048576,E3,FALSE) -> Avg | F5: =VLOOKUP($A$2,analysis!$A2:$S1048576,F3,FALSE) -> 1 | G5: =VLOOKUP($A$2,analysis!$A2:$S1048576,G3,FALSE) -> 6.3892413 | H5: =VLOOKUP($A$2,analysis!$A2:$S1048576,H3,FALSE) -> 0.53670454 | I5: =VLOOKUP($A$2,analysis!$A2:$S1048576,I3,FALSE) -> 7.131046 | J5: =VLOOKUP($A$2,analysis!$A2:$S1048576,J3,FALSE) -> 1.2475203 | ... T5: =VLOOKUP($A$2,analysis!$A2:$S1048576,T3,FALSE) -> 9.6260867 | Y5: https://rstudio-pubs-static.s3.amazonaws.com/288278_21fcf61824774db3a6fb4ac2c706e390.html
Y6: https://stats.stackexchange.com/questions/43482/transformation-to-increase-kurtosis-and-skewness-of-normal-r-v
Y7: https://rdrr.io/cran/gamlss.dist/src/R/SHASHo2.R
G8: starter | H8: vote% | Y8: https://rdrr.io/cran/gamlss.dist/man/SHASH.html
G9: =VLOOKUP($A$2,analysis!$A2:$U1048576,20,FALSE) -> 1 | H9: =VLOOKUP($A$2,analysis!$A2:$U1048576,21,FALSE) -> 100 | Y9: https://search.r-project.org/CRAN/refmans/gamlss.dist/html/SHASH.html
B25: x | C25: mul | D25: z | E25: asinh(z) | F25: sinh | G25: cosh | H25: pdf | K25: x | L25: mul | M25: z | N25: asinh(z) | O25: sinh | P25: cosh | Q25: pdf
B26: 0 | C26: =2/SINH(LN(2+SQRT(1+2^2))*$O$5) -> 0.81490418 | D26: =(B26-$L$5)/($M$5)/C26 -> -13.657383 | E26: =LN(D26 + SQRT(1 + D26^2)) -> -3.3087651 | F26: =SINH( -$N$5 + E26 * (1/$O$5)) -> -12.07372 | G26: =SQRT(F26^2 + 1) -> 12.115062 | H26: =(G26)/($O$5*$M$5*C26*(SQRT(2*PI()*(1+D26^2)))) * EXP(- (1/2) * F26^2) -> 1.5266107e-32 | K26: 0 | L26: =2/SINH(LN(2+SQRT(1+2^2))*$S$5) -> 0.22852767 | M26: =(K26-$P$5)/($Q$5)/L26 -> -21.372286 | N26: =LN(M26 + SQRT(1 + M26^2)) -> -3.7557891 | O26: =SINH( -$R$5 + N26 * (1/$S$5)) -> -5.8930958 | P26: =SQRT(O26^2 + 1) -> 5.9773387 | Q26: =(P26)/($S$5*$Q$5*L26*(SQRT(2*PI()*(1+M26^2)))) * EXP(- (1/2) * O26^2) -> 5.7968213e-09
B27: 0.01 | C27: =2/SINH(LN(2+SQRT(1+2^2))*$O$5) -> 0.81490418 | D27: =(B27-$L$5)/($M$5)/C27 -> -13.635335 | E27: =LN(D27 + SQRT(1 + D27^2)) -> -3.3071537 | F27: =SINH( -$N$5 + E27 * (1/$O$5)) -> -12.056444 | G27: =SQRT(F27^2 + 1) -> 12.097845 | H27: =(G27)/($O$5*$M$5*C27*(SQRT(2*PI()*(1+D27^2)))) * EXP(- (1/2) * F27^2) -> 1.880745e-32 | K27: 0.01 | L27: =2/SINH(LN(2+SQRT(1+2^2))*$S$5) -> 0.22852767 | M27: =(K27-$P$5)/($Q$5)/L27 -> -21.336388 | N27: =LN(M27 + SQRT(1 + M27^2)) -> -3.7541099 | O27: =SINH( -$R$5 + N27 * (1/$S$5)) -> -5.8880413 | P27: =SQRT(O27^2 + 1) -> 5.9723555 | Q27: =(P27)/($S$5*$Q$5*L27*(SQRT(2*PI()*(1+M27^2)))) * EXP(- (1/2) * O27^2) -> 5.9770489e-09
B28: 0.02 | C28: =2/SINH(LN(2+SQRT(1+2^2))*$O$5) -> 0.81490418 | D28: =(B28-$L$5)/($M$5)/C28 -> -13.613288 | E28: =LN(D28 + SQRT(1 + D28^2)) -> -3.3055398 | F28: =SINH( -$N$5 + E28 * (1/$O$5)) -> -12.039165 | G28: =SQRT(F28^2 + 1) -> 12.080625 | H28: =(G28)/($O$5*$M$5*C28*(SQRT(2*PI()*(1+D28^2)))) * EXP(- (1/2) * F28^2) -> 2.3164276e-32 | K28: 0.02 | L28: =2/SINH(LN(2+SQRT(1+2^2))*$S$5) -> 0.22852767 | M28: =(K28-$P$5)/($Q$5)/L28 -> -21.300489 | N28: =LN(M28 + SQRT(1 + M28^2)) -> -3.7524278 | O28: =SINH( -$R$5 + N28 * (1/$S$5)) -> -5.8829825 | P28: =SQRT(O28^2 + 1) -> 5.9673682 | Q28: =(P28)/($S$5*$Q$5*L28*(SQRT(2*PI()*(1+M28^2)))) * EXP(- (1/2) * O28^2) -> 6.162886e-09
B29: 0.03 | C29: =2/SINH(LN(2+SQRT(1+2^2))*$O$5) -> 0.81490418 | D29: =(B29-$L$5)/($M$5)/C29 -> -13.59124 | E29: =LN(D29 + SQRT(1 + D29^2)) -> -3.3039233 | F29: =SINH( -$N$5 + E29 * (1/$O$5)) -> -12.021883 | G29: =SQRT(F29^2 + 1) -> 12.063402 | H29: =(G29)/($O$5*$M$5*C29*(SQRT(2*PI()*(1+D29^2)))) * EXP(- (1/2) * F29^2) -> 2.8522969e-32 | K29: 0.03 | L29: =2/SINH(LN(2+SQRT(1+2^2))*$S$5) -> 0.22852767 | M29: =(K29-$P$5)/($Q$5)/L29 -> -21.264591 | N29: =LN(M29 + SQRT(1 + M29^2)) -> -3.7507429 | O29: =SINH( -$R$5 + N29 * (1/$S$5)) -> -5.8779195 | P29: =SQRT(O29^2 + 1) -> 5.9623768 | Q29: =(P29)/($S$5*$Q$5*L29*(SQRT(2*PI()*(1+M29^2)))) * EXP(- (1/2) * O29^2) -> 6.3545074e-09
B30: 0.04 | C30: =2/SINH(LN(2+SQRT(1+2^2))*$O$5) -> 0.81490418 | D30: =(B30-$L$5)/($M$5)/C30 -> -13.569193 | E30: =LN(D30 + SQRT(1 + D30^2)) -> -3.3023042 | F30: =SINH( -$N$5 + E30 * (1/$O$5)) -> -12.004598 | G30: =SQRT(F30^2 + 1) -> 12.046177 | H30: =(G30)/($O$5*$M$5*C30*(SQRT(2*PI()*(1+D30^2)))) * EXP(- (1/2) * F30^2) -> 3.5112188e-32 | K30: 0.04 | L30: =2/SINH(LN(2+SQRT(1+2^2))*$S$5) -> 0.22852767 | M30: =(K30-$P$5)/($Q$5)/L30 -> -21.228692 | N30: =LN(M30 + SQRT(1 + M30^2)) -> -3.7490551 | O30: =SINH( -$R$5 + N30 * (1/$S$5)) -> -5.8728521 | P30: =SQRT(O30^2 + 1) -> 5.9573813 | Q30: =(P30)/($S$5*$Q$5*L30*(SQRT(2*PI()*(1+M30^2)))) * EXP(- (1/2) * O30^2) -> 6.5520935e-09
B31: 0.05 | C31: =2/SINH(LN(2+SQRT(1+2^2))*$O$5) -> 0.81490418 | D31: =(B31-$L$5)/($M$5)/C31 -> -13.547145 | E31: =LN(D31 + SQRT(1 + D31^2)) -> -3.3006825 | F31: =SINH( -$N$5 + E31 * (1/$O$5)) -> -11.98731 | G31: =SQRT(F31^2 + 1) -> 12.028948 | H31: =(G31)/($O$5*$M$5*C31*(SQRT(2*PI()*(1+D31^2)))) * EXP(- (1/2) * F31^2) -> 4.3212377e-32 | K31: 0.05 | L31: =2/SINH(LN(2+SQRT(1+2^2))*$S$5) -> 0.22852767 | M31: =(K31-$P$5)/($Q$5)/L31 -> -21.192794 | N31: =LN(M31 + SQRT(1 + M31^2)) -> -3.7473645 | O31: =SINH( -$R$5 + N31 * (1/$S$5)) -> -5.8677805 | P31: =SQRT(O31^2 + 1) -> 5.9523817 | Q31: =(P31)/($S$5*$Q$5*L31*(SQRT(2*PI()*(1+M31^2)))) * EXP(- (1/2) * O31^2) -> 6.75583e-09
B32: 0.06 | C32: =2/SINH(LN(2+SQRT(1+2^2))*$O$5) -> 0.81490418 | D32: =(B32-$L$5)/($M$5)/C32 -> -13.525098 | E32: =LN(D32 + SQRT(1 + D32^2)) -> -3.2990581 | F32: =SINH( -$N$5 + E32 * (1/$O$5)) -> -11.970018 | G32: =SQRT(F32^2 + 1) -> 12.011716 | H32: =(G32)/($O$5*$M$5*C32*(SQRT(2*PI()*(1+D32^2)))) * EXP(- (1/2) * F32^2) -> 5.3167407e-32 | K32: 0.06 | L32: =2/SINH(LN(2+SQRT(1+2^2))*$S$5) -> 0.22852767 | M32: =(K32-$P$5)/($Q$5)/L32 -> -21.156895 | N32: =LN(M32 + SQRT(1 + M32^2)) -> -3.7456711 | O32: =SINH( -$R$5 + N32 * (1/$S$5)) -> -5.8627046 | P32: =SQRT(O32^2 + 1) -> 5.947378 | Q32: =(P32)/($S$5*$Q$5*L32*(SQRT(2*PI()*(1+M32^2)))) * EXP(- (1/2) * O32^2) -> 6.9659088e-09
B33: 0.07 | C33: =2/SINH(LN(2+SQRT(1+2^2))*$O$5) -> 0.81490418 | D33: =(B33-$L$5)/($M$5)/C33 -> -13.50305 | E33: =LN(D33 + SQRT(1 + D33^2)) -> -3.2974311 | F33: =SINH( -$N$5 + E33 * (1/$O$5)) -> -11.952723 | G33: =SQRT(F33^2 + 1) -> 11.994481 | H33: =(G33)/($O$5*$M$5*C33*(SQRT(2*PI()*(1+D33^2)))) * EXP(- (1/2) * F33^2) -> 6.5398807e-32 | K33: 0.07 | L33: =2/SINH(LN(2+SQRT(1+2^2))*$S$5) -> 0.22852767 | M33: =(K33-$P$5)/($Q$5)/L33 -> -21.120997 | N33: =LN(M33 + SQRT(1 + M33^2)) -> -3.7439748 | O33: =SINH( -$R$5 + N33 * (1/$S$5)) -> -5.8576243 | P33: =SQRT(O33^2 + 1) -> 5.9423701 | Q33: =(P33)/($S$5*$Q$5*L33*(SQRT(2*PI()*(1+M33^2)))) * EXP(- (1/2) * O33^2) -> 7.1825274e-09
B34: 0.08 | C34: =2/SINH(LN(2+SQRT(1+2^2))*$O$5) -> 0.81490418 | D34: =(B34-$L$5)/($M$5)/C34 -> -13.481003 | E34: =LN(D34 + SQRT(1 + D34^2)) -> -3.2958015 | F34: =SINH( -$N$5 + E34 * (1/$O$5)) -> -11.935425 | G34: =SQRT(F34^2 + 1) -> 11.977243 | H34: =(G34)/($O$5*$M$5*C34*(SQRT(2*PI()*(1+D34^2)))) * EXP(- (1/2) * F34^2) -> 8.0423163e-32 | K34: 0.08 | L34: =2/SINH(LN(2+SQRT(1+2^2))*$S$5) -> 0.22852767 | M34: =(K34-$P$5)/($Q$5)/L34 -> -21.085098 | N34: =LN(M34 + SQRT(1 + M34^2)) -> -3.7422756 | O34: =SINH( -$R$5 + N34 * (1/$S$5)) -> -5.8525397 | P34: =SQRT(O34^2 + 1) -> 5.9373581 | Q34: =(P34)/($S$5*$Q$5*L34*(SQRT(2*PI()*(1+M34^2)))) * EXP(- (1/2) * O34^2) -> 7.4058898e-09
B35: 0.09 | C35: =2/SINH(LN(2+SQRT(1+2^2))*$O$5) -> 0.81490418 | D35: =(B35-$L$5)/($M$5)/C35 -> -13.458955 | E35: =LN(D35 + SQRT(1 + D35^2)) -> -3.2941692 | F35: =SINH( -$N$5 + E35 * (1/$O$5)) -> -11.918123 | G35: =SQRT(F35^2 + 1) -> 11.960002 | H35: =(G35)/($O$5*$M$5*C35*(SQRT(2*PI()*(1+D35^2)))) * EXP(- (1/2) * F35^2) -> 9.8873387e-32 | K35: 0.09 | L35: =2/SINH(LN(2+SQRT(1+2^2))*$S$5) -> 0.22852767 | M35: =(K35-$P$5)/($Q$5)/L35 -> -21.049199 | N35: =LN(M35 + SQRT(1 + M35^2)) -> -3.7405735 | O35: =SINH( -$R$5 + N35 * (1/$S$5)) -> -5.8474507 | P35: =SQRT(O35^2 + 1) -> 5.9323419 | Q35: =(P35)/($S$5*$Q$5*L35*(SQRT(2*PI()*(1+M35^2)))) * EXP(- (1/2) * O35^2) -> 7.636206e-09
B36: 0.1 | C36: =2/SINH(LN(2+SQRT(1+2^2))*$O$5) -> 0.81490418 | D36: =(B36-$L$5)/($M$5)/C36 -> -13.436908 | E36: =LN(D36 + SQRT(1 + D36^2)) -> -3.2925342 | F36: =SINH( -$N$5 + E36 * (1/$O$5)) -> -11.900818 | G36: =SQRT(F36^2 + 1) -> 11.942758 | H36: =(G36)/($O$5*$M$5*C36*(SQRT(2*PI()*(1+D36^2)))) * EXP(- (1/2) * F36^2) -> 1.215247e-31 | K36: 0.1 | L36: =2/SINH(LN(2+SQRT(1+2^2))*$S$5) -> 0.22852767 | M36: =(K36-$P$5)/($Q$5)/L36 -> -21.013301 | N36: =LN(M36 + SQRT(1 + M36^2)) -> -3.7388685 | O36: =SINH( -$R$5 + N36 * (1/$S$5)) -> -5.8423574 | P36: =SQRT(O36^2 + 1) -> 5.9273215 | Q36: =(P36)/($S$5*$Q$5*L36*(SQRT(2*PI()*(1+M36^2)))) * EXP(- (1/2) * O36^2) -> 7.873693e-09
B37: 0.11 | C37: =2/SINH(LN(2+SQRT(1+2^2))*$O$5) -> 0.81490418 | D37: =(B37-$L$5)/($M$5)/C37 -> -13.41486 | E37: =LN(D37 + SQRT(1 + D37^2)) -> -3.2908966 | F37: =SINH( -$N$5 + E37 * (1/$O$5)) -> -11.88351 | G37: =SQRT(F37^2 + 1) -> 11.925511 | H37: =(G37)/($O$5*$M$5*C37*(SQRT(2*PI()*(1+D37^2)))) * EXP(- (1/2) * F37^2) -> 1.4932639e-31 | K37: 0.11 | L37: =2/SINH(LN(2+SQRT(1+2^2))*$S$5) -> 0.22852767 | M37: =(K37-$P$5)/($Q$5)/L37 -> -20.977402 | N37: =LN(M37 + SQRT(1 + M37^2)) -> -3.7371606 | O37: =SINH( -$R$5 + N37 * (1/$S$5)) -> -5.8372598 | P37: =SQRT(O37^2 + 1) -> 5.922297 | Q37: =(P37)/($S$5*$Q$5*L37*(SQRT(2*PI()*(1+M37^2)))) * EXP(- (1/2) * O37^2) -> 8.1185741e-09
... B2988: 29.62 | C2988: =2/SINH(LN(2+SQRT(1+2^2))*$O$5) -> 0.81490418 | D2988: =(B2988-$L$5)/($M$5)/C2988 -> 51.647338 | E2988: =LN(D2988 + SQRT(1 + D2988^2)) -> 4.6376796 | F2988: =SINH( -$N$5 + E2988 * (1/$O$5)) -> 23.521451 | G2988: =SQRT(F2988^2 + 1) -> 23.542698 | H2988: =(G2988)/($O$5*$M$5*C2988*(SQRT(2*PI()*(1+D2988^2)))) * EXP(- (1/2) * F2988^2) -> 2.5801641e-121 | K2988: 29.62 | L2988: =2/SINH(LN(2+SQRT(1+2^2))*$S$5) -> 0.22852767 | M2988: =(K2988-$P$5)/($Q$5)/L2988 -> 84.959201 | N2988: =LN(M2988 + SQRT(1 + M2988^2)) -> 5.135353 | O2988: =SINH( -$R$5 + N2988 * (1/$S$5)) -> 3.6460051 | P2988: =SQRT(O2988^2 + 1) -> 3.7806552 | Q2988: =(P2988)/($S$5*$Q$5*L2988*(SQRT(2*PI()*(1+M2988^2)))) * EXP(- (1/2) * O2988^2) -> 4.168063e-05

Sheet goalkeepers
A1: Players | B1: role | C1: team | D1: oppteam | E1: home | F1: MV | G1: FV | H1: Potential | I1: Clean Sheet % | J1: starter | K1: vote%
B2: 2 | C2: 3 | D2: 4 | E2: 5 | F2: 6 | G2: 8 | H2: 19 | I2: 10 | J2: 20 | K2: 21
A3: Vicario | B3: =VLOOKUP($A3,analysis!$A$2:$S$1048576,B$2,FALSE) -> P | C3: =VLOOKUP($A3,analysis!$A$2:$S$1048576,C$2,FALSE) -> Empoli | D3: =VLOOKUP($A3,analysis!$A$2:$S$1048576,D$2,FALSE) -> Avg | E3: =VLOOKUP($A3,analysis!$A$2:$S$1048576,E$2,FALSE) -> 1 | F3: =VLOOKUP($A3,analysis!$A$2:$S$1048576,F$2,FALSE) -> 6.5033207 | G3: =VLOOKUP($A3,analysis!$A$2:$S$1048576,G$2,FALSE) -> 6.0216511 | H3: =VLOOKUP($A3,analysis!$A$2:$S$1048576,H$2,FALSE) -> 4.7283931 | I3: =VLOOKUP($A3,analysis!$A$2:$S$1048576,I$2,FALSE) -> 57.973814 | J3: =VLOOKUP($A3,analysis!$A$2:$U$1048576,J$2,FALSE) -> 1 | K3: =VLOOKUP($A3,analysis!$A$2:$U$1048576,K$2,FALSE) -> 100
A4: Musso | B4: =VLOOKUP($A4,analysis!$A$2:$S$1048576,B$2,FALSE) -> P | C4: =VLOOKUP($A4,analysis!$A$2:$S$1048576,C$2,FALSE) -> Atalanta | D4: =VLOOKUP($A4,analysis!$A$2:$S$1048576,D$2,FALSE) -> Avg | E4: =VLOOKUP($A4,analysis!$A$2:$S$1048576,E$2,FALSE) -> 1 | F4: =VLOOKUP($A4,analysis!$A$2:$S$1048576,F$2,FALSE) -> 6.2498073 | G4: =VLOOKUP($A4,analysis!$A$2:$S$1048576,G$2,FALSE) -> 5.8363375 | H4: =VLOOKUP($A4,analysis!$A$2:$S$1048576,H$2,FALSE) -> 4.5729234 | I4: =VLOOKUP($A4,analysis!$A$2:$S$1048576,I$2,FALSE) -> 66.118824 | J4: =VLOOKUP($A4,analysis!$A$2:$U$1048576,J$2,FALSE) -> 1 | K4: =VLOOKUP($A4,analysis!$A$2:$U$1048576,K$2,FALSE) -> 100
A5: Szczesny | B5: =VLOOKUP($A5,analysis!$A$2:$S$1048576,B$2,FALSE) -> P | C5: =VLOOKUP($A5,analysis!$A$2:$S$1048576,C$2,FALSE) -> Juventus | D5: =VLOOKUP($A5,analysis!$A$2:$S$1048576,D$2,FALSE) -> Avg | E5: =VLOOKUP($A5,analysis!$A$2:$S$1048576,E$2,FALSE) -> 1 | F5: =VLOOKUP($A5,analysis!$A$2:$S$1048576,F$2,FALSE) -> 6.0852952 | G5: =VLOOKUP($A5,analysis!$A$2:$S$1048576,G$2,FALSE) -> 5.8071833 | H5: =VLOOKUP($A5,analysis!$A$2:$S$1048576,H$2,FALSE) -> 4.8428755 | I5: =VLOOKUP($A5,analysis!$A$2:$S$1048576,I$2,FALSE) -> 72.564453 | J5: =VLOOKUP($A5,analysis!$A$2:$U$1048576,J$2,FALSE) -> 1 | K5: =VLOOKUP($A5,analysis!$A$2:$U$1048576,K$2,FALSE) -> 100
A6: Rui Patricio | B6: =VLOOKUP($A6,analysis!$A$2:$S$1048576,B$2,FALSE) -> P | C6: =VLOOKUP($A6,analysis!$A$2:$S$1048576,C$2,FALSE) -> Roma | D6: =VLOOKUP($A6,analysis!$A$2:$S$1048576,D$2,FALSE) -> Avg | E6: =VLOOKUP($A6,analysis!$A$2:$S$1048576,E$2,FALSE) -> 1 | F6: =VLOOKUP($A6,analysis!$A$2:$S$1048576,F$2,FALSE) -> 6.103556 | G6: =VLOOKUP($A6,analysis!$A$2:$S$1048576,G$2,FALSE) -> 5.6567446 | H6: =VLOOKUP($A6,analysis!$A$2:$S$1048576,H$2,FALSE) -> 4.6120149 | I6: =VLOOKUP($A6,analysis!$A$2:$S$1048576,I$2,FALSE) -> 57.628873 | J6: =VLOOKUP($A6,analysis!$A$2:$U$1048576,J$2,FALSE) -> 1 | K6: =VLOOKUP($A6,analysis!$A$2:$U$1048576,K$2,FALSE) -> 100
A7: Provedel | B7: =VLOOKUP($A7,analysis!$A$2:$S$1048576,B$2,FALSE) -> P | C7: =VLOOKUP($A7,analysis!$A$2:$S$1048576,C$2,FALSE) -> Lazio | D7: =VLOOKUP($A7,analysis!$A$2:$S$1048576,D$2,FALSE) -> Avg | E7: =VLOOKUP($A7,analysis!$A$2:$S$1048576,E$2,FALSE) -> 1 | F7: =VLOOKUP($A7,analysis!$A$2:$S$1048576,F$2,FALSE) -> 6.2421512 | G7: =VLOOKUP($A7,analysis!$A$2:$S$1048576,G$2,FALSE) -> 5.597016 | H7: =VLOOKUP($A7,analysis!$A$2:$S$1048576,H$2,FALSE) -> 4.1015677 | I7: =VLOOKUP($A7,analysis!$A$2:$S$1048576,I$2,FALSE) -> 55.387686 | J7: =VLOOKUP($A7,analysis!$A$2:$U$1048576,J$2,FALSE) -> 1 | K7: =VLOOKUP($A7,analysis!$A$2:$U$1048576,K$2,FALSE) -> 100
A8: Maignan | B8: =VLOOKUP($A8,analysis!$A$2:$S$1048576,B$2,FALSE) -> P | C8: =VLOOKUP($A8,analysis!$A$2:$S$1048576,C$2,FALSE) -> Milan | D8: =VLOOKUP($A8,analysis!$A$2:$S$1048576,D$2,FALSE) -> Avg | E8: =VLOOKUP($A8,analysis!$A$2:$S$1048576,E$2,FALSE) -> 1 | F8: =VLOOKUP($A8,analysis!$A$2:$S$1048576,F$2,FALSE) -> 6.1843102 | G8: =VLOOKUP($A8,analysis!$A$2:$S$1048576,G$2,FALSE) -> 5.5368146 | H8: =VLOOKUP($A8,analysis!$A$2:$S$1048576,H$2,FALSE) -> 4.0906528 | I8: =VLOOKUP($A8,analysis!$A$2:$S$1048576,I$2,FALSE) -> 56.120613 | J8: =VLOOKUP($A8,analysis!$A$2:$U$1048576,J$2,FALSE) -> 1 | K8: =VLOOKUP($A8,analysis!$A$2:$U$1048576,K$2,FALSE) -> 100
A9: Meret | B9: =VLOOKUP($A9,analysis!$A$2:$S$1048576,B$2,FALSE) -> P | C9: =VLOOKUP($A9,analysis!$A$2:$S$1048576,C$2,FALSE) -> Napoli | D9: =VLOOKUP($A9,analysis!$A$2:$S$1048576,D$2,FALSE) -> Avg | E9: =VLOOKUP($A9,analysis!$A$2:$S$1048576,E$2,FALSE) -> 1 | F9: =VLOOKUP($A9,analysis!$A$2:$S$1048576,F$2,FALSE) -> 6.1400985 | G9: =VLOOKUP($A9,analysis!$A$2:$S$1048576,G$2,FALSE) -> 5.4540031 | H9: =VLOOKUP($A9,analysis!$A$2:$S$1048576,H$2,FALSE) -> 3.9902674 | I9: =VLOOKUP($A9,analysis!$A$2:$S$1048576,I$2,FALSE) -> 50.806659 | J9: =VLOOKUP($A9,analysis!$A$2:$U$1048576,J$2,FALSE) -> 1 | K9: =VLOOKUP($A9,analysis!$A$2:$U$1048576,K$2,FALSE) -> 100
A10: Silvestri | B10: =VLOOKUP($A10,analysis!$A$2:$S$1048576,B$2,FALSE) -> P | C10: =VLOOKUP($A10,analysis!$A$2:$S$1048576,C$2,FALSE) -> Udinese | D10: =VLOOKUP($A10,analysis!$A$2:$S$1048576,D$2,FALSE) -> Avg | E10: =VLOOKUP($A10,analysis!$A$2:$S$1048576,E$2,FALSE) -> 1 | F10: =VLOOKUP($A10,analysis!$A$2:$S$1048576,F$2,FALSE) -> 6.2582116 | G10: =VLOOKUP($A10,analysis!$A$2:$S$1048576,G$2,FALSE) -> 5.3485041 | H10: =VLOOKUP($A10,analysis!$A$2:$S$1048576,H$2,FALSE) -> 3.6993806 | I10: =VLOOKUP($A10,analysis!$A$2:$S$1048576,I$2,FALSE) -> 32.586877 | J10: =VLOOKUP($A10,analysis!$A$2:$U$1048576,J$2,FALSE) -> 1 | K10: =VLOOKUP($A10,analysis!$A$2:$U$1048576,K$2,FALSE) -> 100
A11: Carnesecchi | B11: =VLOOKUP($A11,analysis!$A$2:$S$1048576,B$2,FALSE) -> P | C11: =VLOOKUP($A11,analysis!$A$2:$S$1048576,C$2,FALSE) -> Cremonese | D11: =VLOOKUP($A11,analysis!$A$2:$S$1048576,D$2,FALSE) -> Avg | E11: =VLOOKUP($A11,analysis!$A$2:$S$1048576,E$2,FALSE) -> 1 | F11: =VLOOKUP($A11,analysis!$A$2:$S$1048576,F$2,FALSE) -> 6.5441989 | G11: =VLOOKUP($A11,analysis!$A$2:$S$1048576,G$2,FALSE) -> 5.2901446 | H11: =VLOOKUP($A11,analysis!$A$2:$S$1048576,H$2,FALSE) -> 3.623622 | I11: =VLOOKUP($A11,analysis!$A$2:$S$1048576,I$2,FALSE) -> 16.930204 | J11: =VLOOKUP($A11,analysis!$A$2:$U$1048576,J$2,FALSE) -> 1 | K11: =VLOOKUP($A11,analysis!$A$2:$U$1048576,K$2,FALSE) -> 100
A12: Di Gregorio | B12: =VLOOKUP($A12,analysis!$A$2:$S$1048576,B$2,FALSE) -> P | C12: =VLOOKUP($A12,analysis!$A$2:$S$1048576,C$2,FALSE) -> Monza | D12: =VLOOKUP($A12,analysis!$A$2:$S$1048576,D$2,FALSE) -> Avg | E12: =VLOOKUP($A12,analysis!$A$2:$S$1048576,E$2,FALSE) -> 1 | F12: =VLOOKUP($A12,analysis!$A$2:$S$1048576,F$2,FALSE) -> 6.2060412 | G12: =VLOOKUP($A12,analysis!$A$2:$S$1048576,G$2,FALSE) -> 5.2466245 | H12: =VLOOKUP($A12,analysis!$A$2:$S$1048576,H$2,FALSE) -> 4.2117684 | I12: =VLOOKUP($A12,analysis!$A$2:$S$1048576,I$2,FALSE) -> 10.591899 | J12: =VLOOKUP($A12,analysis!$A$2:$U$1048576,J$2,FALSE) -> 1 | K12: =VLOOKUP($A12,analysis!$A$2:$U$1048576,K$2,FALSE) -> 100
A13: Falcone | B13: =VLOOKUP($A13,analysis!$A$2:$S$1048576,B$2,FALSE) -> P | C13: =VLOOKUP($A13,analysis!$A$2:$S$1048576,C$2,FALSE) -> Lecce | D13: =VLOOKUP($A13,analysis!$A$2:$S$1048576,D$2,FALSE) -> Avg | E13: =VLOOKUP($A13,analysis!$A$2:$S$1048576,E$2,FALSE) -> 1 | F13: =VLOOKUP($A13,analysis!$A$2:$S$1048576,F$2,FALSE) -> 6.249207 | G13: =VLOOKUP($A13,analysis!$A$2:$S$1048576,G$2,FALSE) -> 5.2039666 | H13: =VLOOKUP($A13,analysis!$A$2:$S$1048576,H$2,FALSE) -> 4.3833609 | I13: =VLOOKUP($A13,analysis!$A$2:$S$1048576,I$2,FALSE) -> 9.9858597 | J13: =VLOOKUP($A13,analysis!$A$2:$U$1048576,J$2,FALSE) -> 1 | K13: =VLOOKUP($A13,analysis!$A$2:$U$1048576,K$2,FALSE) -> 100
A14: Onana | B14: =VLOOKUP($A14,analysis!$A$2:$S$1048576,B$2,FALSE) -> P | C14: =VLOOKUP($A14,analysis!$A$2:$S$1048576,C$2,FALSE) -> Inter | D14: =VLOOKUP($A14,analysis!$A$2:$S$1048576,D$2,FALSE) -> Avg | E14: =VLOOKUP($A14,analysis!$A$2:$S$1048576,E$2,FALSE) -> 1 | F14: =VLOOKUP($A14,analysis!$A$2:$S$1048576,F$2,FALSE) -> 6.2143207 | G14: =VLOOKUP($A14,analysis!$A$2:$S$1048576,G$2,FALSE) -> 4.8897798 | H14: =VLOOKUP($A14,analysis!$A$2:$S$1048576,H$2,FALSE) -> 3.4142399 | I14: =VLOOKUP($A14,analysis!$A$2:$S$1048576,I$2,FALSE) -> 14.971391 | J14: =VLOOKUP($A14,analysis!$A$2:$U$1048576,J$2,FALSE) -> 1 | K14: =VLOOKUP($A14,analysis!$A$2:$U$1048576,K$2,FALSE) -> 100
... A29: Tatarusanu | B29: =VLOOKUP($A29,analysis!$A$2:$S$1048576,B$2,FALSE) -> P | C29: =VLOOKUP($A29,analysis!$A$2:$S$1048576,C$2,FALSE) -> Milan | D29: =VLOOKUP($A29,analysis!$A$2:$S$1048576,D$2,FALSE) -> Avg | E29: =VLOOKUP($A29,analysis!$A$2:$S$1048576,E$2,FALSE) -> 1 | F29: =VLOOKUP($A29,analysis!$A$2:$S$1048576,F$2,FALSE) -> 5.980355 | G29: =VLOOKUP($A29,analysis!$A$2:$S$1048576,G$2,FALSE) -> 3.7804497 | H29: =VLOOKUP($A29,analysis!$A$2:$S$1048576,H$2,FALSE) -> 2.5640366 | I29: =VLOOKUP($A29,analysis!$A$2:$S$1048576,I$2,FALSE) -> 0.85272663 | J29: =VLOOKUP($A29,analysis!$A$2:$U$1048576,J$2,FALSE) -> 0 | K29: =VLOOKUP($A29,analysis!$A$2:$U$1048576,K$2,FALSE) -> 0

Sheet my_team_1
A1: Players | B1: role | C1: team | D1: oppteam | E1: home | F1: MV | G1: FV | H1: Potential | I1: Clean Sheet % | J1: starter | K1: vote% | L1: Lineup
B2: 22 | C2: 3 | D2: 4 | E2: 5 | F2: 6 | G2: 8 | H2: 19 | I2: 10 | J2: 20 | K2: 21
A3: Szczesny | B3: =VLOOKUP($A3,analysis!$A$2:$V$1048576,B$2,FALSE) -> Por | C3: =VLOOKUP($A3,analysis!$A$2:$S$1048576,C$2,FALSE) -> Juventus | D3: =VLOOKUP($A3,analysis!$A$2:$S$1048576,D$2,FALSE) -> Avg | E3: =VLOOKUP($A3,analysis!$A$2:$S$1048576,E$2,FALSE) -> 1 | F3: =VLOOKUP($A3,analysis!$A$2:$S$1048576,F$2,FALSE) -> 6.0852952 | G3: =VLOOKUP($A3,analysis!$A$2:$S$1048576,G$2,FALSE) -> 5.8071833 | H3: =VLOOKUP($A3,analysis!$A$2:$S$1048576,H$2,FALSE) -> 4.8428755 | I3: =VLOOKUP($A3,analysis!$A$2:$S$1048576,I$2,FALSE) -> 72.564453 | J3: =VLOOKUP($A3,analysis!$A$2:$U$1048576,J$2,FALSE) -> 1 | K3: =VLOOKUP($A3,analysis!$A$2:$V$1048576,K$2,FALSE) -> 100 | L3: x | M3: =IF(L3="x",G3,"") -> 5.8071833
A4: Perin | B4: =VLOOKUP($A4,analysis!$A$2:$V$1048576,B$2,FALSE) -> Por | C4: =VLOOKUP($A4,analysis!$A$2:$S$1048576,C$2,FALSE) -> Juventus | D4: =VLOOKUP($A4,analysis!$A$2:$S$1048576,D$2,FALSE) -> Avg | E4: =VLOOKUP($A4,analysis!$A$2:$S$1048576,E$2,FALSE) -> 1 | F4: =VLOOKUP($A4,analysis!$A$2:$S$1048576,F$2,FALSE) -> 6.2591875 | G4: =VLOOKUP($A4,analysis!$A$2:$S$1048576,G$2,FALSE) -> 5.5502171 | H4: =VLOOKUP($A4,analysis!$A$2:$S$1048576,H$2,FALSE) -> 3.9744156 | I4: =VLOOKUP($A4,analysis!$A$2:$S$1048576,I$2,FALSE) -> 52.081817 | J4: =VLOOKUP($A4,analysis!$A$2:$U$1048576,J$2,FALSE) -> 0 | K4: =VLOOKUP($A4,analysis!$A$2:$U$1048576,K$2,FALSE) -> 0 | M4: =IF(L4="x",G4,"")
A5: Milinkovic-Savic V. | B5: =VLOOKUP($A5,analysis!$A$2:$V$1048576,B$2,FALSE) -> Por | C5: =VLOOKUP($A5,analysis!$A$2:$S$1048576,C$2,FALSE) -> Torino | D5: =VLOOKUP($A5,analysis!$A$2:$S$1048576,D$2,FALSE) -> Avg | E5: =VLOOKUP($A5,analysis!$A$2:$S$1048576,E$2,FALSE) -> 1 | F5: =VLOOKUP($A5,analysis!$A$2:$S$1048576,F$2,FALSE) -> 6.0154448 | G5: =VLOOKUP($A5,analysis!$A$2:$S$1048576,G$2,FALSE) -> 4.8835133 | H5: =VLOOKUP($A5,analysis!$A$2:$S$1048576,H$2,FALSE) -> 3.9529176 | I5: =VLOOKUP($A5,analysis!$A$2:$S$1048576,I$2,FALSE) -> 10.519904 | J5: =VLOOKUP($A5,analysis!$A$2:$U$1048576,J$2,FALSE) -> 1 | K5: =VLOOKUP($A5,analysis!$A$2:$U$1048576,K$2,FALSE) -> 100 | M5: =IF(L5="x",G5,"")
A6: Kim | B6: =VLOOKUP($A6,analysis!$A$2:$V$1048576,B$2,FALSE) -> Dc | C6: =VLOOKUP($A6,analysis!$A$2:$S$1048576,C$2,FALSE) -> Napoli | D6: =VLOOKUP($A6,analysis!$A$2:$S$1048576,D$2,FALSE) -> Avg | E6: =VLOOKUP($A6,analysis!$A$2:$S$1048576,E$2,FALSE) -> 1 | F6: =VLOOKUP($A6,analysis!$A$2:$S$1048576,F$2,FALSE) -> 6.2144523 | G6: =VLOOKUP($A6,analysis!$A$2:$S$1048576,G$2,FALSE) -> 6.6350802 | H6: =VLOOKUP($A6,analysis!$A$2:$S$1048576,H$2,FALSE) -> 8.1224479 | I6: =VLOOKUP($A6,analysis!$A$2:$S$1048576,I$2,FALSE) | J6: =VLOOKUP($A6,analysis!$A$2:$U$1048576,J$2,FALSE) -> 1 | K6: =VLOOKUP($A6,analysis!$A$2:$U$1048576,K$2,FALSE) -> 95 | L6: x | M6: =IF(L6="x",G6,"") -> 6.6350802 | P6: =COUNT(M:M) -> 11 | Q6: /11
A7: Bastoni | B7: =VLOOKUP($A7,analysis!$A$2:$V$1048576,B$2,FALSE) -> Dc | C7: =VLOOKUP($A7,analysis!$A$2:$S$1048576,C$2,FALSE) -> Inter | D7: =VLOOKUP($A7,analysis!$A$2:$S$1048576,D$2,FALSE) -> Avg | E7: =VLOOKUP($A7,analysis!$A$2:$S$1048576,E$2,FALSE) -> 1 | F7: =VLOOKUP($A7,analysis!$A$2:$S$1048576,F$2,FALSE) -> 6.0377571 | G7: =VLOOKUP($A7,analysis!$A$2:$S$1048576,G$2,FALSE) -> 6.2334428 | H7: =VLOOKUP($A7,analysis!$A$2:$S$1048576,H$2,FALSE) -> 7.3235249 | I7: =VLOOKUP($A7,analysis!$A$2:$S$1048576,I$2,FALSE) | J7: =VLOOKUP($A7,analysis!$A$2:$U$1048576,J$2,FALSE) -> 1 | K7: =VLOOKUP($A7,analysis!$A$2:$U$1048576,K$2,FALSE) -> 80 | L7: x | M7: =IF(L7="x",G7,"") -> 6.2334428
A8: Demiral | B8: =VLOOKUP($A8,analysis!$A$2:$V$1048576,B$2,FALSE) -> Dc | C8: =VLOOKUP($A8,analysis!$A$2:$S$1048576,C$2,FALSE) -> Atalanta | D8: =VLOOKUP($A8,analysis!$A$2:$S$1048576,D$2,FALSE) -> Avg | E8: =VLOOKUP($A8,analysis!$A$2:$S$1048576,E$2,FALSE) -> 1 | F8: =VLOOKUP($A8,analysis!$A$2:$S$1048576,F$2,FALSE) -> 6.0400337 | G8: =VLOOKUP($A8,analysis!$A$2:$S$1048576,G$2,FALSE) -> 6.2924528 | H8: =VLOOKUP($A8,analysis!$A$2:$S$1048576,H$2,FALSE) -> 7.5870505 | I8: =VLOOKUP($A8,analysis!$A$2:$S$1048576,I$2,FALSE) | J8: =VLOOKUP($A8,analysis!$A$2:$U$1048576,J$2,FALSE) -> 1 | K8: =VLOOKUP($A8,analysis!$A$2:$U$1048576,K$2,FALSE) -> 85 | L8: x | M8: =IF(L8="x",G8,"") -> 6.2924528 | P8: TOT FV: | Q8: =SUM(M:M) -> 75.208537
A9: Bijol | B9: =VLOOKUP($A9,analysis!$A$2:$V$1048576,B$2,FALSE) -> Dc | C9: =VLOOKUP($A9,analysis!$A$2:$S$1048576,C$2,FALSE) -> Udinese | D9: =VLOOKUP($A9,analysis!$A$2:$S$1048576,D$2,FALSE) -> Avg | E9: =VLOOKUP($A9,analysis!$A$2:$S$1048576,E$2,FALSE) -> 1 | F9: =VLOOKUP($A9,analysis!$A$2:$S$1048576,F$2,FALSE) -> 5.9518599 | G9: =VLOOKUP($A9,analysis!$A$2:$S$1048576,G$2,FALSE) -> 6.1657382 | H9: =VLOOKUP($A9,analysis!$A$2:$S$1048576,H$2,FALSE) -> 7.6662578 | I9: =VLOOKUP($A9,analysis!$A$2:$S$1048576,I$2,FALSE) | J9: =VLOOKUP($A9,analysis!$A$2:$U$1048576,J$2,FALSE) -> 1 | K9: =VLOOKUP($A9,analysis!$A$2:$U$1048576,K$2,FALSE) -> 80 | M9: =IF(L9="x",G9,"")
A10: Fazio | B10: =VLOOKUP($A10,analysis!$A$2:$V$1048576,B$2,FALSE) -> Dc | C10: =VLOOKUP($A10,analysis!$A$2:$S$1048576,C$2,FALSE) -> Salernitana | D10: =VLOOKUP($A10,analysis!$A$2:$S$1048576,D$2,FALSE) -> Avg | E10: =VLOOKUP($A10,analysis!$A$2:$S$1048576,E$2,FALSE) -> 1 | F10: =VLOOKUP($A10,analysis!$A$2:$S$1048576,F$2,FALSE) -> 5.717479 | G10: =VLOOKUP($A10,analysis!$A$2:$S$1048576,G$2,FALSE) -> 5.7219685 | H10: =VLOOKUP($A10,analysis!$A$2:$S$1048576,H$2,FALSE) -> 7.1779643 | I10: =VLOOKUP($A10,analysis!$A$2:$S$1048576,I$2,FALSE) | J10: =VLOOKUP($A10,analysis!$A$2:$U$1048576,J$2,FALSE) -> 0 | K10: =VLOOKUP($A10,analysis!$A$2:$U$1048576,K$2,FALSE) -> 60 | M10: =IF(L10="x",G10,"")
A11: Patric | B11: =VLOOKUP($A11,analysis!$A$2:$V$1048576,B$2,FALSE) -> Dd;Dc | C11: =VLOOKUP($A11,analysis!$A$2:$S$1048576,C$2,FALSE) -> Lazio | D11: =VLOOKUP($A11,analysis!$A$2:$S$1048576,D$2,FALSE) -> Avg | E11: =VLOOKUP($A11,analysis!$A$2:$S$1048576,E$2,FALSE) -> 1 | F11: =VLOOKUP($A11,analysis!$A$2:$S$1048576,F$2,FALSE) -> 6.0604402 | G11: =VLOOKUP($A11,analysis!$A$2:$S$1048576,G$2,FALSE) -> 6.1923434 | H11: =VLOOKUP($A11,analysis!$A$2:$S$1048576,H$2,FALSE) -> 7.0464291 | I11: =VLOOKUP($A11,analysis!$A$2:$S$1048576,I$2,FALSE) | J11: =VLOOKUP($A11,analysis!$A$2:$U$1048576,J$2,FALSE) -> 0 | K11: =VLOOKUP($A11,analysis!$A$2:$U$1048576,K$2,FALSE) -> 50 | M11: =IF(L11="x",G11,"")
A12: Gendrey | B12: =VLOOKUP($A12,analysis!$A$2:$V$1048576,B$2,FALSE) -> Dd;Dc | C12: =VLOOKUP($A12,analysis!$A$2:$S$1048576,C$2,FALSE) -> Lecce | D12: =VLOOKUP($A12,analysis!$A$2:$S$1048576,D$2,FALSE) -> Avg | E12: =VLOOKUP($A12,analysis!$A$2:$S$1048576,E$2,FALSE) -> 1 | F12: =VLOOKUP($A12,analysis!$A$2:$S$1048576,F$2,FALSE) -> 5.8231526 | G12: =VLOOKUP($A12,analysis!$A$2:$S$1048576,G$2,FALSE) -> 5.7650154 | H12: =VLOOKUP($A12,analysis!$A$2:$S$1048576,H$2,FALSE) -> 6.326597 | I12: =VLOOKUP($A12,analysis!$A$2:$S$1048576,I$2,FALSE) | J12: =VLOOKUP($A12,analysis!$A$2:$U$1048576,J$2,FALSE) -> 1 | K12: =VLOOKUP($A12,analysis!$A$2:$U$1048576,K$2,FALSE) -> 100 | M12: =IF(L12="x",G12,"")
A13: Bianchetti | B13: =VLOOKUP($A13,analysis!$A$2:$V$1048576,B$2,FALSE) -> Dd;Dc | C13: =VLOOKUP($A13,analysis!$A$2:$S$1048576,C$2,FALSE) -> Cremonese | D13: =VLOOKUP($A13,analysis!$A$2:$S$1048576,D$2,FALSE) -> Avg | E13: =VLOOKUP($A13,analysis!$A$2:$S$1048576,E$2,FALSE) -> 1 | F13: =VLOOKUP($A13,analysis!$A$2:$S$1048576,F$2,FALSE) -> 5.6726335 | G13: =VLOOKUP($A13,analysis!$A$2:$S$1048576,G$2,FALSE) -> 5.7750672 | H13: =VLOOKUP($A13,analysis!$A$2:$S$1048576,H$2,FALSE) -> 6.8802468 | I13: =VLOOKUP($A13,analysis!$A$2:$S$1048576,I$2,FALSE) | J13: =VLOOKUP($A13,analysis!$A$2:$U$1048576,J$2,FALSE) -> 1 | K13: =VLOOKUP($A13,analysis!$A$2:$U$1048576,K$2,FALSE) -> 75 | M13: =IF(L13="x",G13,"")
A14: Di Lorenzo | B14: =VLOOKUP($A14,analysis!$A$2:$V$1048576,B$2,FALSE) -> Dd;E | C14: =VLOOKUP($A14,analysis!$A$2:$S$1048576,C$2,FALSE) -> Napoli | D14: =VLOOKUP($A14,analysis!$A$2:$S$1048576,D$2,FALSE) -> Avg | E14: =VLOOKUP($A14,analysis!$A$2:$S$1048576,E$2,FALSE) -> 1 | F14: =VLOOKUP($A14,analysis!$A$2:$S$1048576,F$2,FALSE) -> 6.1519069 | G14: =VLOOKUP($A14,analysis!$A$2:$S$1048576,G$2,FALSE) -> 6.4777348 | H14: =VLOOKUP($A14,analysis!$A$2:$S$1048576,H$2,FALSE) -> 7.6942448 | I14: =VLOOKUP($A14,analysis!$A$2:$S$1048576,I$2,FALSE) | J14: =VLOOKUP($A14,analysis!$A$2:$U$1048576,J$2,FALSE) -> 1 | K14: =VLOOKUP($A14,analysis!$A$2:$U$1048576,K$2,FALSE) -> 100 | L14: x | M14: =IF(L14="x",G14,"") -> 6.4777348
A15: Lazzari | B15: =VLOOKUP($A15,analysis!$A$2:$V$1048576,B$2,FALSE) -> Dd;E | C15: =VLOOKUP($A15,analysis!$A$2:$S$1048576,C$2,FALSE) -> Lazio | D15: =VLOOKUP($A15,analysis!$A$2:$S$1048576,D$2,FALSE) -> Avg | E15: =VLOOKUP($A15,analysis!$A$2:$S$1048576,E$2,FALSE) -> 1 | F15: =VLOOKUP($A15,analysis!$A$2:$S$1048576,F$2,FALSE) -> 6.0547001 | G15: =VLOOKUP($A15,analysis!$A$2:$S$1048576,G$2,FALSE) -> 6.0874869 | H15: =VLOOKUP($A15,analysis!$A$2:$S$1048576,H$2,FALSE) -> 6.8267199 | I15: =VLOOKUP($A15,analysis!$A$2:$S$1048576,I$2,FALSE) | J15: =VLOOKUP($A15,analysis!$A$2:$U$1048576,J$2,FALSE) -> 1 | K15: =VLOOKUP($A15,analysis!$A$2:$U$1048576,K$2,FALSE) -> 85 | M15: =IF(L15="x",G15,"")
A16: Valeri | B16: =VLOOKUP($A16,analysis!$A$2:$V$1048576,B$2,FALSE) -> Ds;E | C16: =VLOOKUP($A16,analysis!$A$2:$S$1048576,C$2,FALSE) -> Cremonese | D16: =VLOOKUP($A16,analysis!$A$2:$S$1048576,D$2,FALSE) -> Avg | E16: =VLOOKUP($A16,analysis!$A$2:$S$1048576,E$2,FALSE) -> 1 | F16: =VLOOKUP($A16,analysis!$A$2:$S$1048576,F$2,FALSE) -> 6.0330887 | G16: =VLOOKUP($A16,analysis!$A$2:$S$1048576,G$2,FALSE) -> 6.2677621 | H16: =VLOOKUP($A16,analysis!$A$2:$S$1048576,H$2,FALSE) -> 7.4301754 | I16: =VLOOKUP($A16,analysis!$A$2:$S$1048576,I$2,FALSE) | J16: =VLOOKUP($A16,analysis!$A$2:$U$1048576,J$2,FALSE) -> 1 | K16: =VLOOKUP($A16,analysis!$A$2:$U$1048576,K$2,FALSE) -> 95 | M16: =IF(L16="x",G16,"")
A17: Bastoni S. | B17: =VLOOKUP($A17,analysis!$A$2:$V$1048576,B$2,FALSE) -> E;C | C17: =VLOOKUP($A17,analysis!$A$2:$S$1048576,C$2,FALSE) -> Spezia | D17: =VLOOKUP($A17,analysis!$A$2:$S$1048576,D$2,FALSE) -> Avg | E17: =VLOOKUP($A17,analysis!$A$2:$S$1048576,E$2,FALSE) -> 1 | F17: =VLOOKUP($A17,analysis!$A$2:$S$1048576,F$2,FALSE) -> 6.0879181 | G17: =VLOOKUP($A17,analysis!$A$2:$S$1048576,G$2,FALSE) -> 6.6647152 | H17: =VLOOKUP($A17,analysis!$A$2:$S$1048576,H$2,FALSE) -> 8.7617551 | I17: =VLOOKUP($A17,analysis!$A$2:$S$1048576,I$2,FALSE) | J17: =VLOOKUP($A17,analysis!$A$2:$U$1048576,J$2,FALSE) -> 0 | K17: =VLOOKUP($A17,analysis!$A$2:$U$1048576,K$2,FALSE) -> 65 | M17: =IF(L17="x",G17,"")
A18: Gosens | B18: =VLOOKUP($A18,analysis!$A$2:$V$1048576,B$2,FALSE) -> E | C18: =VLOOKUP($A18,analysis!$A$2:$S$1048576,C$2,FALSE) -> Inter | D18: =VLOOKUP($A18,analysis!$A$2:$S$1048576,D$2,FALSE) -> Avg | E18: =VLOOKUP($A18,analysis!$A$2:$S$1048576,E$2,FALSE) -> 1 | F18: =VLOOKUP($A18,analysis!$A$2:$S$1048576,F$2,FALSE) -> 5.9899115 | G18: =VLOOKUP($A18,analysis!$A$2:$S$1048576,G$2,FALSE) -> 6.2283951 | H18: =VLOOKUP($A18,analysis!$A$2:$S$1048576,H$2,FALSE) -> 7.473704 | I18: =VLOOKUP($A18,analysis!$A$2:$S$1048576,I$2,FALSE) | J18: =VLOOKUP($A18,analysis!$A$2:$U$1048576,J$2,FALSE) -> 0 | K18: =VLOOKUP($A18,analysis!$A$2:$U$1048576,K$2,FALSE) -> 85 | M18: =IF(L18="x",G18,"")
A19: Darmian | B19: =VLOOKUP($A19,analysis!$A$2:$V$1048576,B$2,FALSE) -> E | C19: =VLOOKUP($A19,analysis!$A$2:$S$1048576,C$2,FALSE) -> Inter | D19: =VLOOKUP($A19,analysis!$A$2:$S$1048576,D$2,FALSE) -> Avg | E19: =VLOOKUP($A19,analysis!$A$2:$S$1048576,E$2,FALSE) -> 1 | F19: =VLOOKUP($A19,analysis!$A$2:$S$1048576,F$2,FALSE) -> 6.0695411 | G19: =VLOOKUP($A19,analysis!$A$2:$S$1048576,G$2,FALSE) -> 6.39814 | H19: =VLOOKUP($A19,analysis!$A$2:$S$1048576,H$2,FALSE) -> 7.7059325 | I19: =VLOOKUP($A19,analysis!$A$2:$S$1048576,I$2,FALSE) | J19: =VLOOKUP($A19,analysis!$A$2:$U$1048576,J$2,FALSE) -> 1 | K19: =VLOOKUP($A19,analysis!$A$2:$U$1048576,K$2,FALSE) -> 75 | M19: =IF(L19="x",G19,"")
A20: Kostic | B20: =VLOOKUP($A20,analysis!$A$2:$V$1048576,B$2,FALSE) -> E;W | C20: =VLOOKUP($A20,analysis!$A$2:$S$1048576,C$2,FALSE) -> Juventus | D20: =VLOOKUP($A20,analysis!$A$2:$S$1048576,D$2,FALSE) -> Avg | E20: =VLOOKUP($A20,analysis!$A$2:$S$1048576,E$2,FALSE) -> 1 | F20: =VLOOKUP($A20,analysis!$A$2:$S$1048576,F$2,FALSE) -> 6.0866762 | G20: =VLOOKUP($A20,analysis!$A$2:$S$1048576,G$2,FALSE) -> 6.6495853 | H20: =VLOOKUP($A20,analysis!$A$2:$S$1048576,H$2,FALSE) -> 8.6736885 | I20: =VLOOKUP($A20,analysis!$A$2:$S$1048576,I$2,FALSE) | J20: =VLOOKUP($A20,analysis!$A$2:$U$1048576,J$2,FALSE) -> 1 | K20: =VLOOKUP($A20,analysis!$A$2:$U$1048576,K$2,FALSE) -> 100 | L20: x | M20: =IF(L20="x",G20,"") -> 6.6495853
A21: Winks | B21: =VLOOKUP($A21,analysis!$A$2:$V$1048576,B$2,FALSE) -> M;C | C21: =VLOOKUP($A21,analysis!$A$2:$S$1048576,C$2,FALSE) -> Sampdoria | D21: =VLOOKUP($A21,analysis!$A$2:$S$1048576,D$2,FALSE) -> Avg | E21: =VLOOKUP($A21,analysis!$A$2:$S$1048576,E$2,FALSE) -> 1 | F21: =VLOOKUP($A21,analysis!$A$2:$S$1048576,F$2,FALSE) -> 5.858732 | G21: =VLOOKUP($A21,analysis!$A$2:$S$1048576,G$2,FALSE) -> 5.947989 | H21: =VLOOKUP($A21,analysis!$A$2:$S$1048576,H$2,FALSE) -> 7.1279383 | I21: =VLOOKUP($A21,analysis!$A$2:$S$1048576,I$2,FALSE) | J21: =VLOOKUP($A21,analysis!$A$2:$U$1048576,J$2,FALSE) -> 0 | K21: =VLOOKUP($A21,analysis!$A$2:$U$1048576,K$2,FALSE) -> 15 | M21: =IF(L21="x",G21,"")
A22: Barella | B22: =VLOOKUP($A22,analysis!$A$2:$V$1048576,B$2,FALSE) -> C | C22: =VLOOKUP($A22,analysis!$A$2:$S$1048576,C$2,FALSE) -> Inter | D22: =VLOOKUP($A22,analysis!$A$2:$S$1048576,D$2,FALSE) -> Avg | E22: =VLOOKUP($A22,analysis!$A$2:$S$1048576,E$2,FALSE) -> 1 | F22: =VLOOKUP($A22,analysis!$A$2:$S$1048576,F$2,FALSE) -> 6.3483357 | G22: =VLOOKUP($A22,analysis!$A$2:$S$1048576,G$2,FALSE) -> 7.4410466 | H22: =VLOOKUP($A22,analysis!$A$2:$S$1048576,H$2,FALSE) -> 10.876114 | I22: =VLOOKUP($A22,analysis!$A$2:$S$1048576,I$2,FALSE) | J22: =VLOOKUP($A22,analysis!$A$2:$U$1048576,J$2,FALSE) -> 1 | K22: =VLOOKUP($A22,analysis!$A$2:$U$1048576,K$2,FALSE) -> 95 | L22: x | M22: =IF(L22="x",G22,"") -> 7.4410466
A23: Frattesi | B23: =VLOOKUP($A23,analysis!$A$2:$V$1048576,B$2,FALSE) -> C | C23: =VLOOKUP($A23,analysis!$A$2:$S$1048576,C$2,FALSE) -> Sassuolo | D23: =VLOOKUP($A23,analysis!$A$2:$S$1048576,D$2,FALSE) -> Avg | E23: =VLOOKUP($A23,analysis!$A$2:$S$1048576,E$2,FALSE) -> 1 | F23: =VLOOKUP($A23,analysis!$A$2:$S$1048576,F$2,FALSE) -> 6.221866 | G23: =VLOOKUP($A23,analysis!$A$2:$S$1048576,G$2,FALSE) -> 7.1831157 | H23: =VLOOKUP($A23,analysis!$A$2:$S$1048576,H$2,FALSE) -> 10.497463 | I23: =VLOOKUP($A23,analysis!$A$2:$S$1048576,I$2,FALSE) | J23: =VLOOKUP($A23,analysis!$A$2:$U$1048576,J$2,FALSE) -> 1 | K23: =VLOOKUP($A23,analysis!$A$2:$U$1048576,K$2,FALSE) -> 100 | L23: x | M23: =IF(L23="x",G23,"") -> 7.1831157
A24: Pobega | B24: =VLOOKUP($A24,analysis!$A$2:$V$1048576,B$2,FALSE) -> C;T | C24: =VLOOKUP($A24,analysis!$A$2:$S$1048576,C$2,FALSE) -> Milan | D24: =VLOOKUP($A24,analysis!$A$2:$S$1048576,D$2,FALSE) -> Avg | E24: =VLOOKUP($A24,analysis!$A$2:$S$1048576,E$2,FALSE) -> 1 | F24: =VLOOKUP($A24,analysis!$A$2:$S$1048576,F$2,FALSE) -> 5.981464 | G24: =VLOOKUP($A24,analysis!$A$2:$S$1048576,G$2,FALSE) -> 6.3783494 | H24: =VLOOKUP($A24,analysis!$A$2:$S$1048576,H$2,FALSE) -> 8.0167611 | I24: =VLOOKUP($A24,analysis!$A$2:$S$1048576,I$2,FALSE) | J24: =VLOOKUP($A24,analysis!$A$2:$U$1048576,J$2,FALSE) -> 0 | K24: =VLOOKUP($A24,analysis!$A$2:$U$1048576,K$2,FALSE) -> 60 | M24: =IF(L24="x",G24,"")
A25: Strefezza | B25: =VLOOKUP($A25,analysis!$A$2:$V$1048576,B$2,FALSE) -> W | C25: =VLOOKUP($A25,analysis!$A$2:$S$1048576,C$2,FALSE) -> Lecce | D25: =VLOOKUP($A25,analysis!$A$2:$S$1048576,D$2,FALSE) -> Avg | E25: =VLOOKUP($A25,analysis!$A$2:$S$1048576,E$2,FALSE) -> 1 | F25: =VLOOKUP($A25,analysis!$A$2:$S$1048576,F$2,FALSE) -> 6.3629762 | G25: =VLOOKUP($A25,analysis!$A$2:$S$1048576,G$2,FALSE) -> 7.1194046 | H25: =VLOOKUP($A25,analysis!$A$2:$S$1048576,H$2,FALSE) -> 9.6880026 | I25: =VLOOKUP($A25,analysis!$A$2:$S$1048576,I$2,FALSE) | J25: =VLOOKUP($A25,analysis!$A$2:$U$1048576,J$2,FALSE) -> 1 | K25: =VLOOKUP($A25,analysis!$A$2:$U$1048576,K$2,FALSE) -> 90 | M25: =IF(L25="x",G25,"")
A26: Rafael Leao | B26: =VLOOKUP($A26,analysis!$A$2:$V$1048576,B$2,FALSE) -> A | C26: =VLOOKUP($A26,analysis!$A$2:$S$1048576,C$2,FALSE) -> Milan | D26: =VLOOKUP($A26,analysis!$A$2:$S$1048576,D$2,FALSE) -> Avg | E26: =VLOOKUP($A26,analysis!$A$2:$S$1048576,E$2,FALSE) -> 1 | F26: =VLOOKUP($A26,analysis!$A$2:$S$1048576,F$2,FALSE) -> 6.4250642 | G26: =VLOOKUP($A26,analysis!$A$2:$S$1048576,G$2,FALSE) -> 7.840395 | H26: =VLOOKUP($A26,analysis!$A$2:$S$1048576,H$2,FALSE) -> 12.529578 | I26: =VLOOKUP($A26,analysis!$A$2:$S$1048576,I$2,FALSE) | J26: =VLOOKUP($A26,analysis!$A$2:$U$1048576,J$2,FALSE) -> 1 | K26: =VLOOKUP($A26,analysis!$A$2:$U$1048576,K$2,FALSE) -> 95 | L26: x | M26: =IF(L26="x",G26,"") -> 7.840395
A27: Deulofeu | B27: =VLOOKUP($A27,analysis!$A$2:$V$1048576,B$2,FALSE) -> A | C27: =VLOOKUP($A27,analysis!$A$2:$S$1048576,C$2,FALSE) -> Udinese | D27: =VLOOKUP($A27,analysis!$A$2:$S$1048576,D$2,FALSE) -> Avg | E27: =VLOOKUP($A27,analysis!$A$2:$S$1048576,E$2,FALSE) -> 1 | F27: =VLOOKUP($A27,analysis!$A$2:$S$1048576,F$2,FALSE) -> 6.3927674 | G27: =VLOOKUP($A27,analysis!$A$2:$S$1048576,G$2,FALSE) -> 7.5899558 | H27: =VLOOKUP($A27,analysis!$A$2:$S$1048576,H$2,FALSE) -> 11.496941 | I27: =VLOOKUP($A27,analysis!$A$2:$S$1048576,I$2,FALSE) | J27: =VLOOKUP($A27,analysis!$A$2:$U$1048576,J$2,FALSE) -> 1 | K27: =VLOOKUP($A27,analysis!$A$2:$U$1048576,K$2,FALSE) -> 80 | M27: =IF(L27="x",G27,"")
A28: Gonzalez N. | B28: =VLOOKUP($A28,analysis!$A$2:$V$1048576,B$2,FALSE) -> A | C28: =VLOOKUP($A28,analysis!$A$2:$S$1048576,C$2,FALSE) -> Fiorentina | D28: =VLOOKUP($A28,analysis!$A$2:$S$1048576,D$2,FALSE) -> Avg | E28: =VLOOKUP($A28,analysis!$A$2:$S$1048576,E$2,FALSE) -> 1 | F28: =VLOOKUP($A28,analysis!$A$2:$S$1048576,F$2,FALSE) -> 6.2956626 | G28: =VLOOKUP($A28,analysis!$A$2:$S$1048576,G$2,FALSE) -> 7.3536585 | H28: =VLOOKUP($A28,analysis!$A$2:$S$1048576,H$2,FALSE) -> 10.929276 | I28: =VLOOKUP($A28,analysis!$A$2:$S$1048576,I$2,FALSE) | J28: =VLOOKUP($A28,analysis!$A$2:$U$1048576,J$2,FALSE) -> 0 | K28: =VLOOKUP($A28,analysis!$A$2:$U$1048576,K$2,FALSE) -> 50 | L28: x | M28: =IF(L28="x",G28,"") -> 7.3536585
A29: Lauriente' | B29: =VLOOKUP($A29,analysis!$A$2:$V$1048576,B$2,FALSE) -> A | C29: =VLOOKUP($A29,analysis!$A$2:$S$1048576,C$2,FALSE) -> Sassuolo | D29: =VLOOKUP($A29,analysis!$A$2:$S$1048576,D$2,FALSE) -> Avg | E29: =VLOOKUP($A29,analysis!$A$2:$S$1048576,E$2,FALSE) -> 1 | F29: =VLOOKUP($A29,analysis!$A$2:$S$1048576,F$2,FALSE) -> 6.3214475 | G29: =VLOOKUP($A29,analysis!$A$2:$S$1048576,G$2,FALSE) -> 7.5067266 | H29: =VLOOKUP($A29,analysis!$A$2:$S$1048576,H$2,FALSE) -> 11.517248 | I29: =VLOOKUP($A29,analysis!$A$2:$S$1048576,I$2,FALSE) | J29: =VLOOKUP($A29,analysis!$A$2:$U$1048576,J$2,FALSE) -> 1 | K29: =VLOOKUP($A29,analysis!$A$2:$U$1048576,K$2,FALSE) -> 70 | M29: =IF(L29="x",G29,"")
A30: Zapata D. | B30: =VLOOKUP($A30,analysis!$A$2:$V$1048576,B$2,FALSE) -> Pc | C30: =VLOOKUP($A30,analysis!$A$2:$S$1048576,C$2,FALSE) -> Atalanta | D30: =VLOOKUP($A30,analysis!$A$2:$S$1048576,D$2,FALSE) -> Avg | E30: =VLOOKUP($A30,analysis!$A$2:$S$1048576,E$2,FALSE) -> 1 | F30: =VLOOKUP($A30,analysis!$A$2:$S$1048576,F$2,FALSE) -> 5.999733 | G30: =VLOOKUP($A30,analysis!$A$2:$S$1048576,G$2,FALSE) -> 6.5059713 | H30: =VLOOKUP($A30,analysis!$A$2:$S$1048576,H$2,FALSE) -> 8.5162335 | I30: =VLOOKUP($A30,analysis!$A$2:$S$1048576,I$2,FALSE) | J30: =VLOOKUP($A30,analysis!$A$2:$U$1048576,J$2,FALSE) -> 0 | K30: =VLOOKUP($A30,analysis!$A$2:$U$1048576,K$2,FALSE) -> 65 | M30: =IF(L30="x",G30,"")
A31: Sanabria | B31: =VLOOKUP($A31,analysis!$A$2:$V$1048576,B$2,FALSE) -> Pc | C31: =VLOOKUP($A31,analysis!$A$2:$S$1048576,C$2,FALSE) -> Torino | D31: =VLOOKUP($A31,analysis!$A$2:$S$1048576,D$2,FALSE) -> Avg | E31: =VLOOKUP($A31,analysis!$A$2:$S$1048576,E$2,FALSE) -> 1 | F31: =VLOOKUP($A31,analysis!$A$2:$S$1048576,F$2,FALSE) -> 6.1172295 | G31: =VLOOKUP($A31,analysis!$A$2:$S$1048576,G$2,FALSE) -> 6.8859864 | H31: =VLOOKUP($A31,analysis!$A$2:$S$1048576,H$2,FALSE) -> 9.5547749 | I31: =VLOOKUP($A31,analysis!$A$2:$S$1048576,I$2,FALSE) | J31: =VLOOKUP($A31,analysis!$A$2:$U$1048576,J$2,FALSE) -> 1 | K31: =VLOOKUP($A31,analysis!$A$2:$U$1048576,K$2,FALSE) -> 75 | M31: =IF(L31="x",G31,"")
A32: Hojlund | B32: =VLOOKUP($A32,analysis!$A$2:$V$1048576,B$2,FALSE) -> Pc | C32: =VLOOKUP($A32,analysis!$A$2:$S$1048576,C$2,FALSE) -> Atalanta | D32: =VLOOKUP($A32,analysis!$A$2:$S$1048576,D$2,FALSE) -> Avg | E32: =VLOOKUP($A32,analysis!$A$2:$S$1048576,E$2,FALSE) -> 1 | F32: =VLOOKUP($A32,analysis!$A$2:$S$1048576,F$2,FALSE) -> 6.2063928 | G32: =VLOOKUP($A32,analysis!$A$2:$S$1048576,G$2,FALSE) -> 7.2948419 | H32: =VLOOKUP($A32,analysis!$A$2:$S$1048576,H$2,FALSE) -> 10.725348 | I32: =VLOOKUP($A32,analysis!$A$2:$S$1048576,I$2,FALSE) | J32: =VLOOKUP($A32,analysis!$A$2:$U$1048576,J$2,FALSE) -> 1 | K32: =VLOOKUP($A32,analysis!$A$2:$U$1048576,K$2,FALSE) -> 80 | L32: x | M32: =IF(L32="x",G32,"") -> 7.2948419

Sheet my_team_2
A1: Players | B1: role | C1: team | D1: oppteam | E1: home | F1: MV | G1: FV | H1: Potential | I1: Clean Sheet % | J1: starter | K1: vote% | L1: Lineup
B2: 2 | C2: 3 | D2: 4 | E2: 5 | F2: 6 | G2: 8 | H2: 19 | I2: 10 | J2: 20 | K2: 21
A3: Milinkovic-Savic V. | B3: =VLOOKUP($A3,analysis!$A$2:$S$1048576,B$2,FALSE) -> P | C3: =VLOOKUP($A3,analysis!$A$2:$S$1048576,C$2,FALSE) -> Torino | D3: =VLOOKUP($A3,analysis!$A$2:$S$1048576,D$2,FALSE) -> Avg | E3: =VLOOKUP($A3,analysis!$A$2:$S$1048576,E$2,FALSE) -> 1 | F3: =VLOOKUP($A3,analysis!$A$2:$S$1048576,F$2,FALSE) -> 6.0154448 | G3: =VLOOKUP($A3,analysis!$A$2:$S$1048576,G$2,FALSE) -> 4.8835133 | H3: =VLOOKUP($A3,analysis!$A$2:$S$1048576,H$2,FALSE) -> 3.9529176 | I3: =VLOOKUP($A3,analysis!$A$2:$S$1048576,I$2,FALSE) -> 10.519904 | J3: =VLOOKUP($A3,analysis!$A$2:$U$1048576,J$2,FALSE) -> 1 | K3: =VLOOKUP($A3,analysis!$A$2:$U$1048576,K$2,FALSE) -> 100 | L3: x | M3: =IF(L3="x",G3,"") -> 4.8835133
A4: Falcone | B4: =VLOOKUP($A4,analysis!$A$2:$S$1048576,B$2,FALSE) -> P | C4: =VLOOKUP($A4,analysis!$A$2:$S$1048576,C$2,FALSE) -> Lecce | D4: =VLOOKUP($A4,analysis!$A$2:$S$1048576,D$2,FALSE) -> Avg | E4: =VLOOKUP($A4,analysis!$A$2:$S$1048576,E$2,FALSE) -> 1 | F4: =VLOOKUP($A4,analysis!$A$2:$S$1048576,F$2,FALSE) -> 6.249207 | G4: =VLOOKUP($A4,analysis!$A$2:$S$1048576,G$2,FALSE) -> 5.2039666 | H4: =VLOOKUP($A4,analysis!$A$2:$S$1048576,H$2,FALSE) -> 4.3833609 | I4: =VLOOKUP($A4,analysis!$A$2:$S$1048576,I$2,FALSE) -> 9.9858597 | J4: =VLOOKUP($A4,analysis!$A$2:$U$1048576,J$2,FALSE) -> 1 | K4: =VLOOKUP($A4,analysis!$A$2:$U$1048576,K$2,FALSE) -> 100 | M4: =IF(L4="x",G4,"")
A5: Di Gregorio | B5: =VLOOKUP($A5,analysis!$A$2:$S$1048576,B$2,FALSE) -> P | C5: =VLOOKUP($A5,analysis!$A$2:$S$1048576,C$2,FALSE) -> Monza | D5: =VLOOKUP($A5,analysis!$A$2:$S$1048576,D$2,FALSE) -> Avg | E5: =VLOOKUP($A5,analysis!$A$2:$S$1048576,E$2,FALSE) -> 1 | F5: =VLOOKUP($A5,analysis!$A$2:$S$1048576,F$2,FALSE) -> 6.2060412 | G5: =VLOOKUP($A5,analysis!$A$2:$S$1048576,G$2,FALSE) -> 5.2466245 | H5: =VLOOKUP($A5,analysis!$A$2:$S$1048576,H$2,FALSE) -> 4.2117684 | I5: =VLOOKUP($A5,analysis!$A$2:$S$1048576,I$2,FALSE) -> 10.591899 | J5: =VLOOKUP($A5,analysis!$A$2:$U$1048576,J$2,FALSE) -> 1 | K5: =VLOOKUP($A5,analysis!$A$2:$U$1048576,K$2,FALSE) -> 100 | M5: =IF(L5="x",G5,"")
A6: Dimarco | B6: =VLOOKUP($A6,analysis!$A$2:$S$1048576,B$2,FALSE) -> D | C6: =VLOOKUP($A6,analysis!$A$2:$S$1048576,C$2,FALSE) -> Inter | D6: =VLOOKUP($A6,analysis!$A$2:$S$1048576,D$2,FALSE) -> Avg | E6: =VLOOKUP($A6,analysis!$A$2:$S$1048576,E$2,FALSE) -> 1 | F6: =VLOOKUP($A6,analysis!$A$2:$S$1048576,F$2,FALSE) -> 6.2219546 | G6: =VLOOKUP($A6,analysis!$A$2:$S$1048576,G$2,FALSE) -> 7.023431 | H6: =VLOOKUP($A6,analysis!$A$2:$S$1048576,H$2,FALSE) -> 9.5236063 | I6: =VLOOKUP($A6,analysis!$A$2:$S$1048576,I$2,FALSE) | J6: =VLOOKUP($A6,analysis!$A$2:$U$1048576,J$2,FALSE) -> 1 | K6: =VLOOKUP($A6,analysis!$A$2:$U$1048576,K$2,FALSE) -> 100 | L6: x | M6: =IF(L6="x",G6,"") -> 7.023431 | P6: =COUNT(M:M) -> 11 | Q6: /11
A7: Doig | B7: =VLOOKUP($A7,analysis!$A$2:$S$1048576,B$2,FALSE) -> D | C7: =VLOOKUP($A7,analysis!$A$2:$S$1048576,C$2,FALSE) -> Verona | D7: =VLOOKUP($A7,analysis!$A$2:$S$1048576,D$2,FALSE) -> Avg | E7: =VLOOKUP($A7,analysis!$A$2:$S$1048576,E$2,FALSE) -> 1 | F7: =VLOOKUP($A7,analysis!$A$2:$S$1048576,F$2,FALSE) -> 6.203048 | G7: =VLOOKUP($A7,analysis!$A$2:$S$1048576,G$2,FALSE) -> 7.0786856 | H7: =VLOOKUP($A7,analysis!$A$2:$S$1048576,H$2,FALSE) -> 9.9726306 | I7: =VLOOKUP($A7,analysis!$A$2:$S$1048576,I$2,FALSE) | J7: =VLOOKUP($A7,analysis!$A$2:$U$1048576,J$2,FALSE) -> 0 | K7: =VLOOKUP($A7,analysis!$A$2:$U$1048576,K$2,FALSE) -> 65 | L7: x | M7: =IF(L7="x",G7,"") -> 7.0786856
A8: Rrahmani | B8: =VLOOKUP($A8,analysis!$A$2:$S$1048576,B$2,FALSE) -> D | C8: =VLOOKUP($A8,analysis!$A$2:$S$1048576,C$2,FALSE) -> Napoli | D8: =VLOOKUP($A8,analysis!$A$2:$S$1048576,D$2,FALSE) -> Avg | E8: =VLOOKUP($A8,analysis!$A$2:$S$1048576,E$2,FALSE) -> 1 | F8: =VLOOKUP($A8,analysis!$A$2:$S$1048576,F$2,FALSE) -> 6.198582 | G8: =VLOOKUP($A8,analysis!$A$2:$S$1048576,G$2,FALSE) -> 6.5562771 | H8: =VLOOKUP($A8,analysis!$A$2:$S$1048576,H$2,FALSE) -> 7.9447322 | I8: =VLOOKUP($A8,analysis!$A$2:$S$1048576,I$2,FALSE) | J8: =VLOOKUP($A8,analysis!$A$2:$U$1048576,J$2,FALSE) -> 0 | K8: =VLOOKUP($A8,analysis!$A$2:$U$1048576,K$2,FALSE) -> 65 | L8: x | M8: =IF(L8="x",G8,"") -> 6.5562771 | P8: TOT FV: | Q8: =SUM(M:M) -> 76.785813
A9: Carlos Augusto | B9: =VLOOKUP($A9,analysis!$A$2:$S$1048576,B$2,FALSE) -> D | C9: =VLOOKUP($A9,analysis!$A$2:$S$1048576,C$2,FALSE) -> Monza | D9: =VLOOKUP($A9,analysis!$A$2:$S$1048576,D$2,FALSE) -> Avg | E9: =VLOOKUP($A9,analysis!$A$2:$S$1048576,E$2,FALSE) -> 1 | F9: =VLOOKUP($A9,analysis!$A$2:$S$1048576,F$2,FALSE) -> 6.0791766 | G9: =VLOOKUP($A9,analysis!$A$2:$S$1048576,G$2,FALSE) -> 6.6512094 | H9: =VLOOKUP($A9,analysis!$A$2:$S$1048576,H$2,FALSE) -> 8.9534035 | I9: =VLOOKUP($A9,analysis!$A$2:$S$1048576,I$2,FALSE) | J9: =VLOOKUP($A9,analysis!$A$2:$U$1048576,J$2,FALSE) -> 1 | K9: =VLOOKUP($A9,analysis!$A$2:$U$1048576,K$2,FALSE) -> 95 | L9: x | M9: =IF(L9="x",G9,"") -> 6.6512094
A10: Baschirotto | B10: =VLOOKUP($A10,analysis!$A$2:$S$1048576,B$2,FALSE) -> D | C10: =VLOOKUP($A10,analysis!$A$2:$S$1048576,C$2,FALSE) -> Lecce | D10: =VLOOKUP($A10,analysis!$A$2:$S$1048576,D$2,FALSE) -> Avg | E10: =VLOOKUP($A10,analysis!$A$2:$S$1048576,E$2,FALSE) -> 1 | F10: =VLOOKUP($A10,analysis!$A$2:$S$1048576,F$2,FALSE) -> 6.1240175 | G10: =VLOOKUP($A10,analysis!$A$2:$S$1048576,G$2,FALSE) -> 6.5316521 | H10: =VLOOKUP($A10,analysis!$A$2:$S$1048576,H$2,FALSE) -> 8.2691914 | I10: =VLOOKUP($A10,analysis!$A$2:$S$1048576,I$2,FALSE) | J10: =VLOOKUP($A10,analysis!$A$2:$U$1048576,J$2,FALSE) -> 1 | K10: =VLOOKUP($A10,analysis!$A$2:$U$1048576,K$2,FALSE) -> 100 | M10: =IF(L10="x",G10,"")
A11: Valeri | B11: =VLOOKUP($A11,analysis!$A$2:$S$1048576,B$2,FALSE) -> D | C11: =VLOOKUP($A11,analysis!$A$2:$S$1048576,C$2,FALSE) -> Cremonese | D11: =VLOOKUP($A11,analysis!$A$2:$S$1048576,D$2,FALSE) -> Avg | E11: =VLOOKUP($A11,analysis!$A$2:$S$1048576,E$2,FALSE) -> 1 | F11: =VLOOKUP($A11,analysis!$A$2:$S$1048576,F$2,FALSE) -> 6.0330887 | G11: =VLOOKUP($A11,analysis!$A$2:$S$1048576,G$2,FALSE) -> 6.2677621 | H11: =VLOOKUP($A11,analysis!$A$2:$S$1048576,H$2,FALSE) -> 7.4301754 | I11: =VLOOKUP($A11,analysis!$A$2:$S$1048576,I$2,FALSE) | J11: =VLOOKUP($A11,analysis!$A$2:$U$1048576,J$2,FALSE) -> 1 | K11: =VLOOKUP($A11,analysis!$A$2:$U$1048576,K$2,FALSE) -> 95 | M11: =IF(L11="x",G11,"")
A12: Calabria | B12: =VLOOKUP($A12,analysis!$A$2:$S$1048576,B$2,FALSE) -> D | C12: =VLOOKUP($A12,analysis!$A$2:$S$1048576,C$2,FALSE) -> Milan | D12: =VLOOKUP($A12,analysis!$A$2:$S$1048576,D$2,FALSE) -> Avg | E12: =VLOOKUP($A12,analysis!$A$2:$S$1048576,E$2,FALSE) -> 1 | F12: =VLOOKUP($A12,analysis!$A$2:$S$1048576,F$2,FALSE) -> 5.9448456 | G12: =VLOOKUP($A12,analysis!$A$2:$S$1048576,G$2,FALSE) -> 6.1259825 | H12: =VLOOKUP($A12,analysis!$A$2:$S$1048576,H$2,FALSE) -> 7.4948203 | I12: =VLOOKUP($A12,analysis!$A$2:$S$1048576,I$2,FALSE) | J12: =VLOOKUP($A12,analysis!$A$2:$U$1048576,J$2,FALSE) -> 0 | K12: =VLOOKUP($A12,analysis!$A$2:$U$1048576,K$2,FALSE) -> 60 | M12: =IF(L12="x",G12,"")
A13: Acerbi | B13: =VLOOKUP($A13,analysis!$A$2:$S$1048576,B$2,FALSE) -> D | C13: =VLOOKUP($A13,analysis!$A$2:$S$1048576,C$2,FALSE) -> Inter | D13: =VLOOKUP($A13,analysis!$A$2:$S$1048576,D$2,FALSE) -> Avg | E13: =VLOOKUP($A13,analysis!$A$2:$S$1048576,E$2,FALSE) -> 1 | F13: =VLOOKUP($A13,analysis!$A$2:$S$1048576,F$2,FALSE) -> 6.04721 | G13: =VLOOKUP($A13,analysis!$A$2:$S$1048576,G$2,FALSE) -> 6.1608919 | H13: =VLOOKUP($A13,analysis!$A$2:$S$1048576,H$2,FALSE) -> 7.0191811 | I13: =VLOOKUP($A13,analysis!$A$2:$S$1048576,I$2,FALSE) | J13: =VLOOKUP($A13,analysis!$A$2:$U$1048576,J$2,FALSE) -> 0 | K13: =VLOOKUP($A13,analysis!$A$2:$U$1048576,K$2,FALSE) -> 65 | M13: =IF(L13="x",G13,"")
A14: Felipe Anderson | B14: =VLOOKUP($A14,analysis!$A$2:$S$1048576,B$2,FALSE) -> C | C14: =VLOOKUP($A14,analysis!$A$2:$S$1048576,C$2,FALSE) -> Lazio | D14: =VLOOKUP($A14,analysis!$A$2:$S$1048576,D$2,FALSE) -> Avg | E14: =VLOOKUP($A14,analysis!$A$2:$S$1048576,E$2,FALSE) -> 1 | F14: =VLOOKUP($A14,analysis!$A$2:$S$1048576,F$2,FALSE) -> 6.3324587 | G14: =VLOOKUP($A14,analysis!$A$2:$S$1048576,G$2,FALSE) -> 7.4310461 | H14: =VLOOKUP($A14,analysis!$A$2:$S$1048576,H$2,FALSE) -> 11.045536 | I14: =VLOOKUP($A14,analysis!$A$2:$S$1048576,I$2,FALSE) | J14: =VLOOKUP($A14,analysis!$A$2:$U$1048576,J$2,FALSE) -> 1 | K14: =VLOOKUP($A14,analysis!$A$2:$U$1048576,K$2,FALSE) -> 100 | L14: x | M14: =IF(L14="x",G14,"") -> 7.4310461
A15: Orsolini | B15: =VLOOKUP($A15,analysis!$A$2:$S$1048576,B$2,FALSE) -> C | C15: =VLOOKUP($A15,analysis!$A$2:$S$1048576,C$2,FALSE) -> Bologna | D15: =VLOOKUP($A15,analysis!$A$2:$S$1048576,D$2,FALSE) -> Avg | E15: =VLOOKUP($A15,analysis!$A$2:$S$1048576,E$2,FALSE) -> 1 | F15: =VLOOKUP($A15,analysis!$A$2:$S$1048576,F$2,FALSE) -> 6.2154683 | G15: =VLOOKUP($A15,analysis!$A$2:$S$1048576,G$2,FALSE) -> 7.1932314 | H15: =VLOOKUP($A15,analysis!$A$2:$S$1048576,H$2,FALSE) -> 10.644697 | I15: =VLOOKUP($A15,analysis!$A$2:$S$1048576,I$2,FALSE) | J15: =VLOOKUP($A15,analysis!$A$2:$U$1048576,J$2,FALSE) -> 1 | K15: =VLOOKUP($A15,analysis!$A$2:$U$1048576,K$2,FALSE) -> 85 | L15: x | M15: =IF(L15="x",G15,"") -> 7.1932314
A16: Frattesi | B16: =VLOOKUP($A16,analysis!$A$2:$S$1048576,B$2,FALSE) -> C | C16: =VLOOKUP($A16,analysis!$A$2:$S$1048576,C$2,FALSE) -> Sassuolo | D16: =VLOOKUP($A16,analysis!$A$2:$S$1048576,D$2,FALSE) -> Avg | E16: =VLOOKUP($A16,analysis!$A$2:$S$1048576,E$2,FALSE) -> 1 | F16: =VLOOKUP($A16,analysis!$A$2:$S$1048576,F$2,FALSE) -> 6.221866 | G16: =VLOOKUP($A16,analysis!$A$2:$S$1048576,G$2,FALSE) -> 7.1831157 | H16: =VLOOKUP($A16,analysis!$A$2:$S$1048576,H$2,FALSE) -> 10.497463 | I16: =VLOOKUP($A16,analysis!$A$2:$S$1048576,I$2,FALSE) | J16: =VLOOKUP($A16,analysis!$A$2:$U$1048576,J$2,FALSE) -> 1 | K16: =VLOOKUP($A16,analysis!$A$2:$U$1048576,K$2,FALSE) -> 100 | L16: x | M16: =IF(L16="x",G16,"") -> 7.1831157
A17: Pereyra | B17: =VLOOKUP($A17,analysis!$A$2:$S$1048576,B$2,FALSE) -> C | C17: =VLOOKUP($A17,analysis!$A$2:$S$1048576,C$2,FALSE) -> Udinese | D17: =VLOOKUP($A17,analysis!$A$2:$S$1048576,D$2,FALSE) -> Avg | E17: =VLOOKUP($A17,analysis!$A$2:$S$1048576,E$2,FALSE) -> 1 | F17: =VLOOKUP($A17,analysis!$A$2:$S$1048576,F$2,FALSE) -> 6.2406057 | G17: =VLOOKUP($A17,analysis!$A$2:$S$1048576,G$2,FALSE) -> 7.0173563 | H17: =VLOOKUP($A17,analysis!$A$2:$S$1048576,H$2,FALSE) -> 9.6877288 | I17: =VLOOKUP($A17,analysis!$A$2:$S$1048576,I$2,FALSE) | J17: =VLOOKUP($A17,analysis!$A$2:$U$1048576,J$2,FALSE) -> 1 | K17: =VLOOKUP($A17,analysis!$A$2:$U$1048576,K$2,FALSE) -> 90 | M17: =IF(L17="x",G17,"")
A18: Lazovic | B18: =VLOOKUP($A18,analysis!$A$2:$S$1048576,B$2,FALSE) -> C | C18: =VLOOKUP($A18,analysis!$A$2:$S$1048576,C$2,FALSE) -> Verona | D18: =VLOOKUP($A18,analysis!$A$2:$S$1048576,D$2,FALSE) -> Avg | E18: =VLOOKUP($A18,analysis!$A$2:$S$1048576,E$2,FALSE) -> 1 | F18: =VLOOKUP($A18,analysis!$A$2:$S$1048576,F$2,FALSE) -> 6.0872388 | G18: =VLOOKUP($A18,analysis!$A$2:$S$1048576,G$2,FALSE) -> 6.7554931 | H18: =VLOOKUP($A18,analysis!$A$2:$S$1048576,H$2,FALSE) -> 9.0452194 | I18: =VLOOKUP($A18,analysis!$A$2:$S$1048576,I$2,FALSE) | J18: =VLOOKUP($A18,analysis!$A$2:$U$1048576,J$2,FALSE) -> 1 | K18: =VLOOKUP($A18,analysis!$A$2:$U$1048576,K$2,FALSE) -> 80 | M18: =IF(L18="x",G18,"")
A19: Lobotka | B19: =VLOOKUP($A19,analysis!$A$2:$S$1048576,B$2,FALSE) -> C | C19: =VLOOKUP($A19,analysis!$A$2:$S$1048576,C$2,FALSE) -> Napoli | D19: =VLOOKUP($A19,analysis!$A$2:$S$1048576,D$2,FALSE) -> Avg | E19: =VLOOKUP($A19,analysis!$A$2:$S$1048576,E$2,FALSE) -> 1 | F19: =VLOOKUP($A19,analysis!$A$2:$S$1048576,F$2,FALSE) -> 6.1743411 | G19: =VLOOKUP($A19,analysis!$A$2:$S$1048576,G$2,FALSE) -> 6.5779021 | H19: =VLOOKUP($A19,analysis!$A$2:$S$1048576,H$2,FALSE) -> 7.9387184 | I19: =VLOOKUP($A19,analysis!$A$2:$S$1048576,I$2,FALSE) | J19: =VLOOKUP($A19,analysis!$A$2:$U$1048576,J$2,FALSE) -> 1 | K19: =VLOOKUP($A19,analysis!$A$2:$U$1048576,K$2,FALSE) -> 100 | M19: =IF(L19="x",G19,"")
A20: Zurkowski | B20: =VLOOKUP($A20,analysis!$A$2:$S$1048576,B$2,FALSE) -> C | C20: =VLOOKUP($A20,analysis!$A$2:$S$1048576,C$2,FALSE) -> Spezia | D20: =VLOOKUP($A20,analysis!$A$2:$S$1048576,D$2,FALSE) -> Avg | E20: =VLOOKUP($A20,analysis!$A$2:$S$1048576,E$2,FALSE) -> 1 | F20: =VLOOKUP($A20,analysis!$A$2:$S$1048576,F$2,FALSE) -> 6.0329291 | G20: =VLOOKUP($A20,analysis!$A$2:$S$1048576,G$2,FALSE) -> 6.5686935 | H20: =VLOOKUP($A20,analysis!$A$2:$S$1048576,H$2,FALSE) -> 8.6891659 | I20: =VLOOKUP($A20,analysis!$A$2:$S$1048576,I$2,FALSE) | J20: =VLOOKUP($A20,analysis!$A$2:$U$1048576,J$2,FALSE) -> 0 | K20: =VLOOKUP($A20,analysis!$A$2:$U$1048576,K$2,FALSE) -> 5 | M20: =IF(L20="x",G20,"")
A21: Bajrami | B21: =VLOOKUP($A21,analysis!$A$2:$S$1048576,B$2,FALSE) -> C | C21: =VLOOKUP($A21,analysis!$A$2:$S$1048576,C$2,FALSE) -> Sassuolo | D21: =VLOOKUP($A21,analysis!$A$2:$S$1048576,D$2,FALSE) -> Avg | E21: =VLOOKUP($A21,analysis!$A$2:$S$1048576,E$2,FALSE) -> 1 | F21: =VLOOKUP($A21,analysis!$A$2:$S$1048576,F$2,FALSE) -> 5.7953624 | G21: =VLOOKUP($A21,analysis!$A$2:$S$1048576,G$2,FALSE) -> 6.0863368 | H21: =VLOOKUP($A21,analysis!$A$2:$S$1048576,H$2,FALSE) -> 7.5657787 | I21: =VLOOKUP($A21,analysis!$A$2:$S$1048576,I$2,FALSE) | J21: =VLOOKUP($A21,analysis!$A$2:$U$1048576,J$2,FALSE) -> 1 | K21: =VLOOKUP($A21,analysis!$A$2:$U$1048576,K$2,FALSE) -> 95 | M21: =IF(L21="x",G21,"")
A22: Vlahovic | B22: =VLOOKUP($A22,analysis!$A$2:$S$1048576,B$2,FALSE) -> A | C22: =VLOOKUP($A22,analysis!$A$2:$S$1048576,C$2,FALSE) -> Juventus | D22: =VLOOKUP($A22,analysis!$A$2:$S$1048576,D$2,FALSE) -> Avg | E22: =VLOOKUP($A22,analysis!$A$2:$S$1048576,E$2,FALSE) -> 1 | F22: =VLOOKUP($A22,analysis!$A$2:$S$1048576,F$2,FALSE) -> 6.3409395 | G22: =VLOOKUP($A22,analysis!$A$2:$S$1048576,G$2,FALSE) -> 7.6630342 | H22: =VLOOKUP($A22,analysis!$A$2:$S$1048576,H$2,FALSE) -> 12.046053 | I22: =VLOOKUP($A22,analysis!$A$2:$S$1048576,I$2,FALSE) | J22: =VLOOKUP($A22,analysis!$A$2:$U$1048576,J$2,FALSE) -> 0 | K22: =VLOOKUP($A22,analysis!$A$2:$U$1048576,K$2,FALSE) -> 55 | L22: x | M22: =IF(L22="x",G22,"") -> 7.6630342
A23: Dzeko | B23: =VLOOKUP($A23,analysis!$A$2:$S$1048576,B$2,FALSE) -> A | C23: =VLOOKUP($A23,analysis!$A$2:$S$1048576,C$2,FALSE) -> Inter | D23: =VLOOKUP($A23,analysis!$A$2:$S$1048576,D$2,FALSE) -> Avg | E23: =VLOOKUP($A23,analysis!$A$2:$S$1048576,E$2,FALSE) -> 1 | F23: =VLOOKUP($A23,analysis!$A$2:$S$1048576,F$2,FALSE) -> 6.338867 | G23: =VLOOKUP($A23,analysis!$A$2:$S$1048576,G$2,FALSE) -> 7.6013105 | H23: =VLOOKUP($A23,analysis!$A$2:$S$1048576,H$2,FALSE) -> 11.738616 | I23: =VLOOKUP($A23,analysis!$A$2:$S$1048576,I$2,FALSE) | J23: =VLOOKUP($A23,analysis!$A$2:$U$1048576,J$2,FALSE) -> 1 | K23: =VLOOKUP($A23,analysis!$A$2:$U$1048576,K$2,FALSE) -> 100 | L23: x | M23: =IF(L23="x",G23,"") -> 7.6013105
A24: Dia | B24: =VLOOKUP($A24,analysis!$A$2:$S$1048576,B$2,FALSE) -> A | C24: =VLOOKUP($A24,analysis!$A$2:$S$1048576,C$2,FALSE) -> Salernitana | D24: =VLOOKUP($A24,analysis!$A$2:$S$1048576,D$2,FALSE) -> Avg | E24: =VLOOKUP($A24,analysis!$A$2:$S$1048576,E$2,FALSE) -> 1 | F24: =VLOOKUP($A24,analysis!$A$2:$S$1048576,F$2,FALSE) -> 6.2552242 | G24: =VLOOKUP($A24,analysis!$A$2:$S$1048576,G$2,FALSE) -> 7.5209588 | H24: =VLOOKUP($A24,analysis!$A$2:$S$1048576,H$2,FALSE) -> 11.662854 | I24: =VLOOKUP($A24,analysis!$A$2:$S$1048576,I$2,FALSE) | J24: =VLOOKUP($A24,analysis!$A$2:$U$1048576,J$2,FALSE) -> 1 | K24: =VLOOKUP($A24,analysis!$A$2:$U$1048576,K$2,FALSE) -> 95 | L24: x | M24: =IF(L24="x",G24,"") -> 7.5209588
A25: Gonzalez N. | B25: =VLOOKUP($A25,analysis!$A$2:$S$1048576,B$2,FALSE) -> A | C25: =VLOOKUP($A25,analysis!$A$2:$S$1048576,C$2,FALSE) -> Fiorentina | D25: =VLOOKUP($A25,analysis!$A$2:$S$1048576,D$2,FALSE) -> Avg | E25: =VLOOKUP($A25,analysis!$A$2:$S$1048576,E$2,FALSE) -> 1 | F25: =VLOOKUP($A25,analysis!$A$2:$S$1048576,F$2,FALSE) -> 6.2956626 | G25: =VLOOKUP($A25,analysis!$A$2:$S$1048576,G$2,FALSE) -> 7.3536585 | H25: =VLOOKUP($A25,analysis!$A$2:$S$1048576,H$2,FALSE) -> 10.929276 | I25: =VLOOKUP($A25,analysis!$A$2:$S$1048576,I$2,FALSE) | J25: =VLOOKUP($A25,analysis!$A$2:$U$1048576,J$2,FALSE) -> 0 | K25: =VLOOKUP($A25,analysis!$A$2:$U$1048576,K$2,FALSE) -> 50 | M25: =IF(L25="x",G25,"")
A26: Hojlund | B26: =VLOOKUP($A26,analysis!$A$2:$S$1048576,B$2,FALSE) -> A | C26: =VLOOKUP($A26,analysis!$A$2:$S$1048576,C$2,FALSE) -> Atalanta | D26: =VLOOKUP($A26,analysis!$A$2:$S$1048576,D$2,FALSE) -> Avg | E26: =VLOOKUP($A26,analysis!$A$2:$S$1048576,E$2,FALSE) -> 1 | F26: =VLOOKUP($A26,analysis!$A$2:$S$1048576,F$2,FALSE) -> 6.2063928 | G26: =VLOOKUP($A26,analysis!$A$2:$S$1048576,G$2,FALSE) -> 7.2948419 | H26: =VLOOKUP($A26,analysis!$A$2:$S$1048576,H$2,FALSE) -> 10.725348 | I26: =VLOOKUP($A26,analysis!$A$2:$S$1048576,I$2,FALSE) | J26: =VLOOKUP($A26,analysis!$A$2:$U$1048576,J$2,FALSE) -> 1 | K26: =VLOOKUP($A26,analysis!$A$2:$U$1048576,K$2,FALSE) -> 80 | M26: =IF(L26="x",G26,"")
A27: Piatek | B27: =VLOOKUP($A27,analysis!$A$2:$S$1048576,B$2,FALSE) -> A | C27: =VLOOKUP($A27,analysis!$A$2:$S$1048576,C$2,FALSE) -> Salernitana | D27: =VLOOKUP($A27,analysis!$A$2:$S$1048576,D$2,FALSE) -> Avg | E27: =VLOOKUP($A27,analysis!$A$2:$S$1048576,E$2,FALSE) -> 1 | F27: =VLOOKUP($A27,analysis!$A$2:$S$1048576,F$2,FALSE) -> 6.0277113 | G27: =VLOOKUP($A27,analysis!$A$2:$S$1048576,G$2,FALSE) -> 7.0053314 | H27: =VLOOKUP($A27,analysis!$A$2:$S$1048576,H$2,FALSE) -> 10.118485 | I27: =VLOOKUP($A27,analysis!$A$2:$S$1048576,I$2,FALSE) | J27: =VLOOKUP($A27,analysis!$A$2:$U$1048576,J$2,FALSE) -> 1 | K27: =VLOOKUP($A27,analysis!$A$2:$U$1048576,K$2,FALSE) -> 80 | M27: =IF(L27="x",G27,"")

Sheet my_team_3
A1: Players | B1: role | C1: team | D1: oppteam | E1: home | F1: MV | G1: FV | H1: Potential | I1: Clean Sheet % | J1: starter | K1: vote% | L1: Lineup
B2: 2 | C2: 3 | D2: 4 | E2: 5 | F2: 6 | G2: 8 | H2: 19 | I2: 10 | J2: 20 | K2: 21
A3: Provedel | B3: =VLOOKUP($A3,analysis!$A$2:$S$1048576,B$2,FALSE) -> P | C3: =VLOOKUP($A3,analysis!$A$2:$S$1048576,C$2,FALSE) -> Lazio | D3: =VLOOKUP($A3,analysis!$A$2:$S$1048576,D$2,FALSE) -> Avg | E3: =VLOOKUP($A3,analysis!$A$2:$S$1048576,E$2,FALSE) -> 1 | F3: =VLOOKUP($A3,analysis!$A$2:$S$1048576,F$2,FALSE) -> 6.2421512 | G3: =VLOOKUP($A3,analysis!$A$2:$S$1048576,G$2,FALSE) -> 5.597016 | H3: =VLOOKUP($A3,analysis!$A$2:$S$1048576,H$2,FALSE) -> 4.1015677 | I3: =VLOOKUP($A3,analysis!$A$2:$S$1048576,I$2,FALSE) -> 55.387686 | J3: =VLOOKUP($A3,analysis!$A$2:$U$1048576,J$2,FALSE) -> 1 | K3: =VLOOKUP($A3,analysis!$A$2:$U$1048576,K$2,FALSE) -> 100 | L3: x | M3: =IF(L3="x",G3,"") -> 5.597016
A4: Milinkovic-Savic V. | B4: =VLOOKUP($A4,analysis!$A$2:$S$1048576,B$2,FALSE) -> P | C4: =VLOOKUP($A4,analysis!$A$2:$S$1048576,C$2,FALSE) -> Torino | D4: =VLOOKUP($A4,analysis!$A$2:$S$1048576,D$2,FALSE) -> Avg | E4: =VLOOKUP($A4,analysis!$A$2:$S$1048576,E$2,FALSE) -> 1 | F4: =VLOOKUP($A4,analysis!$A$2:$S$1048576,F$2,FALSE) -> 6.0154448 | G4: =VLOOKUP($A4,analysis!$A$2:$S$1048576,G$2,FALSE) -> 4.8835133 | H4: =VLOOKUP($A4,analysis!$A$2:$S$1048576,H$2,FALSE) -> 3.9529176 | I4: =VLOOKUP($A4,analysis!$A$2:$S$1048576,I$2,FALSE) -> 10.519904 | J4: =VLOOKUP($A4,analysis!$A$2:$U$1048576,J$2,FALSE) -> 1 | K4: =VLOOKUP($A4,analysis!$A$2:$U$1048576,K$2,FALSE) -> 100 | M4: =IF(L4="x",G4,"")
A5: Luis Maximiano | B5: =VLOOKUP($A5,analysis!$A$2:$S$1048576,B$2,FALSE) -> P | C5: =VLOOKUP($A5,analysis!$A$2:$S$1048576,C$2,FALSE) -> Lazio | D5: =VLOOKUP($A5,analysis!$A$2:$S$1048576,D$2,FALSE) -> Avg | E5: =VLOOKUP($A5,analysis!$A$2:$S$1048576,E$2,FALSE) -> 1 | F5: =VLOOKUP($A5,analysis!$A$2:$S$1048576,F$2,FALSE) -> 6.1196578 | G5: =VLOOKUP($A5,analysis!$A$2:$S$1048576,G$2,FALSE) -> 5.3660685 | H5: =VLOOKUP($A5,analysis!$A$2:$S$1048576,H$2,FALSE) -> 3.7962865 | I5: =VLOOKUP($A5,analysis!$A$2:$S$1048576,I$2,FALSE) -> 48.881263 | J5: =VLOOKUP($A5,analysis!$A$2:$U$1048576,J$2,FALSE) -> 0 | K5: =VLOOKUP($A5,analysis!$A$2:$U$1048576,K$2,FALSE) -> 0 | M5: =IF(L5="x",G5,"")
A6: Posch | B6: =VLOOKUP($A6,analysis!$A$2:$S$1048576,B$2,FALSE) -> D | C6: =VLOOKUP($A6,analysis!$A$2:$S$1048576,C$2,FALSE) -> Bologna | D6: =VLOOKUP($A6,analysis!$A$2:$S$1048576,D$2,FALSE) -> Avg | E6: =VLOOKUP($A6,analysis!$A$2:$S$1048576,E$2,FALSE) -> 1 | F6: =VLOOKUP($A6,analysis!$A$2:$S$1048576,F$2,FALSE) -> 6.1073914 | G6: =VLOOKUP($A6,analysis!$A$2:$S$1048576,G$2,FALSE) -> 6.5109823 | H6: =VLOOKUP($A6,analysis!$A$2:$S$1048576,H$2,FALSE) -> 8.3680647 | I6: =VLOOKUP($A6,analysis!$A$2:$S$1048576,I$2,FALSE) | J6: =VLOOKUP($A6,analysis!$A$2:$U$1048576,J$2,FALSE) -> 0 | K6: =VLOOKUP($A6,analysis!$A$2:$U$1048576,K$2,FALSE) -> 65 | L6: x | M6: =IF(L6="x",G6,"") -> 6.5109823 | P6: =COUNT(M:M) -> 11 | Q6: /11
A7: Scalvini | B7: =VLOOKUP($A7,analysis!$A$2:$S$1048576,B$2,FALSE) -> D | C7: =VLOOKUP($A7,analysis!$A$2:$S$1048576,C$2,FALSE) -> Atalanta | D7: =VLOOKUP($A7,analysis!$A$2:$S$1048576,D$2,FALSE) -> Avg | E7: =VLOOKUP($A7,analysis!$A$2:$S$1048576,E$2,FALSE) -> 1 | F7: =VLOOKUP($A7,analysis!$A$2:$S$1048576,F$2,FALSE) -> 6.0813653 | G7: =VLOOKUP($A7,analysis!$A$2:$S$1048576,G$2,FALSE) -> 6.4135589 | H7: =VLOOKUP($A7,analysis!$A$2:$S$1048576,H$2,FALSE) -> 8.0236281 | I7: =VLOOKUP($A7,analysis!$A$2:$S$1048576,I$2,FALSE) | J7: =VLOOKUP($A7,analysis!$A$2:$U$1048576,J$2,FALSE) -> 1 | K7: =VLOOKUP($A7,analysis!$A$2:$U$1048576,K$2,FALSE) -> 80 | L7: x | M7: =IF(L7="x",G7,"") -> 6.4135589
A8: Mario Rui | B8: =VLOOKUP($A8,analysis!$A$2:$S$1048576,B$2,FALSE) -> D | C8: =VLOOKUP($A8,analysis!$A$2:$S$1048576,C$2,FALSE) -> Napoli | D8: =VLOOKUP($A8,analysis!$A$2:$S$1048576,D$2,FALSE) -> Avg | E8: =VLOOKUP($A8,analysis!$A$2:$S$1048576,E$2,FALSE) -> 1 | F8: =VLOOKUP($A8,analysis!$A$2:$S$1048576,F$2,FALSE) -> 6.1728856 | G8: =VLOOKUP($A8,analysis!$A$2:$S$1048576,G$2,FALSE) -> 6.4489473 | H8: =VLOOKUP($A8,analysis!$A$2:$S$1048576,H$2,FALSE) -> 7.6200978 | I8: =VLOOKUP($A8,analysis!$A$2:$S$1048576,I$2,FALSE) | J8: =VLOOKUP($A8,analysis!$A$2:$U$1048576,J$2,FALSE) -> 1 | K8: =VLOOKUP($A8,analysis!$A$2:$U$1048576,K$2,FALSE) -> 80 | L8: x | M8: =IF(L8="x",G8,"") -> 6.4489473 | P8: TOT FV: | Q8: =SUM(M:M) -> 75.703446
A9: Danilo | B9: =VLOOKUP($A9,analysis!$A$2:$S$1048576,B$2,FALSE) -> D | C9: =VLOOKUP($A9,analysis!$A$2:$S$1048576,C$2,FALSE) -> Juventus | D9: =VLOOKUP($A9,analysis!$A$2:$S$1048576,D$2,FALSE) -> Avg | E9: =VLOOKUP($A9,analysis!$A$2:$S$1048576,E$2,FALSE) -> 1 | F9: =VLOOKUP($A9,analysis!$A$2:$S$1048576,F$2,FALSE) -> 6.1956758 | G9: =VLOOKUP($A9,analysis!$A$2:$S$1048576,G$2,FALSE) -> 6.5721874 | H9: =VLOOKUP($A9,analysis!$A$2:$S$1048576,H$2,FALSE) -> 8.1115951 | I9: =VLOOKUP($A9,analysis!$A$2:$S$1048576,I$2,FALSE) | J9: =VLOOKUP($A9,analysis!$A$2:$U$1048576,J$2,FALSE) -> 1 | K9: =VLOOKUP($A9,analysis!$A$2:$U$1048576,K$2,FALSE) -> 100 | L9: x | M9: =IF(L9="x",G9,"") -> 6.5721874
A10: Bastoni | B10: =VLOOKUP($A10,analysis!$A$2:$S$1048576,B$2,FALSE) -> D | C10: =VLOOKUP($A10,analysis!$A$2:$S$1048576,C$2,FALSE) -> Inter | D10: =VLOOKUP($A10,analysis!$A$2:$S$1048576,D$2,FALSE) -> Avg | E10: =VLOOKUP($A10,analysis!$A$2:$S$1048576,E$2,FALSE) -> 1 | F10: =VLOOKUP($A10,analysis!$A$2:$S$1048576,F$2,FALSE) -> 6.0377571 | G10: =VLOOKUP($A10,analysis!$A$2:$S$1048576,G$2,FALSE) -> 6.2334428 | H10: =VLOOKUP($A10,analysis!$A$2:$S$1048576,H$2,FALSE) -> 7.3235249 | I10: =VLOOKUP($A10,analysis!$A$2:$S$1048576,I$2,FALSE) | J10: =VLOOKUP($A10,analysis!$A$2:$U$1048576,J$2,FALSE) -> 1 | K10: =VLOOKUP($A10,analysis!$A$2:$U$1048576,K$2,FALSE) -> 80 | M10: =IF(L10="x",G10,"")
A11: Mazzocchi | B11: =VLOOKUP($A11,analysis!$A$2:$S$1048576,B$2,FALSE) -> D | C11: =VLOOKUP($A11,analysis!$A$2:$S$1048576,C$2,FALSE) -> Salernitana | D11: =VLOOKUP($A11,analysis!$A$2:$S$1048576,D$2,FALSE) -> Avg | E11: =VLOOKUP($A11,analysis!$A$2:$S$1048576,E$2,FALSE) -> 1 | F11: =VLOOKUP($A11,analysis!$A$2:$S$1048576,F$2,FALSE) -> 6.0748058 | G11: =VLOOKUP($A11,analysis!$A$2:$S$1048576,G$2,FALSE) -> 6.5464627 | H11: =VLOOKUP($A11,analysis!$A$2:$S$1048576,H$2,FALSE) -> 8.3235473 | I11: =VLOOKUP($A11,analysis!$A$2:$S$1048576,I$2,FALSE) | J11: =VLOOKUP($A11,analysis!$A$2:$U$1048576,J$2,FALSE) -> 1 | K11: =VLOOKUP($A11,analysis!$A$2:$U$1048576,K$2,FALSE) -> 75 | M11: =IF(L11="x",G11,"")
A12: Lazzari | B12: =VLOOKUP($A12,analysis!$A$2:$S$1048576,B$2,FALSE) -> D | C12: =VLOOKUP($A12,analysis!$A$2:$S$1048576,C$2,FALSE) -> Lazio | D12: =VLOOKUP($A12,analysis!$A$2:$S$1048576,D$2,FALSE) -> Avg | E12: =VLOOKUP($A12,analysis!$A$2:$S$1048576,E$2,FALSE) -> 1 | F12: =VLOOKUP($A12,analysis!$A$2:$S$1048576,F$2,FALSE) -> 6.0547001 | G12: =VLOOKUP($A12,analysis!$A$2:$S$1048576,G$2,FALSE) -> 6.0874869 | H12: =VLOOKUP($A12,analysis!$A$2:$S$1048576,H$2,FALSE) -> 6.8267199 | I12: =VLOOKUP($A12,analysis!$A$2:$S$1048576,I$2,FALSE) | J12: =VLOOKUP($A12,analysis!$A$2:$U$1048576,J$2,FALSE) -> 1 | K12: =VLOOKUP($A12,analysis!$A$2:$U$1048576,K$2,FALSE) -> 85 | M12: =IF(L12="x",G12,"")
A13: Ehizibue | B13: =VLOOKUP($A13,analysis!$A$2:$S$1048576,B$2,FALSE) -> D | C13: =VLOOKUP($A13,analysis!$A$2:$S$1048576,C$2,FALSE) -> Udinese | D13: =VLOOKUP($A13,analysis!$A$2:$S$1048576,D$2,FALSE) -> Avg | E13: =VLOOKUP($A13,analysis!$A$2:$S$1048576,E$2,FALSE) -> 1 | F13: =VLOOKUP($A13,analysis!$A$2:$S$1048576,F$2,FALSE) -> 5.9148743 | G13: =VLOOKUP($A13,analysis!$A$2:$S$1048576,G$2,FALSE) -> 6.0331692 | H13: =VLOOKUP($A13,analysis!$A$2:$S$1048576,H$2,FALSE) -> 7.1438832 | I13: =VLOOKUP($A13,analysis!$A$2:$S$1048576,I$2,FALSE) | J13: =VLOOKUP($A13,analysis!$A$2:$U$1048576,J$2,FALSE) -> 0 | K13: =VLOOKUP($A13,analysis!$A$2:$U$1048576,K$2,FALSE) -> 75 | M13: =IF(L13="x",G13,"")
A14: Felipe Anderson | B14: =VLOOKUP($A14,analysis!$A$2:$S$1048576,B$2,FALSE) -> C | C14: =VLOOKUP($A14,analysis!$A$2:$S$1048576,C$2,FALSE) -> Lazio | D14: =VLOOKUP($A14,analysis!$A$2:$S$1048576,D$2,FALSE) -> Avg | E14: =VLOOKUP($A14,analysis!$A$2:$S$1048576,E$2,FALSE) -> 1 | F14: =VLOOKUP($A14,analysis!$A$2:$S$1048576,F$2,FALSE) -> 6.3324587 | G14: =VLOOKUP($A14,analysis!$A$2:$S$1048576,G$2,FALSE) -> 7.4310461 | H14: =VLOOKUP($A14,analysis!$A$2:$S$1048576,H$2,FALSE) -> 11.045536 | I14: =VLOOKUP($A14,analysis!$A$2:$S$1048576,I$2,FALSE) | J14: =VLOOKUP($A14,analysis!$A$2:$U$1048576,J$2,FALSE) -> 1 | K14: =VLOOKUP($A14,analysis!$A$2:$U$1048576,K$2,FALSE) -> 100 | L14: x | M14: =IF(L14="x",G14,"") -> 7.4310461
A15: Miranchuk | B15: =VLOOKUP($A15,analysis!$A$2:$S$1048576,B$2,FALSE) -> C | C15: =VLOOKUP($A15,analysis!$A$2:$S$1048576,C$2,FALSE) -> Torino | D15: =VLOOKUP($A15,analysis!$A$2:$S$1048576,D$2,FALSE) -> Avg | E15: =VLOOKUP($A15,analysis!$A$2:$S$1048576,E$2,FALSE) -> 1 | F15: =VLOOKUP($A15,analysis!$A$2:$S$1048576,F$2,FALSE) -> 6.2623326 | G15: =VLOOKUP($A15,analysis!$A$2:$S$1048576,G$2,FALSE) -> 7.2298625 | H15: =VLOOKUP($A15,analysis!$A$2:$S$1048576,H$2,FALSE) -> 10.325368 | I15: =VLOOKUP($A15,analysis!$A$2:$S$1048576,I$2,FALSE) | J15: =VLOOKUP($A15,analysis!$A$2:$U$1048576,J$2,FALSE) -> 1 | K15: =VLOOKUP($A15,analysis!$A$2:$U$1048576,K$2,FALSE) -> 70 | L15: x | M15: =IF(L15="x",G15,"") -> 7.2298625
A16: Politano | B16: =VLOOKUP($A16,analysis!$A$2:$S$1048576,B$2,FALSE) -> C | C16: =VLOOKUP($A16,analysis!$A$2:$S$1048576,C$2,FALSE) -> Napoli | D16: =VLOOKUP($A16,analysis!$A$2:$S$1048576,D$2,FALSE) -> Avg | E16: =VLOOKUP($A16,analysis!$A$2:$S$1048576,E$2,FALSE) -> 1 | F16: =VLOOKUP($A16,analysis!$A$2:$S$1048576,F$2,FALSE) -> 6.2422307 | G16: =VLOOKUP($A16,analysis!$A$2:$S$1048576,G$2,FALSE) -> 6.7383209 | H16: =VLOOKUP($A16,analysis!$A$2:$S$1048576,H$2,FALSE) -> 8.5497874 | I16: =VLOOKUP($A16,analysis!$A$2:$S$1048576,I$2,FALSE) | J16: =VLOOKUP($A16,analysis!$A$2:$U$1048576,J$2,FALSE) -> 0 | K16: =VLOOKUP($A16,analysis!$A$2:$U$1048576,K$2,FALSE) -> 90 | L16: x | M16: =IF(L16="x",G16,"") -> 6.7383209
A17: Pasalic | B17: =VLOOKUP($A17,analysis!$A$2:$S$1048576,B$2,FALSE) -> C | C17: =VLOOKUP($A17,analysis!$A$2:$S$1048576,C$2,FALSE) -> Atalanta | D17: =VLOOKUP($A17,analysis!$A$2:$S$1048576,D$2,FALSE) -> Avg | E17: =VLOOKUP($A17,analysis!$A$2:$S$1048576,E$2,FALSE) -> 1 | F17: =VLOOKUP($A17,analysis!$A$2:$S$1048576,F$2,FALSE) -> 6.0646458 | G17: =VLOOKUP($A17,analysis!$A$2:$S$1048576,G$2,FALSE) -> 6.7153377 | H17: =VLOOKUP($A17,analysis!$A$2:$S$1048576,H$2,FALSE) -> 9.071455 | I17: =VLOOKUP($A17,analysis!$A$2:$S$1048576,I$2,FALSE) | J17: =VLOOKUP($A17,analysis!$A$2:$U$1048576,J$2,FALSE) -> 1 | K17: =VLOOKUP($A17,analysis!$A$2:$U$1048576,K$2,FALSE) -> 90 | M17: =IF(L17="x",G17,"")
A18: Tonali | B18: =VLOOKUP($A18,analysis!$A$2:$S$1048576,B$2,FALSE) -> C | C18: =VLOOKUP($A18,analysis!$A$2:$S$1048576,C$2,FALSE) -> Milan | D18: =VLOOKUP($A18,analysis!$A$2:$S$1048576,D$2,FALSE) -> Avg | E18: =VLOOKUP($A18,analysis!$A$2:$S$1048576,E$2,FALSE) -> 1 | F18: =VLOOKUP($A18,analysis!$A$2:$S$1048576,F$2,FALSE) -> 6.1391766 | G18: =VLOOKUP($A18,analysis!$A$2:$S$1048576,G$2,FALSE) -> 6.8369387 | H18: =VLOOKUP($A18,analysis!$A$2:$S$1048576,H$2,FALSE) -> 9.4171039 | I18: =VLOOKUP($A18,analysis!$A$2:$S$1048576,I$2,FALSE) | J18: =VLOOKUP($A18,analysis!$A$2:$U$1048576,J$2,FALSE) -> 1 | K18: =VLOOKUP($A18,analysis!$A$2:$U$1048576,K$2,FALSE) -> 85 | M18: =IF(L18="x",G18,"")
A19: Kostic | B19: =VLOOKUP($A19,analysis!$A$2:$S$1048576,B$2,FALSE) -> C | C19: =VLOOKUP($A19,analysis!$A$2:$S$1048576,C$2,FALSE) -> Juventus | D19: =VLOOKUP($A19,analysis!$A$2:$S$1048576,D$2,FALSE) -> Avg | E19: =VLOOKUP($A19,analysis!$A$2:$S$1048576,E$2,FALSE) -> 1 | F19: =VLOOKUP($A19,analysis!$A$2:$S$1048576,F$2,FALSE) -> 6.0866762 | G19: =VLOOKUP($A19,analysis!$A$2:$S$1048576,G$2,FALSE) -> 6.6495853 | H19: =VLOOKUP($A19,analysis!$A$2:$S$1048576,H$2,FALSE) -> 8.6736885 | I19: =VLOOKUP($A19,analysis!$A$2:$S$1048576,I$2,FALSE) | J19: =VLOOKUP($A19,analysis!$A$2:$U$1048576,J$2,FALSE) -> 1 | K19: =VLOOKUP($A19,analysis!$A$2:$U$1048576,K$2,FALSE) -> 100 | M19: =IF(L19="x",G19,"")
A20: Lobotka | B20: =VLOOKUP($A20,analysis!$A$2:$S$1048576,B$2,FALSE) -> C | C20: =VLOOKUP($A20,analysis!$A$2:$S$1048576,C$2,FALSE) -> Napoli | D20: =VLOOKUP($A20,analysis!$A$2:$S$1048576,D$2,FALSE) -> Avg | E20: =VLOOKUP($A20,analysis!$A$2:$S$1048576,E$2,FALSE) -> 1 | F20: =VLOOKUP($A20,analysis!$A$2:$S$1048576,F$2,FALSE) -> 6.1743411 | G20: =VLOOKUP($A20,analysis!$A$2:$S$1048576,G$2,FALSE) -> 6.5779021 | H20: =VLOOKUP($A20,analysis!$A$2:$S$1048576,H$2,FALSE) -> 7.9387184 | I20: =VLOOKUP($A20,analysis!$A$2:$S$1048576,I$2,FALSE) | J20: =VLOOKUP($A20,analysis!$A$2:$U$1048576,J$2,FALSE) -> 1 | K20: =VLOOKUP($A20,analysis!$A$2:$U$1048576,K$2,FALSE) -> 100 | M20: =IF(L20="x",G20,"")
A21: Soriano | B21: =VLOOKUP($A21,analysis!$A$2:$S$1048576,B$2,FALSE) -> C | C21: =VLOOKUP($A21,analysis!$A$2:$S$1048576,C$2,FALSE) -> Bologna | D21: =VLOOKUP($A21,analysis!$A$2:$S$1048576,D$2,FALSE) -> Avg | E21: =VLOOKUP($A21,analysis!$A$2:$S$1048576,E$2,FALSE) -> 1 | F21: =VLOOKUP($A21,analysis!$A$2:$S$1048576,F$2,FALSE) -> 5.9717568 | G21: =VLOOKUP($A21,analysis!$A$2:$S$1048576,G$2,FALSE) -> 6.0387374 | H21: =VLOOKUP($A21,analysis!$A$2:$S$1048576,H$2,FALSE) -> 6.7940446 | I21: =VLOOKUP($A21,analysis!$A$2:$S$1048576,I$2,FALSE) | J21: =VLOOKUP($A21,analysis!$A$2:$U$1048576,J$2,FALSE) -> 1 | K21: =VLOOKUP($A21,analysis!$A$2:$U$1048576,K$2,FALSE) -> 95 | M21: =IF(L21="x",G21,"")
A22: Vlahovic | B22: =VLOOKUP($A22,analysis!$A$2:$S$1048576,B$2,FALSE) -> A | C22: =VLOOKUP($A22,analysis!$A$2:$S$1048576,C$2,FALSE) -> Juventus | D22: =VLOOKUP($A22,analysis!$A$2:$S$1048576,D$2,FALSE) -> Avg | E22: =VLOOKUP($A22,analysis!$A$2:$S$1048576,E$2,FALSE) -> 1 | F22: =VLOOKUP($A22,analysis!$A$2:$S$1048576,F$2,FALSE) -> 6.3409395 | G22: =VLOOKUP($A22,analysis!$A$2:$S$1048576,G$2,FALSE) -> 7.6630342 | H22: =VLOOKUP($A22,analysis!$A$2:$S$1048576,H$2,FALSE) -> 12.046053 | I22: =VLOOKUP($A22,analysis!$A$2:$S$1048576,I$2,FALSE) | J22: =VLOOKUP($A22,analysis!$A$2:$U$1048576,J$2,FALSE) -> 0 | K22: =VLOOKUP($A22,analysis!$A$2:$U$1048576,K$2,FALSE) -> 55 | L22: x | M22: =IF(L22="x",G22,"") -> 7.6630342
A23: Boga | B23: =VLOOKUP($A23,analysis!$A$2:$S$1048576,B$2,FALSE) -> A | C23: =VLOOKUP($A23,analysis!$A$2:$S$1048576,C$2,FALSE) -> Atalanta | D23: =VLOOKUP($A23,analysis!$A$2:$S$1048576,D$2,FALSE) -> Avg | E23: =VLOOKUP($A23,analysis!$A$2:$S$1048576,E$2,FALSE) -> 1 | F23: =VLOOKUP($A23,analysis!$A$2:$S$1048576,F$2,FALSE) -> 6.4867549 | G23: =VLOOKUP($A23,analysis!$A$2:$S$1048576,G$2,FALSE) -> 7.7448314 | H23: =VLOOKUP($A23,analysis!$A$2:$S$1048576,H$2,FALSE) -> 11.708314 | I23: =VLOOKUP($A23,analysis!$A$2:$S$1048576,I$2,FALSE) | J23: =VLOOKUP($A23,analysis!$A$2:$U$1048576,J$2,FALSE) -> 0 | K23: =VLOOKUP($A23,analysis!$A$2:$U$1048576,K$2,FALSE) -> 50 | L23: x | M23: =IF(L23="x",G23,"") -> 7.7448314
A24: Gonzalez N. | B24: =VLOOKUP($A24,analysis!$A$2:$S$1048576,B$2,FALSE) -> A | C24: =VLOOKUP($A24,analysis!$A$2:$S$1048576,C$2,FALSE) -> Fiorentina | D24: =VLOOKUP($A24,analysis!$A$2:$S$1048576,D$2,FALSE) -> Avg | E24: =VLOOKUP($A24,analysis!$A$2:$S$1048576,E$2,FALSE) -> 1 | F24: =VLOOKUP($A24,analysis!$A$2:$S$1048576,F$2,FALSE) -> 6.2956626 | G24: =VLOOKUP($A24,analysis!$A$2:$S$1048576,G$2,FALSE) -> 7.3536585 | H24: =VLOOKUP($A24,analysis!$A$2:$S$1048576,H$2,FALSE) -> 10.929276 | I24: =VLOOKUP($A24,analysis!$A$2:$S$1048576,I$2,FALSE) | J24: =VLOOKUP($A24,analysis!$A$2:$U$1048576,J$2,FALSE) -> 0 | K24: =VLOOKUP($A24,analysis!$A$2:$U$1048576,K$2,FALSE) -> 50 | L24: x | M24: =IF(L24="x",G24,"") -> 7.3536585
A25: Caputo | B25: =VLOOKUP($A25,analysis!$A$2:$S$1048576,B$2,FALSE) -> A | C25: =VLOOKUP($A25,analysis!$A$2:$S$1048576,C$2,FALSE) -> Empoli | D25: =VLOOKUP($A25,analysis!$A$2:$S$1048576,D$2,FALSE) -> Avg | E25: =VLOOKUP($A25,analysis!$A$2:$S$1048576,E$2,FALSE) -> 1 | F25: =VLOOKUP($A25,analysis!$A$2:$S$1048576,F$2,FALSE) -> 6.1134334 | G25: =VLOOKUP($A25,analysis!$A$2:$S$1048576,G$2,FALSE) -> 6.9709464 | H25: =VLOOKUP($A25,analysis!$A$2:$S$1048576,H$2,FALSE) -> 9.8588337 | I25: =VLOOKUP($A25,analysis!$A$2:$S$1048576,I$2,FALSE) | J25: =VLOOKUP($A25,analysis!$A$2:$U$1048576,J$2,FALSE) -> 0 | K25: =VLOOKUP($A25,analysis!$A$2:$U$1048576,K$2,FALSE) -> 25 | M25: =IF(L25="x",G25,"")
A26: Petagna | B26: =VLOOKUP($A26,analysis!$A$2:$S$1048576,B$2,FALSE) -> A | C26: =VLOOKUP($A26,analysis!$A$2:$S$1048576,C$2,FALSE) -> Monza | D26: =VLOOKUP($A26,analysis!$A$2:$S$1048576,D$2,FALSE) -> Avg | E26: =VLOOKUP($A26,analysis!$A$2:$S$1048576,E$2,FALSE) -> 1 | F26: =VLOOKUP($A26,analysis!$A$2:$S$1048576,F$2,FALSE) -> 5.7354046 | G26: =VLOOKUP($A26,analysis!$A$2:$S$1048576,G$2,FALSE) -> 6.0150869 | H26: =VLOOKUP($A26,analysis!$A$2:$S$1048576,H$2,FALSE) -> 7.4230273 | I26: =VLOOKUP($A26,analysis!$A$2:$S$1048576,I$2,FALSE) | J26: =VLOOKUP($A26,analysis!$A$2:$U$1048576,J$2,FALSE) -> 1 | K26: =VLOOKUP($A26,analysis!$A$2:$U$1048576,K$2,FALSE) -> 75 | M26: =IF(L26="x",G26,"")
A27: Djuric | B27: =VLOOKUP($A27,analysis!$A$2:$S$1048576,B$2,FALSE) -> A | C27: =VLOOKUP($A27,analysis!$A$2:$S$1048576,C$2,FALSE) -> Verona | D27: =VLOOKUP($A27,analysis!$A$2:$S$1048576,D$2,FALSE) -> Avg | E27: =VLOOKUP($A27,analysis!$A$2:$S$1048576,E$2,FALSE) -> 1 | F27: =VLOOKUP($A27,analysis!$A$2:$S$1048576,F$2,FALSE) -> 5.9596379 | G27: =VLOOKUP($A27,analysis!$A$2:$S$1048576,G$2,FALSE) -> 6.1815336 | H27: =VLOOKUP($A27,analysis!$A$2:$S$1048576,H$2,FALSE) -> 7.4441323 | I27: =VLOOKUP($A27,analysis!$A$2:$S$1048576,I$2,FALSE) | J27: =VLOOKUP($A27,analysis!$A$2:$U$1048576,J$2,FALSE) -> 0 | K27: =VLOOKUP($A27,analysis!$A$2:$U$1048576,K$2,FALSE) -> 80 | M27: =IF(L27="x",G27,"")

Sheet my_team_4
A1: Players | B1: role | C1: team | D1: oppteam | E1: home | F1: MV | G1: FV | H1: Potential | I1: Clean Sheet % | J1: starter | K1: vote% | L1: Lineup
B2: 2 | C2: 3 | D2: 4 | E2: 5 | F2: 6 | G2: 8 | H2: 19 | I2: 10 | J2: 20 | K2: 21
A3: Onana | B3: =VLOOKUP($A3,analysis!$A$2:$S$1048576,B$2,FALSE) -> P | C3: =VLOOKUP($A3,analysis!$A$2:$S$1048576,C$2,FALSE) -> Inter | D3: =VLOOKUP($A3,analysis!$A$2:$S$1048576,D$2,FALSE) -> Avg | E3: =VLOOKUP($A3,analysis!$A$2:$S$1048576,E$2,FALSE) -> 1 | F3: =VLOOKUP($A3,analysis!$A$2:$S$1048576,F$2,FALSE) -> 6.2143207 | G3: =VLOOKUP($A3,analysis!$A$2:$S$1048576,G$2,FALSE) -> 4.8897798 | H3: =VLOOKUP($A3,analysis!$A$2:$S$1048576,H$2,FALSE) -> 3.4142399 | I3: =VLOOKUP($A3,analysis!$A$2:$S$1048576,I$2,FALSE) -> 14.971391 | J3: =VLOOKUP($A3,analysis!$A$2:$U$1048576,J$2,FALSE) -> 1 | K3: =VLOOKUP($A3,analysis!$A$2:$U$1048576,K$2,FALSE) -> 100 | L3: x | M3: =IF(L3="x",G3,"") -> 4.8897798
A4: Falcone | B4: =VLOOKUP($A4,analysis!$A$2:$S$1048576,B$2,FALSE) -> P | C4: =VLOOKUP($A4,analysis!$A$2:$S$1048576,C$2,FALSE) -> Lecce | D4: =VLOOKUP($A4,analysis!$A$2:$S$1048576,D$2,FALSE) -> Avg | E4: =VLOOKUP($A4,analysis!$A$2:$S$1048576,E$2,FALSE) -> 1 | F4: =VLOOKUP($A4,analysis!$A$2:$S$1048576,F$2,FALSE) -> 6.249207 | G4: =VLOOKUP($A4,analysis!$A$2:$S$1048576,G$2,FALSE) -> 5.2039666 | H4: =VLOOKUP($A4,analysis!$A$2:$S$1048576,H$2,FALSE) -> 4.3833609 | I4: =VLOOKUP($A4,analysis!$A$2:$S$1048576,I$2,FALSE) -> 9.9858597 | J4: =VLOOKUP($A4,analysis!$A$2:$U$1048576,J$2,FALSE) -> 1 | K4: =VLOOKUP($A4,analysis!$A$2:$U$1048576,K$2,FALSE) -> 100 | M4: =IF(L4="x",G4,"")
A5: Di Gregorio | B5: =VLOOKUP($A5,analysis!$A$2:$S$1048576,B$2,FALSE) -> P | C5: =VLOOKUP($A5,analysis!$A$2:$S$1048576,C$2,FALSE) -> Monza | D5: =VLOOKUP($A5,analysis!$A$2:$S$1048576,D$2,FALSE) -> Avg | E5: =VLOOKUP($A5,analysis!$A$2:$S$1048576,E$2,FALSE) -> 1 | F5: =VLOOKUP($A5,analysis!$A$2:$S$1048576,F$2,FALSE) -> 6.2060412 | G5: =VLOOKUP($A5,analysis!$A$2:$S$1048576,G$2,FALSE) -> 5.2466245 | H5: =VLOOKUP($A5,analysis!$A$2:$S$1048576,H$2,FALSE) -> 4.2117684 | I5: =VLOOKUP($A5,analysis!$A$2:$S$1048576,I$2,FALSE) -> 10.591899 | J5: =VLOOKUP($A5,analysis!$A$2:$U$1048576,J$2,FALSE) -> 1 | K5: =VLOOKUP($A5,analysis!$A$2:$U$1048576,K$2,FALSE) -> 100 | M5: =IF(L5="x",G5,"")
A6: Dumfries | B6: =VLOOKUP($A6,analysis!$A$2:$S$1048576,B$2,FALSE) -> D | C6: =VLOOKUP($A6,analysis!$A$2:$S$1048576,C$2,FALSE) -> Inter | D6: =VLOOKUP($A6,analysis!$A$2:$S$1048576,D$2,FALSE) -> Avg | E6: =VLOOKUP($A6,analysis!$A$2:$S$1048576,E$2,FALSE) -> 1 | F6: =VLOOKUP($A6,analysis!$A$2:$S$1048576,F$2,FALSE) -> 6.0163925 | G6: =VLOOKUP($A6,analysis!$A$2:$S$1048576,G$2,FALSE) -> 6.6000839 | H6: =VLOOKUP($A6,analysis!$A$2:$S$1048576,H$2,FALSE) -> 8.762026 | I6: =VLOOKUP($A6,analysis!$A$2:$S$1048576,I$2,FALSE) | J6: =VLOOKUP($A6,analysis!$A$2:$U$1048576,J$2,FALSE) -> 1 | K6: =VLOOKUP($A6,analysis!$A$2:$U$1048576,K$2,FALSE) -> 90 | L6: x | M6: =IF(L6="x",G6,"") -> 6.6000839 | P6: =COUNT(M:M) -> 11 | Q6: /11
A7: Doig | B7: =VLOOKUP($A7,analysis!$A$2:$S$1048576,B$2,FALSE) -> D | C7: =VLOOKUP($A7,analysis!$A$2:$S$1048576,C$2,FALSE) -> Verona | D7: =VLOOKUP($A7,analysis!$A$2:$S$1048576,D$2,FALSE) -> Avg | E7: =VLOOKUP($A7,analysis!$A$2:$S$1048576,E$2,FALSE) -> 1 | F7: =VLOOKUP($A7,analysis!$A$2:$S$1048576,F$2,FALSE) -> 6.203048 | G7: =VLOOKUP($A7,analysis!$A$2:$S$1048576,G$2,FALSE) -> 7.0786856 | H7: =VLOOKUP($A7,analysis!$A$2:$S$1048576,H$2,FALSE) -> 9.9726306 | I7: =VLOOKUP($A7,analysis!$A$2:$S$1048576,I$2,FALSE) | J7: =VLOOKUP($A7,analysis!$A$2:$U$1048576,J$2,FALSE) -> 0 | K7: =VLOOKUP($A7,analysis!$A$2:$U$1048576,K$2,FALSE) -> 65 | L7: x | M7: =IF(L7="x",G7,"") -> 7.0786856
A8: Mario Rui | B8: =VLOOKUP($A8,analysis!$A$2:$S$1048576,B$2,FALSE) -> D | C8: =VLOOKUP($A8,analysis!$A$2:$S$1048576,C$2,FALSE) -> Napoli | D8: =VLOOKUP($A8,analysis!$A$2:$S$1048576,D$2,FALSE) -> Avg | E8: =VLOOKUP($A8,analysis!$A$2:$S$1048576,E$2,FALSE) -> 1 | F8: =VLOOKUP($A8,analysis!$A$2:$S$1048576,F$2,FALSE) -> 6.1728856 | G8: =VLOOKUP($A8,analysis!$A$2:$S$1048576,G$2,FALSE) -> 6.4489473 | H8: =VLOOKUP($A8,analysis!$A$2:$S$1048576,H$2,FALSE) -> 7.6200978 | I8: =VLOOKUP($A8,analysis!$A$2:$S$1048576,I$2,FALSE) | J8: =VLOOKUP($A8,analysis!$A$2:$U$1048576,J$2,FALSE) -> 1 | K8: =VLOOKUP($A8,analysis!$A$2:$U$1048576,K$2,FALSE) -> 80 | L8: x | M8: =IF(L8="x",G8,"") -> 6.4489473 | P8: TOT FV: | Q8: =SUM(M:M) -> 75.503724
A9: Valeri | B9: =VLOOKUP($A9,analysis!$A$2:$S$1048576,B$2,FALSE) -> D | C9: =VLOOKUP($A9,analysis!$A$2:$S$1048576,C$2,FALSE) -> Cremonese | D9: =VLOOKUP($A9,analysis!$A$2:$S$1048576,D$2,FALSE) -> Avg | E9: =VLOOKUP($A9,analysis!$A$2:$S$1048576,E$2,FALSE) -> 1 | F9: =VLOOKUP($A9,analysis!$A$2:$S$1048576,F$2,FALSE) -> 6.0330887 | G9: =VLOOKUP($A9,analysis!$A$2:$S$1048576,G$2,FALSE) -> 6.2677621 | H9: =VLOOKUP($A9,analysis!$A$2:$S$1048576,H$2,FALSE) -> 7.4301754 | I9: =VLOOKUP($A9,analysis!$A$2:$S$1048576,I$2,FALSE) | J9: =VLOOKUP($A9,analysis!$A$2:$U$1048576,J$2,FALSE) -> 1 | K9: =VLOOKUP($A9,analysis!$A$2:$U$1048576,K$2,FALSE) -> 95 | L9: x | M9: =IF(L9="x",G9,"") -> 6.2677621
A10: Schuurs | B10: =VLOOKUP($A10,analysis!$A$2:$S$1048576,B$2,FALSE) -> D | C10: =VLOOKUP($A10,analysis!$A$2:$S$1048576,C$2,FALSE) -> Torino | D10: =VLOOKUP($A10,analysis!$A$2:$S$1048576,D$2,FALSE) -> Avg | E10: =VLOOKUP($A10,analysis!$A$2:$S$1048576,E$2,FALSE) -> 1 | F10: =VLOOKUP($A10,analysis!$A$2:$S$1048576,F$2,FALSE) -> 6.1275419 | G10: =VLOOKUP($A10,analysis!$A$2:$S$1048576,G$2,FALSE) -> 6.2131054 | H10: =VLOOKUP($A10,analysis!$A$2:$S$1048576,H$2,FALSE) -> 7.0247738 | I10: =VLOOKUP($A10,analysis!$A$2:$S$1048576,I$2,FALSE) | J10: =VLOOKUP($A10,analysis!$A$2:$U$1048576,J$2,FALSE) -> 1 | K10: =VLOOKUP($A10,analysis!$A$2:$U$1048576,K$2,FALSE) -> 70 | M10: =IF(L10="x",G10,"")
A11: Romagnoli | B11: =VLOOKUP($A11,analysis!$A$2:$S$1048576,B$2,FALSE) -> D | C11: =VLOOKUP($A11,analysis!$A$2:$S$1048576,C$2,FALSE) -> Lazio | D11: =VLOOKUP($A11,analysis!$A$2:$S$1048576,D$2,FALSE) -> Avg | E11: =VLOOKUP($A11,analysis!$A$2:$S$1048576,E$2,FALSE) -> 1 | F11: =VLOOKUP($A11,analysis!$A$2:$S$1048576,F$2,FALSE) -> 6.1578802 | G11: =VLOOKUP($A11,analysis!$A$2:$S$1048576,G$2,FALSE) -> 6.3637839 | H11: =VLOOKUP($A11,analysis!$A$2:$S$1048576,H$2,FALSE) -> 7.4756025 | I11: =VLOOKUP($A11,analysis!$A$2:$S$1048576,I$2,FALSE) | J11: =VLOOKUP($A11,analysis!$A$2:$U$1048576,J$2,FALSE) -> 1 | K11: =VLOOKUP($A11,analysis!$A$2:$U$1048576,K$2,FALSE) -> 95 | M11: =IF(L11="x",G11,"")
A12: Bremer | B12: =VLOOKUP($A12,analysis!$A$2:$S$1048576,B$2,FALSE) -> D | C12: =VLOOKUP($A12,analysis!$A$2:$S$1048576,C$2,FALSE) -> Juventus | D12: =VLOOKUP($A12,analysis!$A$2:$S$1048576,D$2,FALSE) -> Avg | E12: =VLOOKUP($A12,analysis!$A$2:$S$1048576,E$2,FALSE) -> 1 | F12: =VLOOKUP($A12,analysis!$A$2:$S$1048576,F$2,FALSE) -> 6.0119522 | G12: =VLOOKUP($A12,analysis!$A$2:$S$1048576,G$2,FALSE) -> 6.2303903 | H12: =VLOOKUP($A12,analysis!$A$2:$S$1048576,H$2,FALSE) -> 7.6155271 | I12: =VLOOKUP($A12,analysis!$A$2:$S$1048576,I$2,FALSE) | J12: =VLOOKUP($A12,analysis!$A$2:$U$1048576,J$2,FALSE) -> 1 | K12: =VLOOKUP($A12,analysis!$A$2:$U$1048576,K$2,FALSE) -> 85 | M12: =IF(L12="x",G12,"")
A13: Mazzocchi | B13: =VLOOKUP($A13,analysis!$A$2:$S$1048576,B$2,FALSE) -> D | C13: =VLOOKUP($A13,analysis!$A$2:$S$1048576,C$2,FALSE) -> Salernitana | D13: =VLOOKUP($A13,analysis!$A$2:$S$1048576,D$2,FALSE) -> Avg | E13: =VLOOKUP($A13,analysis!$A$2:$S$1048576,E$2,FALSE) -> 1 | F13: =VLOOKUP($A13,analysis!$A$2:$S$1048576,F$2,FALSE) -> 6.0748058 | G13: =VLOOKUP($A13,analysis!$A$2:$S$1048576,G$2,FALSE) -> 6.5464627 | H13: =VLOOKUP($A13,analysis!$A$2:$S$1048576,H$2,FALSE) -> 8.3235473 | I13: =VLOOKUP($A13,analysis!$A$2:$S$1048576,I$2,FALSE) | J13: =VLOOKUP($A13,analysis!$A$2:$U$1048576,J$2,FALSE) -> 1 | K13: =VLOOKUP($A13,analysis!$A$2:$U$1048576,K$2,FALSE) -> 75 | M13: =IF(L13="x",G13,"")
A14: Miranchuk | B14: =VLOOKUP($A14,analysis!$A$2:$S$1048576,B$2,FALSE) -> C | C14: =VLOOKUP($A14,analysis!$A$2:$S$1048576,C$2,FALSE) -> Torino | D14: =VLOOKUP($A14,analysis!$A$2:$S$1048576,D$2,FALSE) -> Avg | E14: =VLOOKUP($A14,analysis!$A$2:$S$1048576,E$2,FALSE) -> 1 | F14: =VLOOKUP($A14,analysis!$A$2:$S$1048576,F$2,FALSE) -> 6.2623326 | G14: =VLOOKUP($A14,analysis!$A$2:$S$1048576,G$2,FALSE) -> 7.2298625 | H14: =VLOOKUP($A14,analysis!$A$2:$S$1048576,H$2,FALSE) -> 10.325368 | I14: =VLOOKUP($A14,analysis!$A$2:$S$1048576,I$2,FALSE) | J14: =VLOOKUP($A14,analysis!$A$2:$U$1048576,J$2,FALSE) -> 1 | K14: =VLOOKUP($A14,analysis!$A$2:$U$1048576,K$2,FALSE) -> 70 | L14: x | M14: =IF(L14="x",G14,"") -> 7.2298625
A15: Strefezza | B15: =VLOOKUP($A15,analysis!$A$2:$S$1048576,B$2,FALSE) -> C | C15: =VLOOKUP($A15,analysis!$A$2:$S$1048576,C$2,FALSE) -> Lecce | D15: =VLOOKUP($A15,analysis!$A$2:$S$1048576,D$2,FALSE) -> Avg | E15: =VLOOKUP($A15,analysis!$A$2:$S$1048576,E$2,FALSE) -> 1 | F15: =VLOOKUP($A15,analysis!$A$2:$S$1048576,F$2,FALSE) -> 6.3629762 | G15: =VLOOKUP($A15,analysis!$A$2:$S$1048576,G$2,FALSE) -> 7.1194046 | H15: =VLOOKUP($A15,analysis!$A$2:$S$1048576,H$2,FALSE) -> 9.6880026 | I15: =VLOOKUP($A15,analysis!$A$2:$S$1048576,I$2,FALSE) | J15: =VLOOKUP($A15,analysis!$A$2:$U$1048576,J$2,FALSE) -> 1 | K15: =VLOOKUP($A15,analysis!$A$2:$U$1048576,K$2,FALSE) -> 90 | L15: x | M15: =IF(L15="x",G15,"") -> 7.1194046
A16: Ciurria | B16: =VLOOKUP($A16,analysis!$A$2:$S$1048576,B$2,FALSE) -> C | C16: =VLOOKUP($A16,analysis!$A$2:$S$1048576,C$2,FALSE) -> Monza | D16: =VLOOKUP($A16,analysis!$A$2:$S$1048576,D$2,FALSE) -> Avg | E16: =VLOOKUP($A16,analysis!$A$2:$S$1048576,E$2,FALSE) -> 1 | F16: =VLOOKUP($A16,analysis!$A$2:$S$1048576,F$2,FALSE) -> 6.1736802 | G16: =VLOOKUP($A16,analysis!$A$2:$S$1048576,G$2,FALSE) -> 7.0597889 | H16: =VLOOKUP($A16,analysis!$A$2:$S$1048576,H$2,FALSE) -> 10.005814 | I16: =VLOOKUP($A16,analysis!$A$2:$S$1048576,I$2,FALSE) | J16: =VLOOKUP($A16,analysis!$A$2:$U$1048576,J$2,FALSE) -> 1 | K16: =VLOOKUP($A16,analysis!$A$2:$U$1048576,K$2,FALSE) -> 90 | L16: x | M16: =IF(L16="x",G16,"") -> 7.0597889
A17: Pasalic | B17: =VLOOKUP($A17,analysis!$A$2:$S$1048576,B$2,FALSE) -> C | C17: =VLOOKUP($A17,analysis!$A$2:$S$1048576,C$2,FALSE) -> Atalanta | D17: =VLOOKUP($A17,analysis!$A$2:$S$1048576,D$2,FALSE) -> Avg | E17: =VLOOKUP($A17,analysis!$A$2:$S$1048576,E$2,FALSE) -> 1 | F17: =VLOOKUP($A17,analysis!$A$2:$S$1048576,F$2,FALSE) -> 6.0646458 | G17: =VLOOKUP($A17,analysis!$A$2:$S$1048576,G$2,FALSE) -> 6.7153377 | H17: =VLOOKUP($A17,analysis!$A$2:$S$1048576,H$2,FALSE) -> 9.071455 | I17: =VLOOKUP($A17,analysis!$A$2:$S$1048576,I$2,FALSE) | J17: =VLOOKUP($A17,analysis!$A$2:$U$1048576,J$2,FALSE) -> 1 | K17: =VLOOKUP($A17,analysis!$A$2:$U$1048576,K$2,FALSE) -> 90 | M17: =IF(L17="x",G17,"")
A18: Radonjic | B18: =VLOOKUP($A18,analysis!$A$2:$S$1048576,B$2,FALSE) -> C | C18: =VLOOKUP($A18,analysis!$A$2:$S$1048576,C$2,FALSE) -> Torino | D18: =VLOOKUP($A18,analysis!$A$2:$S$1048576,D$2,FALSE) -> Avg | E18: =VLOOKUP($A18,analysis!$A$2:$S$1048576,E$2,FALSE) -> 1 | F18: =VLOOKUP($A18,analysis!$A$2:$S$1048576,F$2,FALSE) -> 6.1476795 | G18: =VLOOKUP($A18,analysis!$A$2:$S$1048576,G$2,FALSE) -> 6.5092603 | H18: =VLOOKUP($A18,analysis!$A$2:$S$1048576,H$2,FALSE) -> 8.0776103 | I18: =VLOOKUP($A18,analysis!$A$2:$S$1048576,I$2,FALSE) | J18: =VLOOKUP($A18,analysis!$A$2:$U$1048576,J$2,FALSE) -> 1 | K18: =VLOOKUP($A18,analysis!$A$2:$U$1048576,K$2,FALSE) -> 90 | M18: =IF(L18="x",G18,"")
A19: Mkhitaryan | B19: =VLOOKUP($A19,analysis!$A$2:$S$1048576,B$2,FALSE) -> C | C19: =VLOOKUP($A19,analysis!$A$2:$S$1048576,C$2,FALSE) -> Inter | D19: =VLOOKUP($A19,analysis!$A$2:$S$1048576,D$2,FALSE) -> Avg | E19: =VLOOKUP($A19,analysis!$A$2:$S$1048576,E$2,FALSE) -> 1 | F19: =VLOOKUP($A19,analysis!$A$2:$S$1048576,F$2,FALSE) -> 6.0466016 | G19: =VLOOKUP($A19,analysis!$A$2:$S$1048576,G$2,FALSE) -> 6.5185718 | H19: =VLOOKUP($A19,analysis!$A$2:$S$1048576,H$2,FALSE) -> 8.2753338 | I19: =VLOOKUP($A19,analysis!$A$2:$S$1048576,I$2,FALSE) | J19: =VLOOKUP($A19,analysis!$A$2:$U$1048576,J$2,FALSE) -> 1 | K19: =VLOOKUP($A19,analysis!$A$2:$U$1048576,K$2,FALSE) -> 85 | M19: =IF(L19="x",G19,"")
A20: Candreva | B20: =VLOOKUP($A20,analysis!$A$2:$S$1048576,B$2,FALSE) -> C | C20: =VLOOKUP($A20,analysis!$A$2:$S$1048576,C$2,FALSE) -> Salernitana | D20: =VLOOKUP($A20,analysis!$A$2:$S$1048576,D$2,FALSE) -> Avg | E20: =VLOOKUP($A20,analysis!$A$2:$S$1048576,E$2,FALSE) -> 1 | F20: =VLOOKUP($A20,analysis!$A$2:$S$1048576,F$2,FALSE) -> 6.0017791 | G20: =VLOOKUP($A20,analysis!$A$2:$S$1048576,G$2,FALSE) -> 6.4102547 | H20: =VLOOKUP($A20,analysis!$A$2:$S$1048576,H$2,FALSE) -> 8.2296447 | I20: =VLOOKUP($A20,analysis!$A$2:$S$1048576,I$2,FALSE) | J20: =VLOOKUP($A20,analysis!$A$2:$U$1048576,J$2,FALSE) -> 1 | K20: =VLOOKUP($A20,analysis!$A$2:$U$1048576,K$2,FALSE) -> 95 | M20: =IF(L20="x",G20,"")
A21: Bajrami | B21: =VLOOKUP($A21,analysis!$A$2:$S$1048576,B$2,FALSE) -> C | C21: =VLOOKUP($A21,analysis!$A$2:$S$1048576,C$2,FALSE) -> Sassuolo | D21: =VLOOKUP($A21,analysis!$A$2:$S$1048576,D$2,FALSE) -> Avg | E21: =VLOOKUP($A21,analysis!$A$2:$S$1048576,E$2,FALSE) -> 1 | F21: =VLOOKUP($A21,analysis!$A$2:$S$1048576,F$2,FALSE) -> 5.7953624 | G21: =VLOOKUP($A21,analysis!$A$2:$S$1048576,G$2,FALSE) -> 6.0863368 | H21: =VLOOKUP($A21,analysis!$A$2:$S$1048576,H$2,FALSE) -> 7.5657787 | I21: =VLOOKUP($A21,analysis!$A$2:$S$1048576,I$2,FALSE) | J21: =VLOOKUP($A21,analysis!$A$2:$U$1048576,J$2,FALSE) -> 1 | K21: =VLOOKUP($A21,analysis!$A$2:$U$1048576,K$2,FALSE) -> 95 | M21: =IF(L21="x",G21,"")
A22: Immobile | B22: =VLOOKUP($A22,analysis!$A$2:$S$1048576,B$2,FALSE) -> A | C22: =VLOOKUP($A22,analysis!$A$2:$S$1048576,C$2,FALSE) -> Lazio | D22: =VLOOKUP($A22,analysis!$A$2:$S$1048576,D$2,FALSE) -> Avg | E22: =VLOOKUP($A22,analysis!$A$2:$S$1048576,E$2,FALSE) -> 1 | F22: =VLOOKUP($A22,analysis!$A$2:$S$1048576,F$2,FALSE) -> 6.4637548 | G22: =VLOOKUP($A22,analysis!$A$2:$S$1048576,G$2,FALSE) -> 7.9294937 | H22: =VLOOKUP($A22,analysis!$A$2:$S$1048576,H$2,FALSE) -> 12.75067 | I22: =VLOOKUP($A22,analysis!$A$2:$S$1048576,I$2,FALSE) | J22: =VLOOKUP($A22,analysis!$A$2:$U$1048576,J$2,FALSE) -> 1 | K22: =VLOOKUP($A22,analysis!$A$2:$U$1048576,K$2,FALSE) -> 75 | L22: x | M22: =IF(L22="x",G22,"") -> 7.9294937
A23: Nzola | B23: =VLOOKUP($A23,analysis!$A$2:$S$1048576,B$2,FALSE) -> A | C23: =VLOOKUP($A23,analysis!$A$2:$S$1048576,C$2,FALSE) -> Spezia | D23: =VLOOKUP($A23,analysis!$A$2:$S$1048576,D$2,FALSE) -> Avg | E23: =VLOOKUP($A23,analysis!$A$2:$S$1048576,E$2,FALSE) -> 1 | F23: =VLOOKUP($A23,analysis!$A$2:$S$1048576,F$2,FALSE) -> 6.2326285 | G23: =VLOOKUP($A23,analysis!$A$2:$S$1048576,G$2,FALSE) -> 7.5262571 | H23: =VLOOKUP($A23,analysis!$A$2:$S$1048576,H$2,FALSE) -> 11.692952 | I23: =VLOOKUP($A23,analysis!$A$2:$S$1048576,I$2,FALSE) | J23: =VLOOKUP($A23,analysis!$A$2:$U$1048576,J$2,FALSE) -> 1 | K23: =VLOOKUP($A23,analysis!$A$2:$U$1048576,K$2,FALSE) -> 90 | L23: x | M23: =IF(L23="x",G23,"") -> 7.5262571
A24: Gonzalez N. | B24: =VLOOKUP($A24,analysis!$A$2:$S$1048576,B$2,FALSE) -> A | C24: =VLOOKUP($A24,analysis!$A$2:$S$1048576,C$2,FALSE) -> Fiorentina | D24: =VLOOKUP($A24,analysis!$A$2:$S$1048576,D$2,FALSE) -> Avg | E24: =VLOOKUP($A24,analysis!$A$2:$S$1048576,E$2,FALSE) -> 1 | F24: =VLOOKUP($A24,analysis!$A$2:$S$1048576,F$2,FALSE) -> 6.2956626 | G24: =VLOOKUP($A24,analysis!$A$2:$S$1048576,G$2,FALSE) -> 7.3536585 | H24: =VLOOKUP($A24,analysis!$A$2:$S$1048576,H$2,FALSE) -> 10.929276 | I24: =VLOOKUP($A24,analysis!$A$2:$S$1048576,I$2,FALSE) | J24: =VLOOKUP($A24,analysis!$A$2:$U$1048576,J$2,FALSE) -> 0 | K24: =VLOOKUP($A24,analysis!$A$2:$U$1048576,K$2,FALSE) -> 50 | L24: x | M24: =IF(L24="x",G24,"") -> 7.3536585
A25: Piatek | B25: =VLOOKUP($A25,analysis!$A$2:$S$1048576,B$2,FALSE) -> A | C25: =VLOOKUP($A25,analysis!$A$2:$S$1048576,C$2,FALSE) -> Salernitana | D25: =VLOOKUP($A25,analysis!$A$2:$S$1048576,D$2,FALSE) -> Avg | E25: =VLOOKUP($A25,analysis!$A$2:$S$1048576,E$2,FALSE) -> 1 | F25: =VLOOKUP($A25,analysis!$A$2:$S$1048576,F$2,FALSE) -> 6.0277113 | G25: =VLOOKUP($A25,analysis!$A$2:$S$1048576,G$2,FALSE) -> 7.0053314 | H25: =VLOOKUP($A25,analysis!$A$2:$S$1048576,H$2,FALSE) -> 10.118485 | I25: =VLOOKUP($A25,analysis!$A$2:$S$1048576,I$2,FALSE) | J25: =VLOOKUP($A25,analysis!$A$2:$U$1048576,J$2,FALSE) -> 1 | K25: =VLOOKUP($A25,analysis!$A$2:$U$1048576,K$2,FALSE) -> 80 | M25: =IF(L25="x",G25,"")
A26: Zapata D. | B26: =VLOOKUP($A26,analysis!$A$2:$S$1048576,B$2,FALSE) -> A | C26: =VLOOKUP($A26,analysis!$A$2:$S$1048576,C$2,FALSE) -> Atalanta | D26: =VLOOKUP($A26,analysis!$A$2:$S$1048576,D$2,FALSE) -> Avg | E26: =VLOOKUP($A26,analysis!$A$2:$S$1048576,E$2,FALSE) -> 1 | F26: =VLOOKUP($A26,analysis!$A$2:$S$1048576,F$2,FALSE) -> 5.999733 | G26: =VLOOKUP($A26,analysis!$A$2:$S$1048576,G$2,FALSE) -> 6.5059713 | H26: =VLOOKUP($A26,analysis!$A$2:$S$1048576,H$2,FALSE) -> 8.5162335 | I26: =VLOOKUP($A26,analysis!$A$2:$S$1048576,I$2,FALSE) | J26: =VLOOKUP($A26,analysis!$A$2:$U$1048576,J$2,FALSE) -> 0 | K26: =VLOOKUP($A26,analysis!$A$2:$U$1048576,K$2,FALSE) -> 65 | M26: =IF(L26="x",G26,"")
A27: Dessers | B27: =VLOOKUP($A27,analysis!$A$2:$S$1048576,B$2,FALSE) -> A | C27: =VLOOKUP($A27,analysis!$A$2:$S$1048576,C$2,FALSE) -> Cremonese | D27: =VLOOKUP($A27,analysis!$A$2:$S$1048576,D$2,FALSE) -> Avg | E27: =VLOOKUP($A27,analysis!$A$2:$S$1048576,E$2,FALSE) -> 1 | F27: =VLOOKUP($A27,analysis!$A$2:$S$1048576,F$2,FALSE) -> 5.9931051 | G27: =VLOOKUP($A27,analysis!$A$2:$S$1048576,G$2,FALSE) -> 6.4616096 | H27: =VLOOKUP($A27,analysis!$A$2:$S$1048576,H$2,FALSE) -> 8.3120041 | I27: =VLOOKUP($A27,analysis!$A$2:$S$1048576,I$2,FALSE) | J27: =VLOOKUP($A27,analysis!$A$2:$U$1048576,J$2,FALSE) -> 1 | K27: =VLOOKUP($A27,analysis!$A$2:$U$1048576,K$2,FALSE) -> 85 | M27: =IF(L27="x",G27,"")

Sheet my_team_5
A1: Players | B1: role | C1: team | D1: oppteam | E1: home | F1: MV | G1: FV | H1: Potential | I1: Clean Sheet % | J1: starter | K1: vote% | L1: Lineup
B2: 2 | C2: 3 | D2: 4 | E2: 5 | F2: 6 | G2: 8 | H2: 19 | I2: 10 | J2: 20 | K2: 21
A3: Onana | B3: =VLOOKUP($A3,analysis!$A$2:$S$1048576,B$2,FALSE) -> P | C3: =VLOOKUP($A3,analysis!$A$2:$S$1048576,C$2,FALSE) -> Inter | D3: =VLOOKUP($A3,analysis!$A$2:$S$1048576,D$2,FALSE) -> Avg | E3: =VLOOKUP($A3,analysis!$A$2:$S$1048576,E$2,FALSE) -> 1 | F3: =VLOOKUP($A3,analysis!$A$2:$S$1048576,F$2,FALSE) -> 6.2143207 | G3: =VLOOKUP($A3,analysis!$A$2:$S$1048576,G$2,FALSE) -> 4.8897798 | H3: =VLOOKUP($A3,analysis!$A$2:$S$1048576,H$2,FALSE) -> 3.4142399 | I3: =VLOOKUP($A3,analysis!$A$2:$S$1048576,I$2,FALSE) -> 14.971391 | J3: =VLOOKUP($A3,analysis!$A$2:$U$1048576,J$2,FALSE) -> 1 | K3: =VLOOKUP($A3,analysis!$A$2:$U$1048576,K$2,FALSE) -> 100 | L3: x | M3: =IF(L3="x",G3,"") -> 4.8897798
A4: Falcone | B4: =VLOOKUP($A4,analysis!$A$2:$S$1048576,B$2,FALSE) -> P | C4: =VLOOKUP($A4,analysis!$A$2:$S$1048576,C$2,FALSE) -> Lecce | D4: =VLOOKUP($A4,analysis!$A$2:$S$1048576,D$2,FALSE) -> Avg | E4: =VLOOKUP($A4,analysis!$A$2:$S$1048576,E$2,FALSE) -> 1 | F4: =VLOOKUP($A4,analysis!$A$2:$S$1048576,F$2,FALSE) -> 6.249207 | G4: =VLOOKUP($A4,analysis!$A$2:$S$1048576,G$2,FALSE) -> 5.2039666 | H4: =VLOOKUP($A4,analysis!$A$2:$S$1048576,H$2,FALSE) -> 4.3833609 | I4: =VLOOKUP($A4,analysis!$A$2:$S$1048576,I$2,FALSE) -> 9.9858597 | J4: =VLOOKUP($A4,analysis!$A$2:$U$1048576,J$2,FALSE) -> 1 | K4: =VLOOKUP($A4,analysis!$A$2:$U$1048576,K$2,FALSE) -> 100 | M4: =IF(L4="x",G4,"")
A5: Carnesecchi | B5: =VLOOKUP($A5,analysis!$A$2:$S$1048576,B$2,FALSE) -> P | C5: =VLOOKUP($A5,analysis!$A$2:$S$1048576,C$2,FALSE) -> Cremonese | D5: =VLOOKUP($A5,analysis!$A$2:$S$1048576,D$2,FALSE) -> Avg | E5: =VLOOKUP($A5,analysis!$A$2:$S$1048576,E$2,FALSE) -> 1 | F5: =VLOOKUP($A5,analysis!$A$2:$S$1048576,F$2,FALSE) -> 6.5441989 | G5: =VLOOKUP($A5,analysis!$A$2:$S$1048576,G$2,FALSE) -> 5.2901446 | H5: =VLOOKUP($A5,analysis!$A$2:$S$1048576,H$2,FALSE) -> 3.623622 | I5: =VLOOKUP($A5,analysis!$A$2:$S$1048576,I$2,FALSE) -> 16.930204 | J5: =VLOOKUP($A5,analysis!$A$2:$U$1048576,J$2,FALSE) -> 1 | K5: =VLOOKUP($A5,analysis!$A$2:$U$1048576,K$2,FALSE) -> 100 | M5: =IF(L5="x",G5,"")
A6: Di Lorenzo | B6: =VLOOKUP($A6,analysis!$A$2:$S$1048576,B$2,FALSE) -> D | C6: =VLOOKUP($A6,analysis!$A$2:$S$1048576,C$2,FALSE) -> Napoli | D6: =VLOOKUP($A6,analysis!$A$2:$S$1048576,D$2,FALSE) -> Avg | E6: =VLOOKUP($A6,analysis!$A$2:$S$1048576,E$2,FALSE) -> 1 | F6: =VLOOKUP($A6,analysis!$A$2:$S$1048576,F$2,FALSE) -> 6.1519069 | G6: =VLOOKUP($A6,analysis!$A$2:$S$1048576,G$2,FALSE) -> 6.4777348 | H6: =VLOOKUP($A6,analysis!$A$2:$S$1048576,H$2,FALSE) -> 7.6942448 | I6: =VLOOKUP($A6,analysis!$A$2:$S$1048576,I$2,FALSE) | J6: =VLOOKUP($A6,analysis!$A$2:$U$1048576,J$2,FALSE) -> 1 | K6: =VLOOKUP($A6,analysis!$A$2:$U$1048576,K$2,FALSE) -> 100 | L6: x | M6: =IF(L6="x",G6,"") -> 6.4777348 | P6: =COUNT(M:M) -> 11 | Q6: /11
A7: Posch | B7: =VLOOKUP($A7,analysis!$A$2:$S$1048576,B$2,FALSE) -> D | C7: =VLOOKUP($A7,analysis!$A$2:$S$1048576,C$2,FALSE) -> Bologna | D7: =VLOOKUP($A7,analysis!$A$2:$S$1048576,D$2,FALSE) -> Avg | E7: =VLOOKUP($A7,analysis!$A$2:$S$1048576,E$2,FALSE) -> 1 | F7: =VLOOKUP($A7,analysis!$A$2:$S$1048576,F$2,FALSE) -> 6.1073914 | G7: =VLOOKUP($A7,analysis!$A$2:$S$1048576,G$2,FALSE) -> 6.5109823 | H7: =VLOOKUP($A7,analysis!$A$2:$S$1048576,H$2,FALSE) -> 8.3680647 | I7: =VLOOKUP($A7,analysis!$A$2:$S$1048576,I$2,FALSE) | J7: =VLOOKUP($A7,analysis!$A$2:$U$1048576,J$2,FALSE) -> 0 | K7: =VLOOKUP($A7,analysis!$A$2:$U$1048576,K$2,FALSE) -> 65 | L7: x | M7: =IF(L7="x",G7,"") -> 6.5109823
A8: Valeri | B8: =VLOOKUP($A8,analysis!$A$2:$S$1048576,B$2,FALSE) -> D | C8: =VLOOKUP($A8,analysis!$A$2:$S$1048576,C$2,FALSE) -> Cremonese | D8: =VLOOKUP($A8,analysis!$A$2:$S$1048576,D$2,FALSE) -> Avg | E8: =VLOOKUP($A8,analysis!$A$2:$S$1048576,E$2,FALSE) -> 1 | F8: =VLOOKUP($A8,analysis!$A$2:$S$1048576,F$2,FALSE) -> 6.0330887 | G8: =VLOOKUP($A8,analysis!$A$2:$S$1048576,G$2,FALSE) -> 6.2677621 | H8: =VLOOKUP($A8,analysis!$A$2:$S$1048576,H$2,FALSE) -> 7.4301754 | I8: =VLOOKUP($A8,analysis!$A$2:$S$1048576,I$2,FALSE) | J8: =VLOOKUP($A8,analysis!$A$2:$U$1048576,J$2,FALSE) -> 1 | K8: =VLOOKUP($A8,analysis!$A$2:$U$1048576,K$2,FALSE) -> 95 | L8: x | M8: =IF(L8="x",G8,"") -> 6.2677621 | P8: TOT FV: | Q8: =SUM(M:M) -> 74.272961
A9: Depaoli | B9: =VLOOKUP($A9,analysis!$A$2:$S$1048576,B$2,FALSE) -> D | C9: =VLOOKUP($A9,analysis!$A$2:$S$1048576,C$2,FALSE) -> Verona | D9: =VLOOKUP($A9,analysis!$A$2:$S$1048576,D$2,FALSE) -> Avg | E9: =VLOOKUP($A9,analysis!$A$2:$S$1048576,E$2,FALSE) -> 1 | F9: =VLOOKUP($A9,analysis!$A$2:$S$1048576,F$2,FALSE) -> 5.8873657 | G9: =VLOOKUP($A9,analysis!$A$2:$S$1048576,G$2,FALSE) -> 6.2629237 | H9: =VLOOKUP($A9,analysis!$A$2:$S$1048576,H$2,FALSE) -> 7.9259834 | I9: =VLOOKUP($A9,analysis!$A$2:$S$1048576,I$2,FALSE) | J9: =VLOOKUP($A9,analysis!$A$2:$U$1048576,J$2,FALSE) -> 1 | K9: =VLOOKUP($A9,analysis!$A$2:$U$1048576,K$2,FALSE) -> 75 | M9: =IF(L9="x",G9,"")
A10: Bastoni | B10: =VLOOKUP($A10,analysis!$A$2:$S$1048576,B$2,FALSE) -> D | C10: =VLOOKUP($A10,analysis!$A$2:$S$1048576,C$2,FALSE) -> Inter | D10: =VLOOKUP($A10,analysis!$A$2:$S$1048576,D$2,FALSE) -> Avg | E10: =VLOOKUP($A10,analysis!$A$2:$S$1048576,E$2,FALSE) -> 1 | F10: =VLOOKUP($A10,analysis!$A$2:$S$1048576,F$2,FALSE) -> 6.0377571 | G10: =VLOOKUP($A10,analysis!$A$2:$S$1048576,G$2,FALSE) -> 6.2334428 | H10: =VLOOKUP($A10,analysis!$A$2:$S$1048576,H$2,FALSE) -> 7.3235249 | I10: =VLOOKUP($A10,analysis!$A$2:$S$1048576,I$2,FALSE) | J10: =VLOOKUP($A10,analysis!$A$2:$U$1048576,J$2,FALSE) -> 1 | K10: =VLOOKUP($A10,analysis!$A$2:$U$1048576,K$2,FALSE) -> 80 | M10: =IF(L10="x",G10,"")
A11: Holm | B11: =VLOOKUP($A11,analysis!$A$2:$S$1048576,B$2,FALSE) -> D | C11: =VLOOKUP($A11,analysis!$A$2:$S$1048576,C$2,FALSE) -> Spezia | D11: =VLOOKUP($A11,analysis!$A$2:$S$1048576,D$2,FALSE) -> Avg | E11: =VLOOKUP($A11,analysis!$A$2:$S$1048576,E$2,FALSE) -> 1 | F11: =VLOOKUP($A11,analysis!$A$2:$S$1048576,F$2,FALSE) -> 5.8958558 | G11: =VLOOKUP($A11,analysis!$A$2:$S$1048576,G$2,FALSE) -> 6.1179554 | H11: =VLOOKUP($A11,analysis!$A$2:$S$1048576,H$2,FALSE) -> 7.3647286 | I11: =VLOOKUP($A11,analysis!$A$2:$S$1048576,I$2,FALSE) | J11: =VLOOKUP($A11,analysis!$A$2:$U$1048576,J$2,FALSE) -> 1 | K11: =VLOOKUP($A11,analysis!$A$2:$U$1048576,K$2,FALSE) -> 95 | M11: =IF(L11="x",G11,"")
A12: Singo | B12: =VLOOKUP($A12,analysis!$A$2:$S$1048576,B$2,FALSE) -> D | C12: =VLOOKUP($A12,analysis!$A$2:$S$1048576,C$2,FALSE) -> Torino | D12: =VLOOKUP($A12,analysis!$A$2:$S$1048576,D$2,FALSE) -> Avg | E12: =VLOOKUP($A12,analysis!$A$2:$S$1048576,E$2,FALSE) -> 1 | F12: =VLOOKUP($A12,analysis!$A$2:$S$1048576,F$2,FALSE) -> 5.9578402 | G12: =VLOOKUP($A12,analysis!$A$2:$S$1048576,G$2,FALSE) -> 5.9981669 | H12: =VLOOKUP($A12,analysis!$A$2:$S$1048576,H$2,FALSE) -> 6.7876256 | I12: =VLOOKUP($A12,analysis!$A$2:$S$1048576,I$2,FALSE) | J12: =VLOOKUP($A12,analysis!$A$2:$U$1048576,J$2,FALSE) -> 1 | K12: =VLOOKUP($A12,analysis!$A$2:$U$1048576,K$2,FALSE) -> 75 | M12: =IF(L12="x",G12,"")
A13: Bijol | B13: =VLOOKUP($A13,analysis!$A$2:$S$1048576,B$2,FALSE) -> D | C13: =VLOOKUP($A13,analysis!$A$2:$S$1048576,C$2,FALSE) -> Udinese | D13: =VLOOKUP($A13,analysis!$A$2:$S$1048576,D$2,FALSE) -> Avg | E13: =VLOOKUP($A13,analysis!$A$2:$S$1048576,E$2,FALSE) -> 1 | F13: =VLOOKUP($A13,analysis!$A$2:$S$1048576,F$2,FALSE) -> 5.9518599 | G13: =VLOOKUP($A13,analysis!$A$2:$S$1048576,G$2,FALSE) -> 6.1657382 | H13: =VLOOKUP($A13,analysis!$A$2:$S$1048576,H$2,FALSE) -> 7.6662578 | I13: =VLOOKUP($A13,analysis!$A$2:$S$1048576,I$2,FALSE) | J13: =VLOOKUP($A13,analysis!$A$2:$U$1048576,J$2,FALSE) -> 1 | K13: =VLOOKUP($A13,analysis!$A$2:$U$1048576,K$2,FALSE) -> 80 | M13: =IF(L13="x",G13,"")
A14: Strefezza | B14: =VLOOKUP($A14,analysis!$A$2:$S$1048576,B$2,FALSE) -> C | C14: =VLOOKUP($A14,analysis!$A$2:$S$1048576,C$2,FALSE) -> Lecce | D14: =VLOOKUP($A14,analysis!$A$2:$S$1048576,D$2,FALSE) -> Avg | E14: =VLOOKUP($A14,analysis!$A$2:$S$1048576,E$2,FALSE) -> 1 | F14: =VLOOKUP($A14,analysis!$A$2:$S$1048576,F$2,FALSE) -> 6.3629762 | G14: =VLOOKUP($A14,analysis!$A$2:$S$1048576,G$2,FALSE) -> 7.1194046 | H14: =VLOOKUP($A14,analysis!$A$2:$S$1048576,H$2,FALSE) -> 9.6880026 | I14: =VLOOKUP($A14,analysis!$A$2:$S$1048576,I$2,FALSE) | J14: =VLOOKUP($A14,analysis!$A$2:$U$1048576,J$2,FALSE) -> 1 | K14: =VLOOKUP($A14,analysis!$A$2:$U$1048576,K$2,FALSE) -> 90 | L14: x | M14: =IF(L14="x",G14,"") -> 7.1194046
A15: Miranchuk | B15: =VLOOKUP($A15,analysis!$A$2:$S$1048576,B$2,FALSE) -> C | C15: =VLOOKUP($A15,analysis!$A$2:$S$1048576,C$2,FALSE) -> Torino | D15: =VLOOKUP($A15,analysis!$A$2:$S$1048576,D$2,FALSE) -> Avg | E15: =VLOOKUP($A15,analysis!$A$2:$S$1048576,E$2,FALSE) -> 1 | F15: =VLOOKUP($A15,analysis!$A$2:$S$1048576,F$2,FALSE) -> 6.2623326 | G15: =VLOOKUP($A15,analysis!$A$2:$S$1048576,G$2,FALSE) -> 7.2298625 | H15: =VLOOKUP($A15,analysis!$A$2:$S$1048576,H$2,FALSE) -> 10.325368 | I15: =VLOOKUP($A15,analysis!$A$2:$S$1048576,I$2,FALSE) | J15: =VLOOKUP($A15,analysis!$A$2:$U$1048576,J$2,FALSE) -> 1 | K15: =VLOOKUP($A15,analysis!$A$2:$U$1048576,K$2,FALSE) -> 70 | L15: x | M15: =IF(L15="x",G15,"") -> 7.2298625
A16: Frattesi | B16: =VLOOKUP($A16,analysis!$A$2:$S$1048576,B$2,FALSE) -> C | C16: =VLOOKUP($A16,analysis!$A$2:$S$1048576,C$2,FALSE) -> Sassuolo | D16: =VLOOKUP($A16,analysis!$A$2:$S$1048576,D$2,FALSE) -> Avg | E16: =VLOOKUP($A16,analysis!$A$2:$S$1048576,E$2,FALSE) -> 1 | F16: =VLOOKUP($A16,analysis!$A$2:$S$1048576,F$2,FALSE) -> 6.221866 | G16: =VLOOKUP($A16,analysis!$A$2:$S$1048576,G$2,FALSE) -> 7.1831157 | H16: =VLOOKUP($A16,analysis!$A$2:$S$1048576,H$2,FALSE) -> 10.497463 | I16: =VLOOKUP($A16,analysis!$A$2:$S$1048576,I$2,FALSE) | J16: =VLOOKUP($A16,analysis!$A$2:$U$1048576,J$2,FALSE) -> 1 | K16: =VLOOKUP($A16,analysis!$A$2:$U$1048576,K$2,FALSE) -> 100 | L16: x | M16: =IF(L16="x",G16,"") -> 7.1831157
A17: Ciurria | B17: =VLOOKUP($A17,analysis!$A$2:$S$1048576,B$2,FALSE) -> C | C17: =VLOOKUP($A17,analysis!$A$2:$S$1048576,C$2,FALSE) -> Monza | D17: =VLOOKUP($A17,analysis!$A$2:$S$1048576,D$2,FALSE) -> Avg | E17: =VLOOKUP($A17,analysis!$A$2:$S$1048576,E$2,FALSE) -> 1 | F17: =VLOOKUP($A17,analysis!$A$2:$S$1048576,F$2,FALSE) -> 6.1736802 | G17: =VLOOKUP($A17,analysis!$A$2:$S$1048576,G$2,FALSE) -> 7.0597889 | H17: =VLOOKUP($A17,analysis!$A$2:$S$1048576,H$2,FALSE) -> 10.005814 | I17: =VLOOKUP($A17,analysis!$A$2:$S$1048576,I$2,FALSE) | J17: =VLOOKUP($A17,analysis!$A$2:$U$1048576,J$2,FALSE) -> 1 | K17: =VLOOKUP($A17,analysis!$A$2:$U$1048576,K$2,FALSE) -> 90 | L17: x | M17: =IF(L17="x",G17,"") -> 7.0597889
A18: Politano | B18: =VLOOKUP($A18,analysis!$A$2:$S$1048576,B$2,FALSE) -> C | C18: =VLOOKUP($A18,analysis!$A$2:$S$1048576,C$2,FALSE) -> Napoli | D18: =VLOOKUP($A18,analysis!$A$2:$S$1048576,D$2,FALSE) -> Avg | E18: =VLOOKUP($A18,analysis!$A$2:$S$1048576,E$2,FALSE) -> 1 | F18: =VLOOKUP($A18,analysis!$A$2:$S$1048576,F$2,FALSE) -> 6.2422307 | G18: =VLOOKUP($A18,analysis!$A$2:$S$1048576,G$2,FALSE) -> 6.7383209 | H18: =VLOOKUP($A18,analysis!$A$2:$S$1048576,H$2,FALSE) -> 8.5497874 | I18: =VLOOKUP($A18,analysis!$A$2:$S$1048576,I$2,FALSE) | J18: =VLOOKUP($A18,analysis!$A$2:$U$1048576,J$2,FALSE) -> 0 | K18: =VLOOKUP($A18,analysis!$A$2:$U$1048576,K$2,FALSE) -> 90 | M18: =IF(L18="x",G18,"")
A19: Pasalic | B19: =VLOOKUP($A19,analysis!$A$2:$S$1048576,B$2,FALSE) -> C | C19: =VLOOKUP($A19,analysis!$A$2:$S$1048576,C$2,FALSE) -> Atalanta | D19: =VLOOKUP($A19,analysis!$A$2:$S$1048576,D$2,FALSE) -> Avg | E19: =VLOOKUP($A19,analysis!$A$2:$S$1048576,E$2,FALSE) -> 1 | F19: =VLOOKUP($A19,analysis!$A$2:$S$1048576,F$2,FALSE) -> 6.0646458 | G19: =VLOOKUP($A19,analysis!$A$2:$S$1048576,G$2,FALSE) -> 6.7153377 | H19: =VLOOKUP($A19,analysis!$A$2:$S$1048576,H$2,FALSE) -> 9.071455 | I19: =VLOOKUP($A19,analysis!$A$2:$S$1048576,I$2,FALSE) | J19: =VLOOKUP($A19,analysis!$A$2:$U$1048576,J$2,FALSE) -> 1 | K19: =VLOOKUP($A19,analysis!$A$2:$U$1048576,K$2,FALSE) -> 90 | M19: =IF(L19="x",G19,"")
A20: Radonjic | B20: =VLOOKUP($A20,analysis!$A$2:$S$1048576,B$2,FALSE) -> C | C20: =VLOOKUP($A20,analysis!$A$2:$S$1048576,C$2,FALSE) -> Torino | D20: =VLOOKUP($A20,analysis!$A$2:$S$1048576,D$2,FALSE) -> Avg | E20: =VLOOKUP($A20,analysis!$A$2:$S$1048576,E$2,FALSE) -> 1 | F20: =VLOOKUP($A20,analysis!$A$2:$S$1048576,F$2,FALSE) -> 6.1476795 | G20: =VLOOKUP($A20,analysis!$A$2:$S$1048576,G$2,FALSE) -> 6.5092603 | H20: =VLOOKUP($A20,analysis!$A$2:$S$1048576,H$2,FALSE) -> 8.0776103 | I20: =VLOOKUP($A20,analysis!$A$2:$S$1048576,I$2,FALSE) | J20: =VLOOKUP($A20,analysis!$A$2:$U$1048576,J$2,FALSE) -> 1 | K20: =VLOOKUP($A20,analysis!$A$2:$U$1048576,K$2,FALSE) -> 90 | M20: =IF(L20="x",G20,"")
A21: Lovric | B21: =VLOOKUP($A21,analysis!$A$2:$S$1048576,B$2,FALSE) -> C | C21: =VLOOKUP($A21,analysis!$A$2:$S$1048576,C$2,FALSE) -> Udinese | D21: =VLOOKUP($A21,analysis!$A$2:$S$1048576,D$2,FALSE) -> Avg | E21: =VLOOKUP($A21,analysis!$A$2:$S$1048576,E$2,FALSE) -> 1 | F21: =VLOOKUP($A21,analysis!$A$2:$S$1048576,F$2,FALSE) -> 6.1413821 | G21: =VLOOKUP($A21,analysis!$A$2:$S$1048576,G$2,FALSE) -> 6.5690946 | H21: =VLOOKUP($A21,analysis!$A$2:$S$1048576,H$2,FALSE) -> 8.1497015 | I21: =VLOOKUP($A21,analysis!$A$2:$S$1048576,I$2,FALSE) | J21: =VLOOKUP($A21,analysis!$A$2:$U$1048576,J$2,FALSE) -> 1 | K21: =VLOOKUP($A21,analysis!$A$2:$U$1048576,K$2,FALSE) -> 95 | M21: =IF(L21="x",G21,"")
A22: Lukaku | B22: =VLOOKUP($A22,analysis!$A$2:$S$1048576,B$2,FALSE) -> A | C22: =VLOOKUP($A22,analysis!$A$2:$S$1048576,C$2,FALSE) -> Inter | D22: =VLOOKUP($A22,analysis!$A$2:$S$1048576,D$2,FALSE) -> Avg | E22: =VLOOKUP($A22,analysis!$A$2:$S$1048576,E$2,FALSE) -> 1 | F22: =VLOOKUP($A22,analysis!$A$2:$S$1048576,F$2,FALSE) -> 6.0208029 | G22: =VLOOKUP($A22,analysis!$A$2:$S$1048576,G$2,FALSE) -> 6.7403787 | H22: =VLOOKUP($A22,analysis!$A$2:$S$1048576,H$2,FALSE) -> 9.2564927 | I22: =VLOOKUP($A22,analysis!$A$2:$S$1048576,I$2,FALSE) | J22: =VLOOKUP($A22,analysis!$A$2:$U$1048576,J$2,FALSE) -> 0 | K22: =VLOOKUP($A22,analysis!$A$2:$U$1048576,K$2,FALSE) -> 40 | L22: x | M22: =IF(L22="x",G22,"") -> 6.7403787
A23: Abraham | B23: =VLOOKUP($A23,analysis!$A$2:$S$1048576,B$2,FALSE) -> A | C23: =VLOOKUP($A23,analysis!$A$2:$S$1048576,C$2,FALSE) -> Roma | D23: =VLOOKUP($A23,analysis!$A$2:$S$1048576,D$2,FALSE) -> Avg | E23: =VLOOKUP($A23,analysis!$A$2:$S$1048576,E$2,FALSE) -> 1 | F23: =VLOOKUP($A23,analysis!$A$2:$S$1048576,F$2,FALSE) -> 6.3008909 | G23: =VLOOKUP($A23,analysis!$A$2:$S$1048576,G$2,FALSE) -> 7.41351 | H23: =VLOOKUP($A23,analysis!$A$2:$S$1048576,H$2,FALSE) -> 11.153132 | I23: =VLOOKUP($A23,analysis!$A$2:$S$1048576,I$2,FALSE) | J23: =VLOOKUP($A23,analysis!$A$2:$U$1048576,J$2,FALSE) -> 1 | K23: =VLOOKUP($A23,analysis!$A$2:$U$1048576,K$2,FALSE) -> 100 | L23: x | M23: =IF(L23="x",G23,"") -> 7.41351
A24: Giroud | B24: =VLOOKUP($A24,analysis!$A$2:$S$1048576,B$2,FALSE) -> A | C24: =VLOOKUP($A24,analysis!$A$2:$S$1048576,C$2,FALSE) -> Milan | D24: =VLOOKUP($A24,analysis!$A$2:$S$1048576,D$2,FALSE) -> Avg | E24: =VLOOKUP($A24,analysis!$A$2:$S$1048576,E$2,FALSE) -> 1 | F24: =VLOOKUP($A24,analysis!$A$2:$S$1048576,F$2,FALSE) -> 6.2506531 | G24: =VLOOKUP($A24,analysis!$A$2:$S$1048576,G$2,FALSE) -> 7.3806421 | H24: =VLOOKUP($A24,analysis!$A$2:$S$1048576,H$2,FALSE) -> 11.162412 | I24: =VLOOKUP($A24,analysis!$A$2:$S$1048576,I$2,FALSE) | J24: =VLOOKUP($A24,analysis!$A$2:$U$1048576,J$2,FALSE) -> 1 | K24: =VLOOKUP($A24,analysis!$A$2:$U$1048576,K$2,FALSE) -> 90 | L24: x | M24: =IF(L24="x",G24,"") -> 7.3806421
A25: Piatek | B25: =VLOOKUP($A25,analysis!$A$2:$S$1048576,B$2,FALSE) -> A | C25: =VLOOKUP($A25,analysis!$A$2:$S$1048576,C$2,FALSE) -> Salernitana | D25: =VLOOKUP($A25,analysis!$A$2:$S$1048576,D$2,FALSE) -> Avg | E25: =VLOOKUP($A25,analysis!$A$2:$S$1048576,E$2,FALSE) -> 1 | F25: =VLOOKUP($A25,analysis!$A$2:$S$1048576,F$2,FALSE) -> 6.0277113 | G25: =VLOOKUP($A25,analysis!$A$2:$S$1048576,G$2,FALSE) -> 7.0053314 | H25: =VLOOKUP($A25,analysis!$A$2:$S$1048576,H$2,FALSE) -> 10.118485 | I25: =VLOOKUP($A25,analysis!$A$2:$S$1048576,I$2,FALSE) | J25: =VLOOKUP($A25,analysis!$A$2:$U$1048576,J$2,FALSE) -> 1 | K25: =VLOOKUP($A25,analysis!$A$2:$U$1048576,K$2,FALSE) -> 80 | M25: =IF(L25="x",G25,"")
A26: Caprari | B26: =VLOOKUP($A26,analysis!$A$2:$S$1048576,B$2,FALSE) -> A | C26: =VLOOKUP($A26,analysis!$A$2:$S$1048576,C$2,FALSE) -> Monza | D26: =VLOOKUP($A26,analysis!$A$2:$S$1048576,D$2,FALSE) -> Avg | E26: =VLOOKUP($A26,analysis!$A$2:$S$1048576,E$2,FALSE) -> 1 | F26: =VLOOKUP($A26,analysis!$A$2:$S$1048576,F$2,FALSE) -> 6.0348879 | G26: =VLOOKUP($A26,analysis!$A$2:$S$1048576,G$2,FALSE) -> 6.6120614 | H26: =VLOOKUP($A26,analysis!$A$2:$S$1048576,H$2,FALSE) -> 8.7766377 | I26: =VLOOKUP($A26,analysis!$A$2:$S$1048576,I$2,FALSE) | J26: =VLOOKUP($A26,analysis!$A$2:$U$1048576,J$2,FALSE) -> 1 | K26: =VLOOKUP($A26,analysis!$A$2:$U$1048576,K$2,FALSE) -> 100 | M26: =IF(L26="x",G26,"")
A27: Pinamonti | B27: =VLOOKUP($A27,analysis!$A$2:$S$1048576,B$2,FALSE) -> A | C27: =VLOOKUP($A27,analysis!$A$2:$S$1048576,C$2,FALSE) -> Sassuolo | D27: =VLOOKUP($A27,analysis!$A$2:$S$1048576,D$2,FALSE) -> Avg | E27: =VLOOKUP($A27,analysis!$A$2:$S$1048576,E$2,FALSE) -> 1 | F27: =VLOOKUP($A27,analysis!$A$2:$S$1048576,F$2,FALSE) -> 5.8757825 | G27: =VLOOKUP($A27,analysis!$A$2:$S$1048576,G$2,FALSE) -> 6.4725951 | H27: =VLOOKUP($A27,analysis!$A$2:$S$1048576,H$2,FALSE) -> 8.6325334 | I27: =VLOOKUP($A27,analysis!$A$2:$S$1048576,I$2,FALSE) | J27: =VLOOKUP($A27,analysis!$A$2:$U$1048576,J$2,FALSE) -> 1 | K27: =VLOOKUP($A27,analysis!$A$2:$U$1048576,K$2,FALSE) -> 85 | M27: =IF(L27="x",G27,"")
