Workbook

Sheet data
A1: player | B1: role | C1: team | D1: oppteam | E1: home | F1: starter | G1: vote% | H1: MV | I1: MV std | J1: FV | K1: FV std | L1: MV loc | M1: MV scale | N1: MV skewness | O1: MV tailweight | P1: FV loc | Q1: FV scale | R1: FV skewness | S1: FV tailweight | T1: Clean Sheet %
A2: Sommer | B2: P | C2: Inter | D2: Avg | E2: 1 | F2: 1 | G2: 100 | H2: 6.1602089 | I2: 0.42871428 | J2: 5.7456728 | K2: 0.63167262 | L2: 6.1056647 | M2: 0.49319714 | N2: 0.081713915 | O2: 1.0808794 | P2: 6.5082159 | Q2: 0.58967614 | R2: -0.8297106 | S2: 1.1394389 | T2: 61.633885
A3: Di Gennaro | B3: P | C3: Inter | D3: Avg | E3: 1 | F3: 0 | G3: 0 | H3: 6.1602089 | I3: 0.42871428 | J3: 5.7456728 | K3: 0.63167262 | L3: 6.1056647 | M3: 0.49319714 | N3: 0.081713915 | O3: 1.0808794 | P3: 6.5082159 | Q3: 0.58967614 | R3: -0.8297106 | S3: 1.1394389 | T3: 61.633885
A4: Audero | B4: P | C4: Inter | D4: Avg | E4: 1 | F4: 0 | G4: 0 | H4: 6.1598888 | I4: 0.42884994 | J4: 5.7429595 | K4: 0.63165712 | L4: 6.1053338 | M4: 0.49335432 | N4: 0.081703484 | O4: 1.080847 | P4: 6.5046053 | Q4: 0.59091777 | R4: -0.82763517 | S4: 1.1390972 | T4: 61.098218
A5: Musso | B5: P | C5: Atalanta | D5: Avg | E5: 1 | F5: 1 | G5: 100 | H5: 6.1711777 | I5: 0.42764544 | J5: 5.7165921 | K5: 0.63259184 | L5: 6.1206765 | M5: 0.49338388 | N5: 0.075656414 | O5: 1.0780797 | P5: 6.4707279 | Q5: 0.60398102 | R5: -0.80773276 | S5: 1.1354693 | T5: 58.5702
A6: Gemello | B6: P | C6: Torino | D6: Avg | E6: 1 | F6: 0 | G6: 0 | H6: 6.1616667 | I6: 0.43127954 | J6: 5.6433346 | K6: 0.63381958 | L6: 6.1233492 | M6: 0.50177073 | N6: 0.056157589 | O6: 1.0742245 | P6: 6.3713179 | Q6: 0.64054251 | R6: -0.75028455 | S6: 1.1253692 | T6: 53.595075
A7: Popa | B7: P | C7: Torino | D7: Avg | E7: 1 | F7: 0 | G7: 0 | H7: 6.1616667 | I7: 0.43127954 | J7: 5.6433346 | K7: 0.63381958 | L7: 6.1233492 | M7: 0.50177073 | N7: 0.056157589 | O7: 1.0742245 | P7: 6.3713179 | Q7: 0.64054251 | R7: -0.75028455 | S7: 1.1253692 | T7: 53.595075
A8: Milinkovic-Savic V. | B8: P | C8: Torino | D8: Avg | E8: 1 | F8: 1 | G8: 100 | H8: 6.1486756 | I8: 0.44052219 | J8: 5.4146411 | K8: 0.6635679 | L8: 6.1006746 | M8: 0.5093466 | N8: 0.069546759 | O8: 1.0725877 | P8: 6.0538473 | Q8: 0.79207265 | R8: -0.56229293 | S8: 1.0828776 | T8: 42.203921
A9: Perin | B9: P | C9: Juventus | D9: Avg | E9: 1 | F9: 0 | G9: 0 | H9: 6.1579356 | I9: 0.437567 | J9: 5.1924634 | K9: 0.68686396 | L9: 6.0854149 | M9: 0.49681598 | N9: 0.10778469 | O9: 1.0791227 | P9: 5.5954452 | Q9: 0.96524608 | R9: -0.30515417 | S9: 1.0361335 | T9: 32.668827
A10: Perilli | B10: P | C10: Verona | D10: Avg | E10: 1 | F10: 0 | G10: 0 | H10: 6.1749573 | I10: 0.43249047 | J10: 5.1855893 | K10: 0.69181031 | L10: 6.1154881 | M10: 0.49572694 | N10: 0.088610232 | O10: 1.0753905 | P10: 5.5692415 | Q10: 0.97799325 | R10: -0.29026455 | S10: 1.0327145 | T10: 36.849645
A11: Berardi A. | B11: P | C11: Verona | D11: Avg | E11: 1 | F11: 0 | G11: 0 | H11: 6.1749573 | I11: 0.43249047 | J11: 5.1855893 | K11: 0.69181031 | L11: 6.1154881 | M11: 0.49572694 | N11: 0.088610232 | O11: 1.0753905 | P11: 5.5692415 | Q11: 0.97799325 | R11: -0.29026455 | S11: 1.0327145 | T11: 36.849645
A12: Radunovic | B12: P | C12: Cagliari | D12: Avg | E12: 1 | F12: 1 | G12: 100 | H12: 6.2101443 | I12: 0.41559863 | J12: 5.1309315 | K12: 0.72752798 | L12: 6.2101636 | M12: 0.49546731 | N12: -8.8214874e-06 | O12: 1.0679669 | P12: 5.4319134 | Q12: 1.0666423 | R12: -0.20698975 | S12: 1.008074 | T12: 23.511165
A13: Scuffet | B13: P | C13: Cagliari | D13: Avg | E13: 1 | F13: 0 | G13: 0 | H13: 6.2101443 | I13: 0.41559863 | J13: 5.1309315 | K13: 0.72752798 | L13: 6.2101636 | M13: 0.49546731 | N13: -8.8214874e-06 | O13: 1.0679669 | P13: 5.4319134 | Q13: 1.0666423 | R13: -0.20698975 | S13: 1.008074 | T13: 23.511165
... A540: Cancellieri | B540: A | C540: Empoli | D540: Avg | E540: 1 | F540: 1 | G540: 100 | H540: 5.6046273 | I540: 0.34329498 | J540: 5.5432462 | K540: 0.35074341 | L540: 5.5664277 | M540: 0.39509228 | N540: 0.071368381 | O540: 1.0019379 | P540: 5.4692283 | Q540: 0.57311654 | R540: 0.09588249 | S540: 1.2994499 | T540: 0

Sheet fantacalcio
B1: Quotazioni Fantacalcio Stagione 2023 24
B2: Id | C2: R | D2: RM | E2: Nome | F2: Squadra | G2: Qt.A | H2: Qt.I | I2: Diff. | J2: Qt.A M | K2: Qt.I M | L2: Diff.M | M2: FVM | N2: FVM M
A3: =E3 -> Maignan | B3: 4312 | C3: P | D3: Por | E3: Maignan | F3: Milan | G3: 17 | H3: 17 | I3: 0 | J3: 17 | K3: 17 | L3: 0 | M3: 89 | N3: 89
A4: =E4 -> Meret | B4: 572 | C4: P | D4: Por | E4: Meret | F4: Napoli | G4: 16 | H4: 17 | I4: -1 | J4: 16 | K4: 17 | L4: -1 | M4: 80 | N4: 80
A5: =E5 -> Sommer | B5: 2428 | C5: P | D5: Por | E5: Sommer | F5: Inter | G5: 16 | H5: 15 | I5: 1 | J5: 16 | K5: 15 | L5: 1 | M5: 67 | N5: 67
A6: =E6 -> Szczesny | B6: 453 | C6: P | D6: Por | E6: Szczesny | F6: Juventus | G6: 15 | H6: 15 | I6: 0 | J6: 15 | K6: 15 | L6: 0 | M6: 71 | N6: 71
A7: =E7 -> Provedel | B7: 2814 | C7: P | D7: Por | E7: Provedel | F7: Lazio | G7: 15 | H7: 16 | I7: -1 | J7: 15 | K7: 16 | L7: -1 | M7: 60 | N7: 60
A8: =E8 -> Rui Patricio | B8: 4270 | C8: P | D8: Por | E8: Rui Patricio | F8: Roma | G8: 12 | H8: 14 | I8: -2 | J8: 12 | K8: 14 | L8: -2 | M8: 47 | N8: 47
A9: =E9 -> Di Gregorio | B9: 5876 | C9: P | D9: Por | E9: Di Gregorio | F9: Monza | G9: 12 | H9: 12 | I9: 0 | J9: 12 | K9: 12 | L9: 0 | M9: 37 | N9: 37
A10: =E10 -> Skorupski | B10: 133 | C10: P | D10: Por | E10: Skorupski | F10: Bologna | G10: 10 | H10: 10 | I10: 0 | J10: 10 | K10: 10 | L10: 0 | M10: 32 | N10: 32
A11: =E11 -> Milinkovic-Savic V. | B11: 2170 | C11: P | D11: Por | E11: Milinkovic-Savic V. | F11: Torino | G11: 10 | H11: 10 | I11: 0 | J11: 10 | K11: 10 | L11: 0 | M11: 31 | N11: 31
A12: =E12 -> Terracciano | B12: 2815 | C12: P | D12: Por | E12: Terracciano | F12: Fiorentina | G12: 10 | H12: 10 | I12: 0 | J12: 10 | K12: 10 | L12: 0 | M12: 14 | N12: 14
A13: =E13 -> Carnesecchi | B13: 4431 | C13: P | D13: Por | E13: Carnesecchi | F13: Atalanta | G13: 10 | H13: 11 | I13: -1 | J13: 10 | K13: 11 | L13: -1 | M13: 10 | N13: 16
A14: =E14 -> Falcone | B14: 2134 | C14: P | D14: Por | E14: Falcone | F14: Lecce | G14: 9 | H14: 8 | I14: 1 | J14: 9 | K14: 8 | L14: 1 | M14: 22 | N14: 22
... A537: =E537 -> Yildiz | B537: 6434 | C537: A | D537: A | E537: Yildiz | F537: Juventus | G537: 1 | H537: 1 | I537: 0 | J537: 1 | K537: 1 | L537: 0 | M537: 1 | N537: 1
A538: =E538 -> 0
A539: =E539 -> 0
A540: =E540 -> 0
A541: =E541 -> 0
A542: =E542 -> 0
A543: =E543 -> 0
A544: =E544 -> 0
A545: =E545 -> 0

Sheet analysis
A1: player | B1: role | C1: team | D1: oppteam | E1: home | F1: MV | G1: MV std | H1: FV | I1: FV std | J1: Clean sheet % | K1: MV loc | L1: MV scale | M1: MV skewness | N1: MV tailweight | O1: FV loc | P1: FV scale | Q1: FV skewness | R1: FV tailweight | S1: FV Potential | T1: starter | U1: vote% | V1: Mantra
A2: =data!A2 -> Sommer | B2: =data!B2 -> P | C2: =data!C2 -> Inter | D2: =data!D2 -> Avg | E2: =data!E2 -> 1 | F2: =data!H2 -> 6.1602089 | G2: =data!I2 -> 0.42871428 | H2: =data!J2 -> 5.7456728 | I2: =data!K2 -> 0.63167262 | J2: =IF(data!T2 > 0,data!T2,"") -> 61.633885 | K2: =data!L2 -> 6.1056647 | L2: =data!M2 -> 0.49319714 | M2: =data!N2 -> 0.081713915 | N2: =data!O2 -> 1.0808794 | O2: =data!P2 -> 6.5082159 | P2: =data!Q2 -> 0.58967614 | Q2: =data!R2 -> -0.8297106 | R2: =data!S2 -> 1.1394389 | S2: =IF(B2="P",H2-2*I2,H2+2*I2) -> 4.4823275 | T2: =data!F2 -> 1 | U2: =data!G2 -> 100 | V2: =VLOOKUP(A2,fantacalcio!A:N,4, FALSE) -> Por
A3: =data!A3 -> Di Gennaro | B3: =data!B3 -> P | C3: =data!C3 -> Inter | D3: =data!D3 -> Avg | E3: =data!E3 -> 1 | F3: =data!H3 -> 6.1602089 | G3: =data!I3 -> 0.42871428 | H3: =data!J3 -> 5.7456728 | I3: =data!K3 -> 0.63167262 | J3: =IF(data!T3 > 0,data!T3,"") -> 61.633885 | K3: =data!L3 -> 6.1056647 | L3: =data!M3 -> 0.49319714 | M3: =data!N3 -> 0.081713915 | N3: =data!O3 -> 1.0808794 | O3: =data!P3 -> 6.5082159 | P3: =data!Q3 -> 0.58967614 | Q3: =data!R3 -> -0.8297106 | R3: =data!S3 -> 1.1394389 | S3: =IF(B3="P",H3-2*I3,H3+2*I3) -> 4.4823275 | T3: =data!F3 -> 0 | U3: =data!G3 -> 0 | V3: =VLOOKUP(A3,fantacalcio!A:N,4, FALSE) -> Por
A4: =data!A4 -> Audero | B4: =data!B4 -> P | C4: =data!C4 -> Inter | D4: =data!D4 -> Avg | E4: =data!E4 -> 1 | F4: =data!H4 -> 6.1598888 | G4: =data!I4 -> 0.42884994 | H4: =data!J4 -> 5.7429595 | I4: =data!K4 -> 0.63165712 | J4: =IF(data!T4 > 0,data!T4,"") -> 61.098218 | K4: =data!L4 -> 6.1053338 | L4: =data!M4 -> 0.49335432 | M4: =data!N4 -> 0.081703484 | N4: =data!O4 -> 1.080847 | O4: =data!P4 -> 6.5046053 | P4: =data!Q4 -> 0.59091777 | Q4: =data!R4 -> -0.82763517 | R4: =data!S4 -> 1.1390972 | S4: =IF(B4="P",H4-2*I4,H4+2*I4) -> 4.4796453 | T4: =data!F4 -> 0 | U4: =data!G4 -> 0 | V4: =VLOOKUP(A4,fantacalcio!A:N,4, FALSE) -> Por
A5: =data!A5 -> Musso | B5: =data!B5 -> P | C5: =data!C5 -> Atalanta | D5: =data!D5 -> Avg | E5: =data!E5 -> 1 | F5: =data!H5 -> 6.1711777 | G5: =data!I5 -> 0.42764544 | H5: =data!J5 -> 5.7165921 | I5: =data!K5 -> 0.63259184 | J5: =IF(data!T5 > 0,data!T5,"") -> 58.5702 | K5: =data!L5 -> 6.1206765 | L5: =data!M5 -> 0.49338388 | M5: =data!N5 -> 0.075656414 | N5: =data!O5 -> 1.0780797 | O5: =data!P5 -> 6.4707279 | P5: =data!Q5 -> 0.60398102 | Q5: =data!R5 -> -0.80773276 | R5: =data!S5 -> 1.1354693 | S5: =IF(B5="P",H5-2*I5,H5+2*I5) -> 4.4514084 | T5: =data!F5 -> 1 | U5: =data!G5 -> 100 | V5: =VLOOKUP(A5,fantacalcio!A:N,4, FALSE) -> Por
A6: =data!A6 -> Gemello | B6: =data!B6 -> P | C6: =data!C6 -> Torino | D6: =data!D6 -> Avg | E6: =data!E6 -> 1 | F6: =data!H6 -> 6.1616667 | G6: =data!I6 -> 0.43127954 | H6: =data!J6 -> 5.6433346 | I6: =data!K6 -> 0.63381958 | J6: =IF(data!T6 > 0,data!T6,"") -> 53.595075 | K6: =data!L6 -> 6.1233492 | L6: =data!M6 -> 0.50177073 | M6: =data!N6 -> 0.056157589 | N6: =data!O6 -> 1.0742245 | O6: =data!P6 -> 6.3713179 | P6: =data!Q6 -> 0.64054251 | Q6: =data!R6 -> -0.75028455 | R6: =data!S6 -> 1.1253692 | S6: =IF(B6="P",H6-2*I6,H6+2*I6) -> 4.3756954 | T6: =data!F6 -> 0 | U6: =data!G6 -> 0 | V6: =VLOOKUP(A6,fantacalcio!A:N,4, FALSE) -> Por
A7: =data!A7 -> Popa | B7: =data!B7 -> P | C7: =data!C7 -> Torino | D7: =data!D7 -> Avg | E7: =data!E7 -> 1 | F7: =data!H7 -> 6.1616667 | G7: =data!I7 -> 0.43127954 | H7: =data!J7 -> 5.6433346 | I7: =data!K7 -> 0.63381958 | J7: =IF(data!T7 > 0,data!T7,"") -> 53.595075 | K7: =data!L7 -> 6.1233492 | L7: =data!M7 -> 0.50177073 | M7: =data!N7 -> 0.056157589 | N7: =data!O7 -> 1.0742245 | O7: =data!P7 -> 6.3713179 | P7: =data!Q7 -> 0.64054251 | Q7: =data!R7 -> -0.75028455 | R7: =data!S7 -> 1.1253692 | S7: =IF(B7="P",H7-2*I7,H7+2*I7) -> 4.3756954 | T7: =data!F7 -> 0 | U7: =data!G7 -> 0 | V7: =VLOOKUP(A7,fantacalcio!A:N,4, FALSE) -> Por
A8: =data!A8 -> Milinkovic-Savic V. | B8: =data!B8 -> P | C8: =data!C8 -> Torino | D8: =data!D8 -> Avg | E8: =data!E8 -> 1 | F8: =data!H8 -> 6.1486756 | G8: =data!I8 -> 0.44052219 | H8: =data!J8 -> 5.4146411 | I8: =data!K8 -> 0.6635679 | J8: =IF(data!T8 > 0,data!T8,"") -> 42.203921 | K8: =data!L8 -> 6.1006746 | L8: =data!M8 -> 0.5093466 | M8: =data!N8 -> 0.069546759 | N8: =data!O8 -> 1.0725877 | O8: =data!P8 -> 6.0538473 | P8: =data!Q8 -> 0.79207265 | Q8: =data!R8 -> -0.56229293 | R8: =data!S8 -> 1.0828776 | S8: =IF(B8="P",H8-2*I8,H8+2*I8) -> 4.0875053 | T8: =data!F8 -> 1 | U8: =data!G8 -> 100 | V8: =VLOOKUP(A8,fantacalcio!A:N,4, FALSE) -> Por
A9: =data!A9 -> Perin | B9: =data!B9 -> P | C9: =data!C9 -> Juventus | D9: =data!D9 -> Avg | E9: =data!E9 -> 1 | F9: =data!H9 -> 6.1579356 | G9: =data!I9 -> 0.437567 | H9: =data!J9 -> 5.1924634 | I9: =data!K9 -> 0.68686396 | J9: =IF(data!T9 > 0,data!T9,"") -> 32.668827 | K9: =data!L9 -> 6.0854149 | L9: =data!M9 -> 0.49681598 | M9: =data!N9 -> 0.10778469 | N9: =data!O9 -> 1.0791227 | O9: =data!P9 -> 5.5954452 | P9: =data!Q9 -> 0.96524608 | Q9: =data!R9 -> -0.30515417 | R9: =data!S9 -> 1.0361335 | S9: =IF(B9="P",H9-2*I9,H9+2*I9) -> 3.8187355 | T9: =data!F9 -> 0 | U9: =data!G9 -> 0 | V9: =VLOOKUP(A9,fantacalcio!A:N,4, FALSE) -> Por
A10: =data!A10 -> Perilli | B10: =data!B10 -> P | C10: =data!C10 -> Verona | D10: =data!D10 -> Avg | E10: =data!E10 -> 1 | F10: =data!H10 -> 6.1749573 | G10: =data!I10 -> 0.43249047 | H10: =data!J10 -> 5.1855893 | I10: =data!K10 -> 0.69181031 | J10: =IF(data!T10 > 0,data!T10,"") -> 36.849645 | K10: =data!L10 -> 6.1154881 | L10: =data!M10 -> 0.49572694 | M10: =data!N10 -> 0.088610232 | N10: =data!O10 -> 1.0753905 | O10: =data!P10 -> 5.5692415 | P10: =data!Q10 -> 0.97799325 | Q10: =data!R10 -> -0.29026455 | R10: =data!S10 -> 1.0327145 | S10: =IF(B10="P",H10-2*I10,H10+2*I10) -> 3.8019687 | T10: =data!F10 -> 0 | U10: =data!G10 -> 0 | V10: =VLOOKUP(A10,fantacalcio!A:N,4, FALSE) -> Por
A11: =data!A11 -> Berardi A. | B11: =data!B11 -> P | C11: =data!C11 -> Verona | D11: =data!D11 -> Avg | E11: =data!E11 -> 1 | F11: =data!H11 -> 6.1749573 | G11: =data!I11 -> 0.43249047 | H11: =data!J11 -> 5.1855893 | I11: =data!K11 -> 0.69181031 | J11: =IF(data!T11 > 0,data!T11,"") -> 36.849645 | K11: =data!L11 -> 6.1154881 | L11: =data!M11 -> 0.49572694 | M11: =data!N11 -> 0.088610232 | N11: =data!O11 -> 1.0753905 | O11: =data!P11 -> 5.5692415 | P11: =data!Q11 -> 0.97799325 | Q11: =data!R11 -> -0.29026455 | R11: =data!S11 -> 1.0327145 | S11: =IF(B11="P",H11-2*I11,H11+2*I11) -> 3.8019687 | T11: =data!F11 -> 0 | U11: =data!G11 -> 0 | V11: =VLOOKUP(A11,fantacalcio!A:N,4, FALSE) -> Por
A12: =data!A12 -> Radunovic | B12: =data!B12 -> P | C12: =data!C12 -> Cagliari | D12: =data!D12 -> Avg | E12: =data!E12 -> 1 | F12: =data!H12 -> 6.2101443 | G12: =data!I12 -> 0.41559863 | H12: =data!J12 -> 5.1309315 | I12: =data!K12 -> 0.72752798 | J12: =IF(data!T12 > 0,data!T12,"") -> 23.511165 | K12: =data!L12 -> 6.2101636 | L12: =data!M12 -> 0.49546731 | M12: =data!N12 -> -8.8214874e-06 | N12: =data!O12 -> 1.0679669 | O12: =data!P12 -> 5.4319134 | P12: =data!Q12 -> 1.0666423 | Q12: =data!R12 -> -0.20698975 | R12: =data!S12 -> 1.008074 | S12: =IF(B12="P",H12-2*I12,H12+2*I12) -> 3.6758755 | T12: =data!F12 -> 1 | U12: =data!G12 -> 100 | V12: =VLOOKUP(A12,fantacalcio!A:N,4, FALSE) -> Por
A13: =data!A13 -> Scuffet | B13: =data!B13 -> P | C13: =data!C13 -> Cagliari | D13: =data!D13 -> Avg | E13: =data!E13 -> 1 | F13: =data!H13 -> 6.2101443 | G13: =data!I13 -> 0.41559863 | H13: =data!J13 -> 5.1309315 | I13: =data!K13 -> 0.72752798 | J13: =IF(data!T13 > 0,data!T13,"") -> 23.511165 | K13: =data!L13 -> 6.2101636 | L13: =data!M13 -> 0.49546731 | M13: =data!N13 -> -8.8214874e-06 | N13: =data!O13 -> 1.0679669 | O13: =data!P13 -> 5.4319134 | P13: =data!Q13 -> 1.0666423 | Q13: =data!R13 -> -0.20698975 | R13: =data!S13 -> 1.008074 | S13: =IF(B13="P",H13-2*I13,H13+2*I13) -> 3.6758755 | T13: =data!F13 -> 0 | U13: =data!G13 -> 0 | V13: =VLOOKUP(A13,fantacalcio!A:N,4, FALSE) -> Por
... A544: =data!A544 -> 0 | B544: =data!B544 -> 0 | C544: =data!C544 -> 0 | D544: =data!D544 -> 0 | E544: =data!E544 -> 0 | F544: =data!H544 -> 0 | G544: =data!I544 -> 0 | H544: =data!J544 -> 0 | I544: =data!K544 -> 0 | J544: =IF(data!T544 > 0,data!T544,"") | K544: =data!L544 -> 0 | L544: =data!M544 -> 0 | M544: =data!N544 -> 0 | N544: =data!O544 -> 0 | O544: =data!P544 -> 0 | P544: =data!Q544 -> 0 | Q544: =data!R544 -> 0 | R544: =data!S544 -> 0 | S544: =IF(B544="P",H544-2*I544,H544+2*I544) -> 0 | T544: =data!F544 -> 0 | U544: =data!G544 -> 0 | V544: =VLOOKUP(A544,fantacalcio!A:N,4, FALSE) -> 0

Sheet analysis_workarea
A1: player | B1: role | C1: team | D1: oppteam | E1: home | F1: MV | G1: MV std | H1: FV | I1: FV std | J1: Clean sheet % | K1: MV loc | L1: MV scale | M1: MV skewness | N1: MV tailweight | O1: FV loc | P1: FV scale | Q1: FV skewness | R1: FV tailweight | S1: FV Potential | T1: starter | U1: vote% | V1: Mantra | W1: Corrected FV
A2: =data!A2 -> Sommer | B2: =data!B2 -> P | C2: =data!C2 -> Inter | D2: =data!D2 -> Avg | E2: =data!E2 -> 1 | F2: =data!H2 -> 6.1602089 | G2: =data!I2 -> 0.42871428 | H2: =data!J2 -> 5.7456728 | I2: =data!K2 -> 0.63167262 | J2: =IF(data!T2 > 0,data!T2,"") -> 61.633885 | K2: =data!L2 -> 6.1056647 | L2: =data!M2 -> 0.49319714 | M2: =data!N2 -> 0.081713915 | N2: =data!O2 -> 1.0808794 | O2: =data!P2 -> 6.5082159 | P2: =data!Q2 -> 0.58967614 | Q2: =data!R2 -> -0.8297106 | R2: =data!S2 -> 1.1394389 | S2: =IF(B2="P",H2-2*I2,H2+2*I2) -> 4.4823275 | T2: =data!F2 -> 1 | U2: =data!G2 -> 100 | V2: =VLOOKUP(A2,fantacalcio!A:N,4, FALSE) -> Por | W2: =IF(U2>70,H2,H2+1*(U2+30)/100 - 1 - 1 *(U2 <= 5)) -> 5.7456728
A3: =data!A3 -> Di Gennaro | B3: =data!B3 -> P | C3: =data!C3 -> Inter | D3: =data!D3 -> Avg | E3: =data!E3 -> 1 | F3: =data!H3 -> 6.1602089 | G3: =data!I3 -> 0.42871428 | H3: =data!J3 -> 5.7456728 | I3: =data!K3 -> 0.63167262 | J3: =IF(data!T3 > 0,data!T3,"") -> 61.633885 | K3: =data!L3 -> 6.1056647 | L3: =data!M3 -> 0.49319714 | M3: =data!N3 -> 0.081713915 | N3: =data!O3 -> 1.0808794 | O3: =data!P3 -> 6.5082159 | P3: =data!Q3 -> 0.58967614 | Q3: =data!R3 -> -0.8297106 | R3: =data!S3 -> 1.1394389 | S3: =IF(B3="P",H3-2*I3,H3+2*I3) -> 4.4823275 | T3: =data!F3 -> 0 | U3: =data!G3 -> 0 | V3: =VLOOKUP(A3,fantacalcio!A:N,4, FALSE) -> Por | W3: =IF(U3>70,H3,H3+1*(U3+30)/100 - 1 - 1 *(U3 <= 5)) -> 4.0456728
A4: =data!A4 -> Audero | B4: =data!B4 -> P | C4: =data!C4 -> Inter | D4: =data!D4 -> Avg | E4: =data!E4 -> 1 | F4: =data!H4 -> 6.1598888 | G4: =data!I4 -> 0.42884994 | H4: =data!J4 -> 5.7429595 | I4: =data!K4 -> 0.63165712 | J4: =IF(data!T4 > 0,data!T4,"") -> 61.098218 | K4: =data!L4 -> 6.1053338 | L4: =data!M4 -> 0.49335432 | M4: =data!N4 -> 0.081703484 | N4: =data!O4 -> 1.080847 | O4: =data!P4 -> 6.5046053 | P4: =data!Q4 -> 0.59091777 | Q4: =data!R4 -> -0.82763517 | R4: =data!S4 -> 1.1390972 | S4: =IF(B4="P",H4-2*I4,H4+2*I4) -> 4.4796453 | T4: =data!F4 -> 0 | U4: =data!G4 -> 0 | V4: =VLOOKUP(A4,fantacalcio!A:N,4, FALSE) -> Por | W4: =IF(U4>70,H4,H4+1*(U4+30)/100 - 1 - 1 *(U4 <= 5)) -> 4.0429595
A5: =data!A5 -> Musso | B5: =data!B5 -> P | C5: =data!C5 -> Atalanta | D5: =data!D5 -> Avg | E5: =data!E5 -> 1 | F5: =data!H5 -> 6.1711777 | G5: =data!I5 -> 0.42764544 | H5: =data!J5 -> 5.7165921 | I5: =data!K5 -> 0.63259184 | J5: =IF(data!T5 > 0,data!T5,"") -> 58.5702 | K5: =data!L5 -> 6.1206765 | L5: =data!M5 -> 0.49338388 | M5: =data!N5 -> 0.075656414 | N5: =data!O5 -> 1.0780797 | O5: =data!P5 -> 6.4707279 | P5: =data!Q5 -> 0.60398102 | Q5: =data!R5 -> -0.80773276 | R5: =data!S5 -> 1.1354693 | S5: =IF(B5="P",H5-2*I5,H5+2*I5) -> 4.4514084 | T5: =data!F5 -> 1 | U5: =data!G5 -> 100 | V5: =VLOOKUP(A5,fantacalcio!A:N,4, FALSE) -> Por | W5: =IF(U5>70,H5,H5+1*(U5+30)/100 - 1 - 1 *(U5 <= 5)) -> 5.7165921
A6: =data!A6 -> Gemello | B6: =data!B6 -> P | C6: =data!C6 -> Torino | D6: =data!D6 -> Avg | E6: =data!E6 -> 1 | F6: =data!H6 -> 6.1616667 | G6: =data!I6 -> 0.43127954 | H6: =data!J6 -> 5.6433346 | I6: =data!K6 -> 0.63381958 | J6: =IF(data!T6 > 0,data!T6,"") -> 53.595075 | K6: =data!L6 -> 6.1233492 | L6: =data!M6 -> 0.50177073 | M6: =data!N6 -> 0.056157589 | N6: =data!O6 -> 1.0742245 | O6: =data!P6 -> 6.3713179 | P6: =data!Q6 -> 0.64054251 | Q6: =data!R6 -> -0.75028455 | R6: =data!S6 -> 1.1253692 | S6: =IF(B6="P",H6-2*I6,H6+2*I6) -> 4.3756954 | T6: =data!F6 -> 0 | U6: =data!G6 -> 0 | V6: =VLOOKUP(A6,fantacalcio!A:N,4, FALSE) -> Por | W6: =IF(U6>70,H6,H6+1*(U6+30)/100 - 1 - 1 *(U6 <= 5)) -> 3.9433346
A7: =data!A7 -> Popa | B7: =data!B7 -> P | C7: =data!C7 -> Torino | D7: =data!D7 -> Avg | E7: =data!E7 -> 1 | F7: =data!H7 -> 6.1616667 | G7: =data!I7 -> 0.43127954 | H7: =data!J7 -> 5.6433346 | I7: =data!K7 -> 0.63381958 | J7: =IF(data!T7 > 0,data!T7,"") -> 53.595075 | K7: =data!L7 -> 6.1233492 | L7: =data!M7 -> 0.50177073 | M7: =data!N7 -> 0.056157589 | N7: =data!O7 -> 1.0742245 | O7: =data!P7 -> 6.3713179 | P7: =data!Q7 -> 0.64054251 | Q7: =data!R7 -> -0.75028455 | R7: =data!S7 -> 1.1253692 | S7: =IF(B7="P",H7-2*I7,H7+2*I7) -> 4.3756954 | T7: =data!F7 -> 0 | U7: =data!G7 -> 0 | V7: =VLOOKUP(A7,fantacalcio!A:N,4, FALSE) -> Por | W7: =IF(U7>70,H7,H7+1*(U7+30)/100 - 1 - 1 *(U7 <= 5)) -> 3.9433346
A8: =data!A8 -> Milinkovic-Savic V. | B8: =data!B8 -> P | C8: =data!C8 -> Torino | D8: =data!D8 -> Avg | E8: =data!E8 -> 1 | F8: =data!H8 -> 6.1486756 | G8: =data!I8 -> 0.44052219 | H8: =data!J8 -> 5.4146411 | I8: =data!K8 -> 0.6635679 | J8: =IF(data!T8 > 0,data!T8,"") -> 42.203921 | K8: =data!L8 -> 6.1006746 | L8: =data!M8 -> 0.5093466 | M8: =data!N8 -> 0.069546759 | N8: =data!O8 -> 1.0725877 | O8: =data!P8 -> 6.0538473 | P8: =data!Q8 -> 0.79207265 | Q8: =data!R8 -> -0.56229293 | R8: =data!S8 -> 1.0828776 | S8: =IF(B8="P",H8-2*I8,H8+2*I8) -> 4.0875053 | T8: =data!F8 -> 1 | U8: =data!G8 -> 100 | V8: =VLOOKUP(A8,fantacalcio!A:N,4, FALSE) -> Por | W8: =IF(U8>70,H8,H8+1*(U8+30)/100 - 1 - 1 *(U8 <= 5)) -> 5.4146411
A9: =data!A9 -> Perin | B9: =data!B9 -> P | C9: =data!C9 -> Juventus | D9: =data!D9 -> Avg | E9: =data!E9 -> 1 | F9: =data!H9 -> 6.1579356 | G9: =data!I9 -> 0.437567 | H9: =data!J9 -> 5.1924634 | I9: =data!K9 -> 0.68686396 | J9: =IF(data!T9 > 0,data!T9,"") -> 32.668827 | K9: =data!L9 -> 6.0854149 | L9: =data!M9 -> 0.49681598 | M9: =data!N9 -> 0.10778469 | N9: =data!O9 -> 1.0791227 | O9: =data!P9 -> 5.5954452 | P9: =data!Q9 -> 0.96524608 | Q9: =data!R9 -> -0.30515417 | R9: =data!S9 -> 1.0361335 | S9: =IF(B9="P",H9-2*I9,H9+2*I9) -> 3.8187355 | T9: =data!F9 -> 0 | U9: =data!G9 -> 0 | V9: =VLOOKUP(A9,fantacalcio!A:N,4, FALSE) -> Por | W9: =IF(U9>70,H9,H9+1*(U9+30)/100 - 1 - 1 *(U9 <= 5)) -> 3.4924634
A10: =data!A10 -> Perilli | B10: =data!B10 -> P | C10: =data!C10 -> Verona | D10: =data!D10 -> Avg | E10: =data!E10 -> 1 | F10: =data!H10 -> 6.1749573 | G10: =data!I10 -> 0.43249047 | H10: =data!J10 -> 5.1855893 | I10: =data!K10 -> 0.69181031 | J10: =IF(data!T10 > 0,data!T10,"") -> 36.849645 | K10: =data!L10 -> 6.1154881 | L10: =data!M10 -> 0.49572694 | M10: =data!N10 -> 0.088610232 | N10: =data!O10 -> 1.0753905 | O10: =data!P10 -> 5.5692415 | P10: =data!Q10 -> 0.97799325 | Q10: =data!R10 -> -0.29026455 | R10: =data!S10 -> 1.0327145 | S10: =IF(B10="P",H10-2*I10,H10+2*I10) -> 3.8019687 | T10: =data!F10 -> 0 | U10: =data!G10 -> 0 | V10: =VLOOKUP(A10,fantacalcio!A:N,4, FALSE) -> Por | W10: =IF(U10>70,H10,H10+1*(U10+30)/100 - 1 - 1 *(U10 <= 5)) -> 3.4855893
A11: =data!A11 -> Berardi A. | B11: =data!B11 -> P | C11: =data!C11 -> Verona | D11: =data!D11 -> Avg | E11: =data!E11 -> 1 | F11: =data!H11 -> 6.1749573 | G11: =data!I11 -> 0.43249047 | H11: =data!J11 -> 5.1855893 | I11: =data!K11 -> 0.69181031 | J11: =IF(data!T11 > 0,data!T11,"") -> 36.849645 | K11: =data!L11 -> 6.1154881 | L11: =data!M11 -> 0.49572694 | M11: =data!N11 -> 0.088610232 | N11: =data!O11 -> 1.0753905 | O11: =data!P11 -> 5.5692415 | P11: =data!Q11 -> 0.97799325 | Q11: =data!R11 -> -0.29026455 | R11: =data!S11 -> 1.0327145 | S11: =IF(B11="P",H11-2*I11,H11+2*I11) -> 3.8019687 | T11: =data!F11 -> 0 | U11: =data!G11 -> 0 | V11: =VLOOKUP(A11,fantacalcio!A:N,4, FALSE) -> Por | W11: =IF(U11>70,H11,H11+1*(U11+30)/100 - 1 - 1 *(U11 <= 5)) -> 3.4855893
A12: =data!A12 -> Radunovic | B12: =data!B12 -> P | C12: =data!C12 -> Cagliari | D12: =data!D12 -> Avg | E12: =data!E12 -> 1 | F12: =data!H12 -> 6.2101443 | G12: =data!I12 -> 0.41559863 | H12: =data!J12 -> 5.1309315 | I12: =data!K12 -> 0.72752798 | J12: =IF(data!T12 > 0,data!T12,"") -> 23.511165 | K12: =data!L12 -> 6.2101636 | L12: =data!M12 -> 0.49546731 | M12: =data!N12 -> -8.8214874e-06 | N12: =data!O12 -> 1.0679669 | O12: =data!P12 -> 5.4319134 | P12: =data!Q12 -> 1.0666423 | Q12: =data!R12 -> -0.20698975 | R12: =data!S12 -> 1.008074 | S12: =IF(B12="P",H12-2*I12,H12+2*I12) -> 3.6758755 | T12: =data!F12 -> 1 | U12: =data!G12 -> 100 | V12: =VLOOKUP(A12,fantacalcio!A:N,4, FALSE) -> Por | W12: =IF(U12>70,H12,H12+1*(U12+30)/100 - 1 - 1 *(U12 <= 5)) -> 5.1309315
A13: =data!A13 -> Scuffet | B13: =data!B13 -> P | C13: =data!C13 -> Cagliari | D13: =data!D13 -> Avg | E13: =data!E13 -> 1 | F13: =data!H13 -> 6.2101443 | G13: =data!I13 -> 0.41559863 | H13: =data!J13 -> 5.1309315 | I13: =data!K13 -> 0.72752798 | J13: =IF(data!T13 > 0,data!T13,"") -> 23.511165 | K13: =data!L13 -> 6.2101636 | L13: =data!M13 -> 0.49546731 | M13: =data!N13 -> -8.8214874e-06 | N13: =data!O13 -> 1.0679669 | O13: =data!P13 -> 5.4319134 | P13: =data!Q13 -> 1.0666423 | Q13: =data!R13 -> -0.20698975 | R13: =data!S13 -> 1.008074 | S13: =IF(B13="P",H13-2*I13,H13+2*I13) -> 3.6758755 | T13: =data!F13 -> 0 | U13: =data!G13 -> 0 | V13: =VLOOKUP(A13,fantacalcio!A:N,4, FALSE) -> Por | W13: =IF(U13>70,H13,H13+1*(U13+30)/100 - 1 - 1 *(U13 <= 5)) -> 3.4309315
... A544: =data!A544 -> 0 | B544: =data!B544 -> 0 | C544: =data!C544 -> 0 | D544: =data!D544 -> 0 | E544: =data!E544 -> 0 | F544: =data!H544 -> 0 | G544: =data!I544 -> 0 | H544: =data!J544 -> 0 | I544: =data!K544 -> 0 | J544: =IF(data!T544 > 0,data!T544,"") | K544: =data!L544 -> 0 | L544: =data!M544 -> 0 | M544: =data!N544 -> 0 | N544: =data!O544 -> 0 | O544: =data!P544 -> 0 | P544: =data!Q544 -> 0 | Q544: =data!R544 -> 0 | R544: =data!S544 -> 0 | S544: =IF(B544="P",H544-2*I544,H544+2*I544) -> 0 | T544: =data!F544 -> 0 | U544: =data!G544 -> 0 | V544: =VLOOKUP(A544,fantacalcio!A:N,4, FALSE) -> 0 | W544: =IF(U544>70,H544,H544+1*(U544+30)/100 - 1 - 1 *(U544 <= 5)) -> -1.7

Sheet graph
A1: Player | C1: =CONCATENATE($A$2," (",$D$5," vs ",$E$5,", ",IF(F5>0,"home","away"),")") -> Zielinski (Napoli vs Avg, home)
A2: Zielinski
C3: 2 | D3: 3 | E3: 4 | F3: 5 | G3: 6 | H3: 7 | I3: 8 | J3: 9 | K3: 10 | L3: 11 | M3: 12 | N3: 13 | O3: 14 | P3: 15 | Q3: 16 | R3: 17 | S3: 18 | T3: 19
C4: role | D4: team | E4: oppteam | F4: home | G4: MV | H4: MV std | I4: FV | J4: FV std | K4: Clean Sheet % | L4: MV loc | M4: MV scale | N4: MV skewness | O4: MV tailweight | P4: FV loc | Q4: FV scale | R4: FV skewness | S4: FV tailweight | T4: FV Potential | Y4: http://stats-www.open.ac.uk/TechnicalReports/sinhasinh.pdf
C5: =VLOOKUP($A$2,analysis!$A2:$S1048576,C3,FALSE) -> C | D5: =VLOOKUP($A$2,analysis!$A2:$S1048576,D3,FALSE) -> Napoli | E5: =VLOOKUP($A$2,analysis!$A2:$S1048576,E3,FALSE) -> Avg | F5: =VLOOKUP($A$2,analysis!$A2:$S1048576,F3,FALSE) -> 1 | G5: =VLOOKUP($A$2,analysis!$A2:$S1048576,G3,FALSE) -> 6.2961366 | H5: =VLOOKUP($A$2,analysis!$A2:$S1048576,H3,FALSE) -> 0.46006632 | I5: =VLOOKUP($A$2,analysis!$A2:$S1048576,I3,FALSE) -> 6.7062976 | J5: =VLOOKUP($A$2,analysis!$A2:$S1048576,J3,FALSE) -> 0.8612777 | ... T5: =VLOOKUP($A$2,analysis!$A2:$S1048576,T3,FALSE) -> 8.428853 | Y5: https://rstudio-pubs-static.s3.amazonaws.com/288278_21fcf61824774db3a6fb4ac2c706e390.html
Y6: https://stats.stackexchange.com/questions/43482/transformation-to-increase-kurtosis-and-skewness-of-normal-r-v
Y7: https://rdrr.io/cran/gamlss.dist/src/R/SHASHo2.R
G8: starter | H8: vote% | Y8: https://rdrr.io/cran/gamlss.dist/man/SHASH.html
G9: =VLOOKUP($A$2,analysis!$A2:$U1048576,20,FALSE) -> 1 | H9: =VLOOKUP($A$2,analysis!$A2:$U1048576,21,FALSE) -> 100 | Y9: https://search.r-project.org/CRAN/refmans/gamlss.dist/html/SHASH.html
B25: x | C25: mul | D25: z | E25: asinh(z) | F25: sinh | G25: cosh | H25: pdf | K25: x | L25: mul | M25: z | N25: asinh(z) | O25: sinh | P25: cosh | Q25: pdf
B26: 0 | C26: =2/SINH(LN(2+SQRT(1+2^2))*$O$5) -> 1.2256441 | D26: =(B26-$L$5)/($M$5)/C26 -> -9.9222797 | E26: =LN(D26 + SQRT(1 + D26^2)) -> -2.9904596 | F26: =SINH( -$N$5 + E26 * (1/$O$5)) -> -17.840121 | G26: =SQRT(F26^2 + 1) -> 17.868125 | H26: =(G26)/($O$5*$M$5*C26*(SQRT(2*PI()*(1+D26^2)))) * EXP(- (1/2) * F26^2) -> 1.0124128e-69 | K26: 0 | L26: =2/SINH(LN(2+SQRT(1+2^2))*$S$5) -> 0.62732795 | M26: =(K26-$P$5)/($Q$5)/L26 -> -9.9187787 | N26: =LN(M26 + SQRT(1 + M26^2)) -> -2.9901085 | O26: =SINH( -$R$5 + N26 * (1/$S$5)) -> -9.1580028 | P26: =SQRT(O26^2 + 1) -> 9.2124381 | Q26: =(P26)/($S$5*$Q$5*L26*(SQRT(2*PI()*(1+M26^2)))) * EXP(- (1/2) * O26^2) -> 2.9515566e-19
B27: 0.01 | C27: =2/SINH(LN(2+SQRT(1+2^2))*$O$5) -> 1.2256441 | D27: =(B27-$L$5)/($M$5)/C27 -> -9.9062293 | E27: =LN(D27 + SQRT(1 + D27^2)) -> -2.9888488 | F27: =SINH( -$N$5 + E27 * (1/$O$5)) -> -17.807324 | G27: =SQRT(F27^2 + 1) -> 17.83538 | H27: =(G27)/($O$5*$M$5*C27*(SQRT(2*PI()*(1+D27^2)))) * EXP(- (1/2) * F27^2) -> 1.816045e-69 | K27: 0.01 | L27: =2/SINH(LN(2+SQRT(1+2^2))*$S$5) -> 0.62732795 | M27: =(K27-$P$5)/($Q$5)/L27 -> -9.9018277 | N27: =LN(M27 + SQRT(1 + M27^2)) -> -2.9884067 | O27: =SINH( -$R$5 + N27 * (1/$S$5)) -> -9.1459482 | P27: =SQRT(O27^2 + 1) -> 9.2004548 | Q27: =(P27)/($S$5*$Q$5*L27*(SQRT(2*PI()*(1+M27^2)))) * EXP(- (1/2) * O27^2) -> 3.2971132e-19
B28: 0.02 | C28: =2/SINH(LN(2+SQRT(1+2^2))*$O$5) -> 1.2256441 | D28: =(B28-$L$5)/($M$5)/C28 -> -9.890179 | E28: =LN(D28 + SQRT(1 + D28^2)) -> -2.9872355 | F28: =SINH( -$N$5 + E28 * (1/$O$5)) -> -17.774535 | G28: =SQRT(F28^2 + 1) -> 17.802643 | H28: =(G28)/($O$5*$M$5*C28*(SQRT(2*PI()*(1+D28^2)))) * EXP(- (1/2) * F28^2) -> 3.2536408e-69 | K28: 0.02 | L28: =2/SINH(LN(2+SQRT(1+2^2))*$S$5) -> 0.62732795 | M28: =(K28-$P$5)/($Q$5)/L28 -> -9.8848768 | N28: =LN(M28 + SQRT(1 + M28^2)) -> -2.986702 | O28: =SINH( -$R$5 + N28 * (1/$S$5)) -> -9.1338889 | P28: =SQRT(O28^2 + 1) -> 9.1884671 | Q28: =(P28)/($S$5*$Q$5*L28*(SQRT(2*PI()*(1+M28^2)))) * EXP(- (1/2) * O28^2) -> 3.6827524e-19
B29: 0.03 | C29: =2/SINH(LN(2+SQRT(1+2^2))*$O$5) -> 1.2256441 | D29: =(B29-$L$5)/($M$5)/C29 -> -9.8741287 | E29: =LN(D29 + SQRT(1 + D29^2)) -> -2.9856196 | F29: =SINH( -$N$5 + E29 * (1/$O$5)) -> -17.741754 | G29: =SQRT(F29^2 + 1) -> 17.769913 | H29: =(G29)/($O$5*$M$5*C29*(SQRT(2*PI()*(1+D29^2)))) * EXP(- (1/2) * F29^2) -> 5.8221962e-69 | K29: 0.03 | L29: =2/SINH(LN(2+SQRT(1+2^2))*$S$5) -> 0.62732795 | M29: =(K29-$P$5)/($Q$5)/L29 -> -9.8679258 | N29: =LN(M29 + SQRT(1 + M29^2)) -> -2.9849944 | O29: =SINH( -$R$5 + N29 * (1/$S$5)) -> -9.1218249 | P29: =SQRT(O29^2 + 1) -> 9.1764748 | Q29: =(P29)/($S$5*$Q$5*L29*(SQRT(2*PI()*(1+M29^2)))) * EXP(- (1/2) * O29^2) -> 4.1130792e-19
B30: 0.04 | C30: =2/SINH(LN(2+SQRT(1+2^2))*$O$5) -> 1.2256441 | D30: =(B30-$L$5)/($M$5)/C30 -> -9.8580784 | E30: =LN(D30 + SQRT(1 + D30^2)) -> -2.9840011 | F30: =SINH( -$N$5 + E30 * (1/$O$5)) -> -17.70898 | G30: =SQRT(F30^2 + 1) -> 17.737192 | H30: =(G30)/($O$5*$M$5*C30*(SQRT(2*PI()*(1+D30^2)))) * EXP(- (1/2) * F30^2) -> 1.0405874e-68 | K30: 0.04 | L30: =2/SINH(LN(2+SQRT(1+2^2))*$S$5) -> 0.62732795 | M30: =(K30-$P$5)/($Q$5)/L30 -> -9.8509749 | N30: =LN(M30 + SQRT(1 + M30^2)) -> -2.9832839 | O30: =SINH( -$R$5 + N30 * (1/$S$5)) -> -9.1097562 | P30: =SQRT(O30^2 + 1) -> 9.164478 | Q30: =(P30)/($S$5*$Q$5*L30*(SQRT(2*PI()*(1+M30^2)))) * EXP(- (1/2) * O30^2) -> 4.5932224e-19
B31: 0.05 | C31: =2/SINH(LN(2+SQRT(1+2^2))*$O$5) -> 1.2256441 | D31: =(B31-$L$5)/($M$5)/C31 -> -9.8420281 | E31: =LN(D31 + SQRT(1 + D31^2)) -> -2.9823799 | F31: =SINH( -$N$5 + E31 * (1/$O$5)) -> -17.676214 | G31: =SQRT(F31^2 + 1) -> 17.704478 | H31: =(G31)/($O$5*$M$5*C31*(SQRT(2*PI()*(1+D31^2)))) * EXP(- (1/2) * F31^2) -> 1.8575692e-68 | K31: 0.05 | L31: =2/SINH(LN(2+SQRT(1+2^2))*$S$5) -> 0.62732795 | M31: =(K31-$P$5)/($Q$5)/L31 -> -9.8340239 | N31: =LN(M31 + SQRT(1 + M31^2)) -> -2.9815705 | O31: =SINH( -$R$5 + N31 * (1/$S$5)) -> -9.0976826 | P31: =SQRT(O31^2 + 1) -> 9.1524767 | Q31: =(P31)/($S$5*$Q$5*L31*(SQRT(2*PI()*(1+M31^2)))) * EXP(- (1/2) * O31^2) -> 5.1288936e-19
B32: 0.06 | C32: =2/SINH(LN(2+SQRT(1+2^2))*$O$5) -> 1.2256441 | D32: =(B32-$L$5)/($M$5)/C32 -> -9.8259777 | E32: =LN(D32 + SQRT(1 + D32^2)) -> -2.9807562 | F32: =SINH( -$N$5 + E32 * (1/$O$5)) -> -17.643456 | G32: =SQRT(F32^2 + 1) -> 17.671772 | H32: =(G32)/($O$5*$M$5*C32*(SQRT(2*PI()*(1+D32^2)))) * EXP(- (1/2) * F32^2) -> 3.3119701e-68 | K32: 0.06 | L32: =2/SINH(LN(2+SQRT(1+2^2))*$S$5) -> 0.62732795 | M32: =(K32-$P$5)/($Q$5)/L32 -> -9.8170729 | N32: =LN(M32 + SQRT(1 + M32^2)) -> -2.9798542 | O32: =SINH( -$R$5 + N32 * (1/$S$5)) -> -9.0856044 | P32: =SQRT(O32^2 + 1) -> 9.1404708 | Q32: =(P32)/($S$5*$Q$5*L32*(SQRT(2*PI()*(1+M32^2)))) * EXP(- (1/2) * O32^2) -> 5.7264528e-19
B33: 0.07 | C33: =2/SINH(LN(2+SQRT(1+2^2))*$O$5) -> 1.2256441 | D33: =(B33-$L$5)/($M$5)/C33 -> -9.8099274 | E33: =LN(D33 + SQRT(1 + D33^2)) -> -2.9791298 | F33: =SINH( -$N$5 + E33 * (1/$O$5)) -> -17.610705 | G33: =SQRT(F33^2 + 1) -> 17.639074 | H33: =(G33)/($O$5*$M$5*C33*(SQRT(2*PI()*(1+D33^2)))) * EXP(- (1/2) * F33^2) -> 5.8979764e-68 | K33: 0.07 | L33: =2/SINH(LN(2+SQRT(1+2^2))*$S$5) -> 0.62732795 | M33: =(K33-$P$5)/($Q$5)/L33 -> -9.800122 | N33: =LN(M33 + SQRT(1 + M33^2)) -> -2.9781349 | O33: =SINH( -$R$5 + N33 * (1/$S$5)) -> -9.0735213 | P33: =SQRT(O33^2 + 1) -> 9.1284604 | Q33: =(P33)/($S$5*$Q$5*L33*(SQRT(2*PI()*(1+M33^2)))) * EXP(- (1/2) * O33^2) -> 6.3929812e-19
B34: 0.08 | C34: =2/SINH(LN(2+SQRT(1+2^2))*$O$5) -> 1.2256441 | D34: =(B34-$L$5)/($M$5)/C34 -> -9.7938771 | E34: =LN(D34 + SQRT(1 + D34^2)) -> -2.9775008 | F34: =SINH( -$N$5 + E34 * (1/$O$5)) -> -17.577962 | G34: =SQRT(F34^2 + 1) -> 17.606383 | H34: =(G34)/($O$5*$M$5*C34*(SQRT(2*PI()*(1+D34^2)))) * EXP(- (1/2) * F34^2) -> 1.0490474e-67 | K34: 0.08 | L34: =2/SINH(LN(2+SQRT(1+2^2))*$S$5) -> 0.62732795 | M34: =(K34-$P$5)/($Q$5)/L34 -> -9.783171 | N34: =LN(M34 + SQRT(1 + M34^2)) -> -2.9764127 | O34: =SINH( -$R$5 + N34 * (1/$S$5)) -> -9.0614335 | P34: =SQRT(O34^2 + 1) -> 9.1164454 | Q34: =(P34)/($S$5*$Q$5*L34*(SQRT(2*PI()*(1+M34^2)))) * EXP(- (1/2) * O34^2) -> 7.1363621e-19
B35: 0.09 | C35: =2/SINH(LN(2+SQRT(1+2^2))*$O$5) -> 1.2256441 | D35: =(B35-$L$5)/($M$5)/C35 -> -9.7778268 | E35: =LN(D35 + SQRT(1 + D35^2)) -> -2.9758691 | F35: =SINH( -$N$5 + E35 * (1/$O$5)) -> -17.545226 | G35: =SQRT(F35^2 + 1) -> 17.573701 | H35: =(G35)/($O$5*$M$5*C35*(SQRT(2*PI()*(1+D35^2)))) * EXP(- (1/2) * F35^2) -> 1.8636436e-67 | K35: 0.09 | L35: =2/SINH(LN(2+SQRT(1+2^2))*$S$5) -> 0.62732795 | M35: =(K35-$P$5)/($Q$5)/L35 -> -9.7662201 | N35: =LN(M35 + SQRT(1 + M35^2)) -> -2.9746876 | O35: =SINH( -$R$5 + N35 * (1/$S$5)) -> -9.0493408 | P35: =SQRT(O35^2 + 1) -> 9.1044258 | Q35: =(P35)/($S$5*$Q$5*L35*(SQRT(2*PI()*(1+M35^2)))) * EXP(- (1/2) * O35^2) -> 7.965371e-19
B36: 0.1 | C36: =2/SINH(LN(2+SQRT(1+2^2))*$O$5) -> 1.2256441 | D36: =(B36-$L$5)/($M$5)/C36 -> -9.7617765 | E36: =LN(D36 + SQRT(1 + D36^2)) -> -2.9742348 | F36: =SINH( -$N$5 + E36 * (1/$O$5)) -> -17.512499 | G36: =SQRT(F36^2 + 1) -> 17.541026 | H36: =(G36)/($O$5*$M$5*C36*(SQRT(2*PI()*(1+D36^2)))) * EXP(- (1/2) * F36^2) -> 3.3067895e-67 | K36: 0.1 | L36: =2/SINH(LN(2+SQRT(1+2^2))*$S$5) -> 0.62732795 | M36: =(K36-$P$5)/($Q$5)/L36 -> -9.7492691 | N36: =LN(M36 + SQRT(1 + M36^2)) -> -2.9729594 | O36: =SINH( -$R$5 + N36 * (1/$S$5)) -> -9.0372434 | P36: =SQRT(O36^2 + 1) -> 9.0924017 | Q36: =(P36)/($S$5*$Q$5*L36*(SQRT(2*PI()*(1+M36^2)))) * EXP(- (1/2) * O36^2) -> 8.8897752e-19
B37: 0.11 | C37: =2/SINH(LN(2+SQRT(1+2^2))*$O$5) -> 1.2256441 | D37: =(B37-$L$5)/($M$5)/C37 -> -9.7457261 | E37: =LN(D37 + SQRT(1 + D37^2)) -> -2.9725978 | F37: =SINH( -$N$5 + E37 * (1/$O$5)) -> -17.479779 | G37: =SQRT(F37^2 + 1) -> 17.50836 | H37: =(G37)/($O$5*$M$5*C37*(SQRT(2*PI()*(1+D37^2)))) * EXP(- (1/2) * F37^2) -> 5.8603886e-67 | K37: 0.11 | L37: =2/SINH(LN(2+SQRT(1+2^2))*$S$5) -> 0.62732795 | M37: =(K37-$P$5)/($Q$5)/L37 -> -9.7323181 | N37: =LN(M37 + SQRT(1 + M37^2)) -> -2.9712283 | O37: =SINH( -$R$5 + N37 * (1/$S$5)) -> -9.0251411 | P37: =SQRT(O37^2 + 1) -> 9.0803729 | Q37: =(P37)/($S$5*$Q$5*L37*(SQRT(2*PI()*(1+M37^2)))) * EXP(- (1/2) * O37^2) -> 9.920445e-19
... B2988: 29.62 | C2988: =2/SINH(LN(2+SQRT(1+2^2))*$O$5) -> 1.2256441 | D2988: =(B2988-$L$5)/($M$5)/C2988 -> 37.618768 | E2988: =LN(D2988 + SQRT(1 + D2988^2)) -> 4.3208269 | F2988: =SINH( -$N$5 + E2988 * (1/$O$5)) -> 58.581831 | G2988: =SQRT(F2988^2 + 1) -> 58.590366 | H2988: =(G2988)/($O$5*$M$5*C2988*(SQRT(2*PI()*(1+D2988^2)))) * EXP(- (1/2) * F2988^2) -> 0 | K2988: 29.62 | L2988: =2/SINH(LN(2+SQRT(1+2^2))*$S$5) -> 0.62732795 | M2988: =(K2988-$P$5)/($Q$5)/L2988 -> 40.289963 | N2988: =LN(M2988 + SQRT(1 + M2988^2)) -> 4.3894035 | O2988: =SINH( -$R$5 + N2988 * (1/$S$5)) -> 7.9243631 | P2988: =SQRT(O2988^2 + 1) -> 7.9872104 | Q2988: =(P2988)/($S$5*$Q$5*L2988*(SQRT(2*PI()*(1+M2988^2)))) * EXP(- (1/2) * O2988^2) -> 2.3847579e-15

Sheet goalkeepers
A1: Players | B1: role | C1: team | D1: oppteam | E1: home | F1: MV | G1: FV | H1: Potential | I1: Clean Sheet % | J1: starter | K1: vote%
B2: 2 | C2: 3 | D2: 4 | E2: 5 | F2: 6 | G2: 8 | H2: 19 | I2: 10 | J2: 20 | K2: 21
A3: Sommer | B3: =VLOOKUP($A3,analysis!$A$2:$S$1048576,B$2,FALSE) -> P | C3: =VLOOKUP($A3,analysis!$A$2:$S$1048576,C$2,FALSE) -> Inter | D3: =VLOOKUP($A3,analysis!$A$2:$S$1048576,D$2,FALSE) -> Avg | E3: =VLOOKUP($A3,analysis!$A$2:$S$1048576,E$2,FALSE) -> 1 | F3: =VLOOKUP($A3,analysis!$A$2:$S$1048576,F$2,FALSE) -> 6.1602089 | G3: =VLOOKUP($A3,analysis!$A$2:$S$1048576,G$2,FALSE) -> 5.7456728 | H3: =VLOOKUP($A3,analysis!$A$2:$S$1048576,H$2,FALSE) -> 4.4823275 | I3: =VLOOKUP($A3,analysis!$A$2:$S$1048576,I$2,FALSE) -> 61.633885 | J3: =VLOOKUP($A3,analysis!$A$2:$U$1048576,J$2,FALSE) -> 1 | K3: =VLOOKUP($A3,analysis!$A$2:$U$1048576,K$2,FALSE) -> 100
A4: Musso | B4: =VLOOKUP($A4,analysis!$A$2:$S$1048576,B$2,FALSE) -> P | C4: =VLOOKUP($A4,analysis!$A$2:$S$1048576,C$2,FALSE) -> Atalanta | D4: =VLOOKUP($A4,analysis!$A$2:$S$1048576,D$2,FALSE) -> Avg | E4: =VLOOKUP($A4,analysis!$A$2:$S$1048576,E$2,FALSE) -> 1 | F4: =VLOOKUP($A4,analysis!$A$2:$S$1048576,F$2,FALSE) -> 6.1711777 | G4: =VLOOKUP($A4,analysis!$A$2:$S$1048576,G$2,FALSE) -> 5.7165921 | H4: =VLOOKUP($A4,analysis!$A$2:$S$1048576,H$2,FALSE) -> 4.4514084 | I4: =VLOOKUP($A4,analysis!$A$2:$S$1048576,I$2,FALSE) -> 58.5702 | J4: =VLOOKUP($A4,analysis!$A$2:$U$1048576,J$2,FALSE) -> 1 | K4: =VLOOKUP($A4,analysis!$A$2:$U$1048576,K$2,FALSE) -> 100
A5: Milinkovic-Savic V. | B5: =VLOOKUP($A5,analysis!$A$2:$S$1048576,B$2,FALSE) -> P | C5: =VLOOKUP($A5,analysis!$A$2:$S$1048576,C$2,FALSE) -> Torino | D5: =VLOOKUP($A5,analysis!$A$2:$S$1048576,D$2,FALSE) -> Avg | E5: =VLOOKUP($A5,analysis!$A$2:$S$1048576,E$2,FALSE) -> 1 | F5: =VLOOKUP($A5,analysis!$A$2:$S$1048576,F$2,FALSE) -> 6.1486756 | G5: =VLOOKUP($A5,analysis!$A$2:$S$1048576,G$2,FALSE) -> 5.4146411 | H5: =VLOOKUP($A5,analysis!$A$2:$S$1048576,H$2,FALSE) -> 4.0875053 | I5: =VLOOKUP($A5,analysis!$A$2:$S$1048576,I$2,FALSE) -> 42.203921 | J5: =VLOOKUP($A5,analysis!$A$2:$U$1048576,J$2,FALSE) -> 1 | K5: =VLOOKUP($A5,analysis!$A$2:$U$1048576,K$2,FALSE) -> 100
A6: Perin | B6: =VLOOKUP($A6,analysis!$A$2:$S$1048576,B$2,FALSE) -> P | C6: =VLOOKUP($A6,analysis!$A$2:$S$1048576,C$2,FALSE) -> Juventus | D6: =VLOOKUP($A6,analysis!$A$2:$S$1048576,D$2,FALSE) -> Avg | E6: =VLOOKUP($A6,analysis!$A$2:$S$1048576,E$2,FALSE) -> 1 | F6: =VLOOKUP($A6,analysis!$A$2:$S$1048576,F$2,FALSE) -> 6.1579356 | G6: =VLOOKUP($A6,analysis!$A$2:$S$1048576,G$2,FALSE) -> 5.1924634 | H6: =VLOOKUP($A6,analysis!$A$2:$S$1048576,H$2,FALSE) -> 3.8187355 | I6: =VLOOKUP($A6,analysis!$A$2:$S$1048576,I$2,FALSE) -> 32.668827 | J6: =VLOOKUP($A6,analysis!$A$2:$U$1048576,J$2,FALSE) -> 0 | K6: =VLOOKUP($A6,analysis!$A$2:$U$1048576,K$2,FALSE) -> 0
A7: Radunovic | B7: =VLOOKUP($A7,analysis!$A$2:$S$1048576,B$2,FALSE) -> P | C7: =VLOOKUP($A7,analysis!$A$2:$S$1048576,C$2,FALSE) -> Cagliari | D7: =VLOOKUP($A7,analysis!$A$2:$S$1048576,D$2,FALSE) -> Avg | E7: =VLOOKUP($A7,analysis!$A$2:$S$1048576,E$2,FALSE) -> 1 | F7: =VLOOKUP($A7,analysis!$A$2:$S$1048576,F$2,FALSE) -> 6.2101443 | G7: =VLOOKUP($A7,analysis!$A$2:$S$1048576,G$2,FALSE) -> 5.1309315 | H7: =VLOOKUP($A7,analysis!$A$2:$S$1048576,H$2,FALSE) -> 3.6758755 | I7: =VLOOKUP($A7,analysis!$A$2:$S$1048576,I$2,FALSE) -> 23.511165 | J7: =VLOOKUP($A7,analysis!$A$2:$U$1048576,J$2,FALSE) -> 1 | K7: =VLOOKUP($A7,analysis!$A$2:$U$1048576,K$2,FALSE) -> 100
A8: Montipo' | B8: =VLOOKUP($A8,analysis!$A$2:$S$1048576,B$2,FALSE) -> P | C8: =VLOOKUP($A8,analysis!$A$2:$S$1048576,C$2,FALSE) -> Verona | D8: =VLOOKUP($A8,analysis!$A$2:$S$1048576,D$2,FALSE) -> Avg | E8: =VLOOKUP($A8,analysis!$A$2:$S$1048576,E$2,FALSE) -> 1 | F8: =VLOOKUP($A8,analysis!$A$2:$S$1048576,F$2,FALSE) -> 6.1946612 | G8: =VLOOKUP($A8,analysis!$A$2:$S$1048576,G$2,FALSE) -> 5.1278356 | H8: =VLOOKUP($A8,analysis!$A$2:$S$1048576,H$2,FALSE) -> 3.6752147 | I8: =VLOOKUP($A8,analysis!$A$2:$S$1048576,I$2,FALSE) -> 32.331799 | J8: =VLOOKUP($A8,analysis!$A$2:$U$1048576,J$2,FALSE) -> 1 | K8: =VLOOKUP($A8,analysis!$A$2:$U$1048576,K$2,FALSE) -> 100
A9: Falcone | B9: =VLOOKUP($A9,analysis!$A$2:$S$1048576,B$2,FALSE) -> P | C9: =VLOOKUP($A9,analysis!$A$2:$S$1048576,C$2,FALSE) -> Lecce | D9: =VLOOKUP($A9,analysis!$A$2:$S$1048576,D$2,FALSE) -> Avg | E9: =VLOOKUP($A9,analysis!$A$2:$S$1048576,E$2,FALSE) -> 1 | F9: =VLOOKUP($A9,analysis!$A$2:$S$1048576,F$2,FALSE) -> 6.205135 | G9: =VLOOKUP($A9,analysis!$A$2:$S$1048576,G$2,FALSE) -> 5.1115165 | H9: =VLOOKUP($A9,analysis!$A$2:$S$1048576,H$2,FALSE) -> 3.6011975 | I9: =VLOOKUP($A9,analysis!$A$2:$S$1048576,I$2,FALSE) -> 29.174311 | J9: =VLOOKUP($A9,analysis!$A$2:$U$1048576,J$2,FALSE) -> 1 | K9: =VLOOKUP($A9,analysis!$A$2:$U$1048576,K$2,FALSE) -> 100
A10: Di Gregorio | B10: =VLOOKUP($A10,analysis!$A$2:$S$1048576,B$2,FALSE) -> P | C10: =VLOOKUP($A10,analysis!$A$2:$S$1048576,C$2,FALSE) -> Monza | D10: =VLOOKUP($A10,analysis!$A$2:$S$1048576,D$2,FALSE) -> Avg | E10: =VLOOKUP($A10,analysis!$A$2:$S$1048576,E$2,FALSE) -> 1 | F10: =VLOOKUP($A10,analysis!$A$2:$S$1048576,F$2,FALSE) -> 6.2306677 | G10: =VLOOKUP($A10,analysis!$A$2:$S$1048576,G$2,FALSE) -> 5.1024029 | H10: =VLOOKUP($A10,analysis!$A$2:$S$1048576,H$2,FALSE) -> 3.5452147 | I10: =VLOOKUP($A10,analysis!$A$2:$S$1048576,I$2,FALSE) -> 27.890292 | J10: =VLOOKUP($A10,analysis!$A$2:$U$1048576,J$2,FALSE) -> 1 | K10: =VLOOKUP($A10,analysis!$A$2:$U$1048576,K$2,FALSE) -> 100
A11: Szczesny | B11: =VLOOKUP($A11,analysis!$A$2:$S$1048576,B$2,FALSE) -> P | C11: =VLOOKUP($A11,analysis!$A$2:$S$1048576,C$2,FALSE) -> Juventus | D11: =VLOOKUP($A11,analysis!$A$2:$S$1048576,D$2,FALSE) -> Avg | E11: =VLOOKUP($A11,analysis!$A$2:$S$1048576,E$2,FALSE) -> 1 | F11: =VLOOKUP($A11,analysis!$A$2:$S$1048576,F$2,FALSE) -> 6.1616911 | G11: =VLOOKUP($A11,analysis!$A$2:$S$1048576,G$2,FALSE) -> 5.0990495 | H11: =VLOOKUP($A11,analysis!$A$2:$S$1048576,H$2,FALSE) -> 3.6278859 | I11: =VLOOKUP($A11,analysis!$A$2:$S$1048576,I$2,FALSE) -> 30.366556 | J11: =VLOOKUP($A11,analysis!$A$2:$U$1048576,J$2,FALSE) -> 1 | K11: =VLOOKUP($A11,analysis!$A$2:$U$1048576,K$2,FALSE) -> 100
A12: Meret | B12: =VLOOKUP($A12,analysis!$A$2:$S$1048576,B$2,FALSE) -> P | C12: =VLOOKUP($A12,analysis!$A$2:$S$1048576,C$2,FALSE) -> Napoli | D12: =VLOOKUP($A12,analysis!$A$2:$S$1048576,D$2,FALSE) -> Avg | E12: =VLOOKUP($A12,analysis!$A$2:$S$1048576,E$2,FALSE) -> 1 | F12: =VLOOKUP($A12,analysis!$A$2:$S$1048576,F$2,FALSE) -> 6.0621397 | G12: =VLOOKUP($A12,analysis!$A$2:$S$1048576,G$2,FALSE) -> 5.0943369 | H12: =VLOOKUP($A12,analysis!$A$2:$S$1048576,H$2,FALSE) -> 3.6068111 | I12: =VLOOKUP($A12,analysis!$A$2:$S$1048576,I$2,FALSE) -> 29.243267 | J12: =VLOOKUP($A12,analysis!$A$2:$U$1048576,J$2,FALSE) -> 1 | K12: =VLOOKUP($A12,analysis!$A$2:$U$1048576,K$2,FALSE) -> 100
A13: Turati | B13: =VLOOKUP($A13,analysis!$A$2:$S$1048576,B$2,FALSE) -> P | C13: =VLOOKUP($A13,analysis!$A$2:$S$1048576,C$2,FALSE) -> Frosinone | D13: =VLOOKUP($A13,analysis!$A$2:$S$1048576,D$2,FALSE) -> Avg | E13: =VLOOKUP($A13,analysis!$A$2:$S$1048576,E$2,FALSE) -> 1 | F13: =VLOOKUP($A13,analysis!$A$2:$S$1048576,F$2,FALSE) -> 6.0987092 | G13: =VLOOKUP($A13,analysis!$A$2:$S$1048576,G$2,FALSE) -> 5.068384 | H13: =VLOOKUP($A13,analysis!$A$2:$S$1048576,H$2,FALSE) -> 3.5598518 | I13: =VLOOKUP($A13,analysis!$A$2:$S$1048576,I$2,FALSE) -> 17.309883 | J13: =VLOOKUP($A13,analysis!$A$2:$U$1048576,J$2,FALSE) -> 1 | K13: =VLOOKUP($A13,analysis!$A$2:$U$1048576,K$2,FALSE) -> 100
A14: Martinez Jo. | B14: =VLOOKUP($A14,analysis!$A$2:$S$1048576,B$2,FALSE) -> P | C14: =VLOOKUP($A14,analysis!$A$2:$S$1048576,C$2,FALSE) -> Genoa | D14: =VLOOKUP($A14,analysis!$A$2:$S$1048576,D$2,FALSE) -> Avg | E14: =VLOOKUP($A14,analysis!$A$2:$S$1048576,E$2,FALSE) -> 1 | F14: =VLOOKUP($A14,analysis!$A$2:$S$1048576,F$2,FALSE) -> 6.0803958 | G14: =VLOOKUP($A14,analysis!$A$2:$S$1048576,G$2,FALSE) -> 4.8632513 | H14: =VLOOKUP($A14,analysis!$A$2:$S$1048576,H$2,FALSE) -> 3.1433558 | I14: =VLOOKUP($A14,analysis!$A$2:$S$1048576,I$2,FALSE) -> 16.677055 | J14: =VLOOKUP($A14,analysis!$A$2:$U$1048576,J$2,FALSE) -> 1 | K14: =VLOOKUP($A14,analysis!$A$2:$U$1048576,K$2,FALSE) -> 100
... A25: Berisha | B25: =VLOOKUP($A25,analysis!$A$2:$S$1048576,B$2,FALSE) -> P | C25: =VLOOKUP($A25,analysis!$A$2:$S$1048576,C$2,FALSE) -> Empoli | D25: =VLOOKUP($A25,analysis!$A$2:$S$1048576,D$2,FALSE) -> Avg | E25: =VLOOKUP($A25,analysis!$A$2:$S$1048576,E$2,FALSE) -> 1 | F25: =VLOOKUP($A25,analysis!$A$2:$S$1048576,F$2,FALSE) -> 5.828729 | G25: =VLOOKUP($A25,analysis!$A$2:$S$1048576,G$2,FALSE) -> 3.4023572 | H25: =VLOOKUP($A25,analysis!$A$2:$S$1048576,H$2,FALSE) -> 0.69208538 | I25: =VLOOKUP($A25,analysis!$A$2:$S$1048576,I$2,FALSE) -> 1.1021721 | J25: =VLOOKUP($A25,analysis!$A$2:$U$1048576,J$2,FALSE) -> 1 | K25: =VLOOKUP($A25,analysis!$A$2:$U$1048576,K$2,FALSE) -> 100

Sheet my_teams
A1: Players | B1: role | C1: team | D1: oppteam | E1: home | F1: MV | G1: FV | H1: Potential | I1: Clean Sheet % | J1: starter | K1: vote% | L1: Lineup
B2: 2 | C2: 3 | D2: 4 | E2: 5 | F2: 6 | G2: 8 | H2: 19 | I2: 10 | J2: 20 | K2: 21
A3: Musso | B3: =VLOOKUP($A3,analysis!$A$2:$S$1048576,B$2,FALSE) -> P | C3: =VLOOKUP($A3,analysis!$A$2:$S$1048576,C$2,FALSE) -> Atalanta | D3: =VLOOKUP($A3,analysis!$A$2:$S$1048576,D$2,FALSE) -> Avg | E3: =VLOOKUP($A3,analysis!$A$2:$S$1048576,E$2,FALSE) -> 1 | F3: =VLOOKUP($A3,analysis!$A$2:$S$1048576,F$2,FALSE) -> 6.1711777 | G3: =VLOOKUP($A3,analysis!$A$2:$S$1048576,G$2,FALSE) -> 5.7165921 | H3: =VLOOKUP($A3,analysis!$A$2:$S$1048576,H$2,FALSE) -> 4.4514084 | I3: =VLOOKUP($A3,analysis!$A$2:$S$1048576,I$2,FALSE) -> 58.5702 | J3: =VLOOKUP($A3,analysis!$A$2:$U$1048576,J$2,FALSE) -> 1 | K3: =VLOOKUP($A3,analysis!$A$2:$U$1048576,K$2,FALSE) -> 100 | L3: x | M3: =IF(L3="x",G3,"") -> 5.7165921
A4: Carnesecchi | B4: =VLOOKUP($A4,analysis!$A$2:$S$1048576,B$2,FALSE) -> P | C4: =VLOOKUP($A4,analysis!$A$2:$S$1048576,C$2,FALSE) -> Atalanta | D4: =VLOOKUP($A4,analysis!$A$2:$S$1048576,D$2,FALSE) -> Avg | E4: =VLOOKUP($A4,analysis!$A$2:$S$1048576,E$2,FALSE) -> 1 | F4: =VLOOKUP($A4,analysis!$A$2:$S$1048576,F$2,FALSE) -> 5.8696669 | G4: =VLOOKUP($A4,analysis!$A$2:$S$1048576,G$2,FALSE) -> 3.4259287 | H4: =VLOOKUP($A4,analysis!$A$2:$S$1048576,H$2,FALSE) -> 0.6838885 | I4: =VLOOKUP($A4,analysis!$A$2:$S$1048576,I$2,FALSE) -> 1.1649141 | J4: =VLOOKUP($A4,analysis!$A$2:$U$1048576,J$2,FALSE) -> 0 | K4: =VLOOKUP($A4,analysis!$A$2:$U$1048576,K$2,FALSE) -> 0 | M4: =IF(L4="x",G4,"")
A5: Falcone | B5: =VLOOKUP($A5,analysis!$A$2:$S$1048576,B$2,FALSE) -> P | C5: =VLOOKUP($A5,analysis!$A$2:$S$1048576,C$2,FALSE) -> Lecce | D5: =VLOOKUP($A5,analysis!$A$2:$S$1048576,D$2,FALSE) -> Avg | E5: =VLOOKUP($A5,analysis!$A$2:$S$1048576,E$2,FALSE) -> 1 | F5: =VLOOKUP($A5,analysis!$A$2:$S$1048576,F$2,FALSE) -> 6.205135 | G5: =VLOOKUP($A5,analysis!$A$2:$S$1048576,G$2,FALSE) -> 5.1115165 | H5: =VLOOKUP($A5,analysis!$A$2:$S$1048576,H$2,FALSE) -> 3.6011975 | I5: =VLOOKUP($A5,analysis!$A$2:$S$1048576,I$2,FALSE) -> 29.174311 | J5: =VLOOKUP($A5,analysis!$A$2:$U$1048576,J$2,FALSE) -> 1 | K5: =VLOOKUP($A5,analysis!$A$2:$U$1048576,K$2,FALSE) -> 100 | M5: =IF(L5="x",G5,"")
A6: Zappacosta | B6: =VLOOKUP($A6,analysis!$A$2:$S$1048576,B$2,FALSE) -> D | C6: =VLOOKUP($A6,analysis!$A$2:$S$1048576,C$2,FALSE) -> Atalanta | D6: =VLOOKUP($A6,analysis!$A$2:$S$1048576,D$2,FALSE) -> Avg | E6: =VLOOKUP($A6,analysis!$A$2:$S$1048576,E$2,FALSE) -> 1 | F6: =VLOOKUP($A6,analysis!$A$2:$S$1048576,F$2,FALSE) -> 6.0985103 | G6: =VLOOKUP($A6,analysis!$A$2:$S$1048576,G$2,FALSE) -> 6.5686911 | H6: =VLOOKUP($A6,analysis!$A$2:$S$1048576,H$2,FALSE) -> 8.5273391 | I6: =VLOOKUP($A6,analysis!$A$2:$S$1048576,I$2,FALSE) | J6: =VLOOKUP($A6,analysis!$A$2:$U$1048576,J$2,FALSE) -> 1 | K6: =VLOOKUP($A6,analysis!$A$2:$U$1048576,K$2,FALSE) -> 100 | L6: x | M6: =IF(L6="x",G6,"") -> 6.5686911 | P6: =COUNT(M1:M27) -> 11 | Q6: /11
A7: Posch | B7: =VLOOKUP($A7,analysis!$A$2:$S$1048576,B$2,FALSE) -> D | C7: =VLOOKUP($A7,analysis!$A$2:$S$1048576,C$2,FALSE) -> Bologna | D7: =VLOOKUP($A7,analysis!$A$2:$S$1048576,D$2,FALSE) -> Avg | E7: =VLOOKUP($A7,analysis!$A$2:$S$1048576,E$2,FALSE) -> 1 | F7: =VLOOKUP($A7,analysis!$A$2:$S$1048576,F$2,FALSE) -> 5.9748209 | G7: =VLOOKUP($A7,analysis!$A$2:$S$1048576,G$2,FALSE) -> 6.2138418 | H7: =VLOOKUP($A7,analysis!$A$2:$S$1048576,H$2,FALSE) -> 7.7062415 | I7: =VLOOKUP($A7,analysis!$A$2:$S$1048576,I$2,FALSE) | J7: =VLOOKUP($A7,analysis!$A$2:$U$1048576,J$2,FALSE) -> 1 | K7: =VLOOKUP($A7,analysis!$A$2:$U$1048576,K$2,FALSE) -> 100 | L7: x | M7: =IF(L7="x",G7,"") -> 6.2138418
A8: Mazzocchi | B8: =VLOOKUP($A8,analysis!$A$2:$S$1048576,B$2,FALSE) -> D | C8: =VLOOKUP($A8,analysis!$A$2:$S$1048576,C$2,FALSE) -> Salernitana | D8: =VLOOKUP($A8,analysis!$A$2:$S$1048576,D$2,FALSE) -> Avg | E8: =VLOOKUP($A8,analysis!$A$2:$S$1048576,E$2,FALSE) -> 1 | F8: =VLOOKUP($A8,analysis!$A$2:$S$1048576,F$2,FALSE) -> 5.7870335 | G8: =VLOOKUP($A8,analysis!$A$2:$S$1048576,G$2,FALSE) -> 5.9182458 | H8: =VLOOKUP($A8,analysis!$A$2:$S$1048576,H$2,FALSE) -> 6.9577717 | I8: =VLOOKUP($A8,analysis!$A$2:$S$1048576,I$2,FALSE) | J8: =VLOOKUP($A8,analysis!$A$2:$U$1048576,J$2,FALSE) -> 1 | K8: =VLOOKUP($A8,analysis!$A$2:$U$1048576,K$2,FALSE) -> 100 | L8: x | M8: =IF(L8="x",G8,"") -> 5.9182458 | P8: TOT FV: | Q8: =SUM(M1:M27) -> 73.955869
A9: Carlos Augusto | B9: =VLOOKUP($A9,analysis!$A$2:$S$1048576,B$2,FALSE) -> D | C9: =VLOOKUP($A9,analysis!$A$2:$S$1048576,C$2,FALSE) -> Inter | D9: =VLOOKUP($A9,analysis!$A$2:$S$1048576,D$2,FALSE) -> Avg | E9: =VLOOKUP($A9,analysis!$A$2:$S$1048576,E$2,FALSE) -> 1 | F9: =VLOOKUP($A9,analysis!$A$2:$S$1048576,F$2,FALSE) -> 6.2771283 | G9: =VLOOKUP($A9,analysis!$A$2:$S$1048576,G$2,FALSE) -> 6.7588914 | H9: =VLOOKUP($A9,analysis!$A$2:$S$1048576,H$2,FALSE) -> 8.6023684 | I9: =VLOOKUP($A9,analysis!$A$2:$S$1048576,I$2,FALSE) | J9: =VLOOKUP($A9,analysis!$A$2:$U$1048576,J$2,FALSE) -> 0 | K9: =VLOOKUP($A9,analysis!$A$2:$U$1048576,K$2,FALSE) -> 100 | L9: x | M9: =IF(L9="x",G9,"") -> 6.7588914
A10: Bellanova | B10: =VLOOKUP($A10,analysis!$A$2:$S$1048576,B$2,FALSE) -> D | C10: =VLOOKUP($A10,analysis!$A$2:$S$1048576,C$2,FALSE) -> Torino | D10: =VLOOKUP($A10,analysis!$A$2:$S$1048576,D$2,FALSE) -> Avg | E10: =VLOOKUP($A10,analysis!$A$2:$S$1048576,E$2,FALSE) -> 1 | F10: =VLOOKUP($A10,analysis!$A$2:$S$1048576,F$2,FALSE) -> 5.9748869 | G10: =VLOOKUP($A10,analysis!$A$2:$S$1048576,G$2,FALSE) -> 6.0566798 | H10: =VLOOKUP($A10,analysis!$A$2:$S$1048576,H$2,FALSE) -> 7.0842222 | I10: =VLOOKUP($A10,analysis!$A$2:$S$1048576,I$2,FALSE) | J10: =VLOOKUP($A10,analysis!$A$2:$U$1048576,J$2,FALSE) -> 1 | K10: =VLOOKUP($A10,analysis!$A$2:$U$1048576,K$2,FALSE) -> 100 | M10: =IF(L10="x",G10,"")
A11: Casale | B11: =VLOOKUP($A11,analysis!$A$2:$S$1048576,B$2,FALSE) -> D | C11: =VLOOKUP($A11,analysis!$A$2:$S$1048576,C$2,FALSE) -> Lazio | D11: =VLOOKUP($A11,analysis!$A$2:$S$1048576,D$2,FALSE) -> Avg | E11: =VLOOKUP($A11,analysis!$A$2:$S$1048576,E$2,FALSE) -> 1 | F11: =VLOOKUP($A11,analysis!$A$2:$S$1048576,F$2,FALSE) -> 5.8734582 | G11: =VLOOKUP($A11,analysis!$A$2:$S$1048576,G$2,FALSE) -> 5.888519 | H11: =VLOOKUP($A11,analysis!$A$2:$S$1048576,H$2,FALSE) -> 7.0391943 | I11: =VLOOKUP($A11,analysis!$A$2:$S$1048576,I$2,FALSE) | J11: =VLOOKUP($A11,analysis!$A$2:$U$1048576,J$2,FALSE) -> 1 | K11: =VLOOKUP($A11,analysis!$A$2:$U$1048576,K$2,FALSE) -> 75 | M11: =IF(L11="x",G11,"")
A12: Pavard | B12: =VLOOKUP($A12,analysis!$A$2:$S$1048576,B$2,FALSE) -> D | C12: =VLOOKUP($A12,analysis!$A$2:$S$1048576,C$2,FALSE) -> Inter | D12: =VLOOKUP($A12,analysis!$A$2:$S$1048576,D$2,FALSE) -> Avg | E12: =VLOOKUP($A12,analysis!$A$2:$S$1048576,E$2,FALSE) -> 1 | F12: =VLOOKUP($A12,analysis!$A$2:$S$1048576,F$2,FALSE) -> 6.1205615 | G12: =VLOOKUP($A12,analysis!$A$2:$S$1048576,G$2,FALSE) -> 6.230457 | H12: =VLOOKUP($A12,analysis!$A$2:$S$1048576,H$2,FALSE) -> 7.085174 | I12: =VLOOKUP($A12,analysis!$A$2:$S$1048576,I$2,FALSE) | J12: =VLOOKUP($A12,analysis!$A$2:$U$1048576,J$2,FALSE) -> 0 | K12: =VLOOKUP($A12,analysis!$A$2:$U$1048576,K$2,FALSE) -> 0 | M12: =IF(L12="x",G12,"")
A13: Lazaro | B13: =VLOOKUP($A13,analysis!$A$2:$S$1048576,B$2,FALSE) -> D | C13: =VLOOKUP($A13,analysis!$A$2:$S$1048576,C$2,FALSE) -> Torino | D13: =VLOOKUP($A13,analysis!$A$2:$S$1048576,D$2,FALSE) -> Avg | E13: =VLOOKUP($A13,analysis!$A$2:$S$1048576,E$2,FALSE) -> 1 | F13: =VLOOKUP($A13,analysis!$A$2:$S$1048576,F$2,FALSE) -> 6.023676 | G13: =VLOOKUP($A13,analysis!$A$2:$S$1048576,G$2,FALSE) -> 6.0710497 | H13: =VLOOKUP($A13,analysis!$A$2:$S$1048576,H$2,FALSE) -> 6.9446462 | I13: =VLOOKUP($A13,analysis!$A$2:$S$1048576,I$2,FALSE) | J13: =VLOOKUP($A13,analysis!$A$2:$U$1048576,J$2,FALSE) -> 0 | K13: =VLOOKUP($A13,analysis!$A$2:$U$1048576,K$2,FALSE) -> 75 | M13: =IF(L13="x",G13,"")
A14: Felipe Anderson | B14: =VLOOKUP($A14,analysis!$A$2:$S$1048576,B$2,FALSE) -> C | C14: =VLOOKUP($A14,analysis!$A$2:$S$1048576,C$2,FALSE) -> Lazio | D14: =VLOOKUP($A14,analysis!$A$2:$S$1048576,D$2,FALSE) -> Avg | E14: =VLOOKUP($A14,analysis!$A$2:$S$1048576,E$2,FALSE) -> 1 | F14: =VLOOKUP($A14,analysis!$A$2:$S$1048576,F$2,FALSE) -> 6.144113 | G14: =VLOOKUP($A14,analysis!$A$2:$S$1048576,G$2,FALSE) -> 6.7727331 | H14: =VLOOKUP($A14,analysis!$A$2:$S$1048576,H$2,FALSE) -> 9.120001 | I14: =VLOOKUP($A14,analysis!$A$2:$S$1048576,I$2,FALSE) | J14: =VLOOKUP($A14,analysis!$A$2:$U$1048576,J$2,FALSE) -> 1 | K14: =VLOOKUP($A14,analysis!$A$2:$U$1048576,K$2,FALSE) -> 100 | L14: x | M14: =IF(L14="x",G14,"") -> 6.7727331
A15: Barella | B15: =VLOOKUP($A15,analysis!$A$2:$S$1048576,B$2,FALSE) -> C | C15: =VLOOKUP($A15,analysis!$A$2:$S$1048576,C$2,FALSE) -> Inter | D15: =VLOOKUP($A15,analysis!$A$2:$S$1048576,D$2,FALSE) -> Avg | E15: =VLOOKUP($A15,analysis!$A$2:$S$1048576,E$2,FALSE) -> 1 | F15: =VLOOKUP($A15,analysis!$A$2:$S$1048576,F$2,FALSE) -> 6.3520103 | G15: =VLOOKUP($A15,analysis!$A$2:$S$1048576,G$2,FALSE) -> 6.7869612 | H15: =VLOOKUP($A15,analysis!$A$2:$S$1048576,H$2,FALSE) -> 8.5746507 | I15: =VLOOKUP($A15,analysis!$A$2:$S$1048576,I$2,FALSE) | J15: =VLOOKUP($A15,analysis!$A$2:$U$1048576,J$2,FALSE) -> 1 | K15: =VLOOKUP($A15,analysis!$A$2:$U$1048576,K$2,FALSE) -> 100 | L15: x | M15: =IF(L15="x",G15,"") -> 6.7869612
A16: Zielinski | B16: =VLOOKUP($A16,analysis!$A$2:$S$1048576,B$2,FALSE) -> C | C16: =VLOOKUP($A16,analysis!$A$2:$S$1048576,C$2,FALSE) -> Napoli | D16: =VLOOKUP($A16,analysis!$A$2:$S$1048576,D$2,FALSE) -> Avg | E16: =VLOOKUP($A16,analysis!$A$2:$S$1048576,E$2,FALSE) -> 1 | F16: =VLOOKUP($A16,analysis!$A$2:$S$1048576,F$2,FALSE) -> 6.2961366 | G16: =VLOOKUP($A16,analysis!$A$2:$S$1048576,G$2,FALSE) -> 6.7062976 | H16: =VLOOKUP($A16,analysis!$A$2:$S$1048576,H$2,FALSE) -> 8.428853 | I16: =VLOOKUP($A16,analysis!$A$2:$S$1048576,I$2,FALSE) | J16: =VLOOKUP($A16,analysis!$A$2:$U$1048576,J$2,FALSE) -> 1 | K16: =VLOOKUP($A16,analysis!$A$2:$U$1048576,K$2,FALSE) -> 100 | L16: x | M16: =IF(L16="x",G16,"") -> 6.7062976
A17: Lazovic | B17: =VLOOKUP($A17,analysis!$A$2:$S$1048576,B$2,FALSE) -> C | C17: =VLOOKUP($A17,analysis!$A$2:$S$1048576,C$2,FALSE) -> Verona | D17: =VLOOKUP($A17,analysis!$A$2:$S$1048576,D$2,FALSE) -> Avg | E17: =VLOOKUP($A17,analysis!$A$2:$S$1048576,E$2,FALSE) -> 1 | F17: =VLOOKUP($A17,analysis!$A$2:$S$1048576,F$2,FALSE) -> 6.1732076 | G17: =VLOOKUP($A17,analysis!$A$2:$S$1048576,G$2,FALSE) -> 6.5717084 | H17: =VLOOKUP($A17,analysis!$A$2:$S$1048576,H$2,FALSE) -> 8.3213703 | I17: =VLOOKUP($A17,analysis!$A$2:$S$1048576,I$2,FALSE) | J17: =VLOOKUP($A17,analysis!$A$2:$U$1048576,J$2,FALSE) -> 0 | K17: =VLOOKUP($A17,analysis!$A$2:$U$1048576,K$2,FALSE) -> 25 | M17: =IF(L17="x",G17,"")
A18: Radonjic | B18: =VLOOKUP($A18,analysis!$A$2:$S$1048576,B$2,FALSE) -> C | C18: =VLOOKUP($A18,analysis!$A$2:$S$1048576,C$2,FALSE) -> Torino | D18: =VLOOKUP($A18,analysis!$A$2:$S$1048576,D$2,FALSE) -> Avg | E18: =VLOOKUP($A18,analysis!$A$2:$S$1048576,E$2,FALSE) -> 1 | F18: =VLOOKUP($A18,analysis!$A$2:$S$1048576,F$2,FALSE) -> 6.318074 | G18: =VLOOKUP($A18,analysis!$A$2:$S$1048576,G$2,FALSE) -> 7.0766049 | H18: =VLOOKUP($A18,analysis!$A$2:$S$1048576,H$2,FALSE) -> 9.6977711 | I18: =VLOOKUP($A18,analysis!$A$2:$S$1048576,I$2,FALSE) | J18: =VLOOKUP($A18,analysis!$A$2:$U$1048576,J$2,FALSE) -> 1 | K18: =VLOOKUP($A18,analysis!$A$2:$U$1048576,K$2,FALSE) -> 100 | M18: =IF(L18="x",G18,"")
A19: Ndoye | B19: =VLOOKUP($A19,analysis!$A$2:$S$1048576,B$2,FALSE) -> C | C19: =VLOOKUP($A19,analysis!$A$2:$S$1048576,C$2,FALSE) -> Bologna | D19: =VLOOKUP($A19,analysis!$A$2:$S$1048576,D$2,FALSE) -> Avg | E19: =VLOOKUP($A19,analysis!$A$2:$S$1048576,E$2,FALSE) -> 1 | F19: =VLOOKUP($A19,analysis!$A$2:$S$1048576,F$2,FALSE) -> 5.8951827 | G19: =VLOOKUP($A19,analysis!$A$2:$S$1048576,G$2,FALSE) -> 5.9554607 | H19: =VLOOKUP($A19,analysis!$A$2:$S$1048576,H$2,FALSE) -> 6.9529551 | I19: =VLOOKUP($A19,analysis!$A$2:$S$1048576,I$2,FALSE) | J19: =VLOOKUP($A19,analysis!$A$2:$U$1048576,J$2,FALSE) -> 1 | K19: =VLOOKUP($A19,analysis!$A$2:$U$1048576,K$2,FALSE) -> 100 | M19: =IF(L19="x",G19,"")
A20: Rafia | B20: =VLOOKUP($A20,analysis!$A$2:$S$1048576,B$2,FALSE) -> C | C20: =VLOOKUP($A20,analysis!$A$2:$S$1048576,C$2,FALSE) -> Lecce | D20: =VLOOKUP($A20,analysis!$A$2:$S$1048576,D$2,FALSE) -> Avg | E20: =VLOOKUP($A20,analysis!$A$2:$S$1048576,E$2,FALSE) -> 1 | F20: =VLOOKUP($A20,analysis!$A$2:$S$1048576,F$2,FALSE) -> 6.0399192 | G20: =VLOOKUP($A20,analysis!$A$2:$S$1048576,G$2,FALSE) -> 6.2447495 | H20: =VLOOKUP($A20,analysis!$A$2:$S$1048576,H$2,FALSE) -> 7.3538041 | I20: =VLOOKUP($A20,analysis!$A$2:$S$1048576,I$2,FALSE) | J20: =VLOOKUP($A20,analysis!$A$2:$U$1048576,J$2,FALSE) -> 1 | K20: =VLOOKUP($A20,analysis!$A$2:$U$1048576,K$2,FALSE) -> 100 | M20: =IF(L20="x",G20,"")
A21: Kastanos | B21: =VLOOKUP($A21,analysis!$A$2:$S$1048576,B$2,FALSE) -> C | C21: =VLOOKUP($A21,analysis!$A$2:$S$1048576,C$2,FALSE) -> Salernitana | D21: =VLOOKUP($A21,analysis!$A$2:$S$1048576,D$2,FALSE) -> Avg | E21: =VLOOKUP($A21,analysis!$A$2:$S$1048576,E$2,FALSE) -> 1 | F21: =VLOOKUP($A21,analysis!$A$2:$S$1048576,F$2,FALSE) -> 5.8606168 | G21: =VLOOKUP($A21,analysis!$A$2:$S$1048576,G$2,FALSE) -> 5.9814731 | H21: =VLOOKUP($A21,analysis!$A$2:$S$1048576,H$2,FALSE) -> 6.862893 | I21: =VLOOKUP($A21,analysis!$A$2:$S$1048576,I$2,FALSE) | J21: =VLOOKUP($A21,analysis!$A$2:$U$1048576,J$2,FALSE) -> 1 | K21: =VLOOKUP($A21,analysis!$A$2:$U$1048576,K$2,FALSE) -> 100 | M21: =IF(L21="x",G21,"")
A22: Rafael Leao | B22: =VLOOKUP($A22,analysis!$A$2:$S$1048576,B$2,FALSE) -> A | C22: =VLOOKUP($A22,analysis!$A$2:$S$1048576,C$2,FALSE) -> Milan | D22: =VLOOKUP($A22,analysis!$A$2:$S$1048576,D$2,FALSE) -> Avg | E22: =VLOOKUP($A22,analysis!$A$2:$S$1048576,E$2,FALSE) -> 1 | F22: =VLOOKUP($A22,analysis!$A$2:$S$1048576,F$2,FALSE) -> 6.425192 | G22: =VLOOKUP($A22,analysis!$A$2:$S$1048576,G$2,FALSE) -> 7.7161659 | H22: =VLOOKUP($A22,analysis!$A$2:$S$1048576,H$2,FALSE) -> 11.434429 | I22: =VLOOKUP($A22,analysis!$A$2:$S$1048576,I$2,FALSE) | J22: =VLOOKUP($A22,analysis!$A$2:$U$1048576,J$2,FALSE) -> 1 | K22: =VLOOKUP($A22,analysis!$A$2:$U$1048576,K$2,FALSE) -> 100 | L22: x | M22: =IF(L22="x",G22,"") -> 7.7161659
A23: Lookman | B23: =VLOOKUP($A23,analysis!$A$2:$S$1048576,B$2,FALSE) -> A | C23: =VLOOKUP($A23,analysis!$A$2:$S$1048576,C$2,FALSE) -> Atalanta | D23: =VLOOKUP($A23,analysis!$A$2:$S$1048576,D$2,FALSE) -> Avg | E23: =VLOOKUP($A23,analysis!$A$2:$S$1048576,E$2,FALSE) -> 1 | F23: =VLOOKUP($A23,analysis!$A$2:$S$1048576,F$2,FALSE) -> 6.3680665 | G23: =VLOOKUP($A23,analysis!$A$2:$S$1048576,G$2,FALSE) -> 7.5344923 | H23: =VLOOKUP($A23,analysis!$A$2:$S$1048576,H$2,FALSE) -> 11.088765 | I23: =VLOOKUP($A23,analysis!$A$2:$S$1048576,I$2,FALSE) | J23: =VLOOKUP($A23,analysis!$A$2:$U$1048576,J$2,FALSE) -> 0 | K23: =VLOOKUP($A23,analysis!$A$2:$U$1048576,K$2,FALSE) -> 100 | L23: x | M23: =IF(L23="x",G23,"") -> 7.5344923
A24: Dia | B24: =VLOOKUP($A24,analysis!$A$2:$S$1048576,B$2,FALSE) -> A | C24: =VLOOKUP($A24,analysis!$A$2:$S$1048576,C$2,FALSE) -> Salernitana | D24: =VLOOKUP($A24,analysis!$A$2:$S$1048576,D$2,FALSE) -> Avg | E24: =VLOOKUP($A24,analysis!$A$2:$S$1048576,E$2,FALSE) -> 1 | F24: =VLOOKUP($A24,analysis!$A$2:$S$1048576,F$2,FALSE) -> 6.2399553 | G24: =VLOOKUP($A24,analysis!$A$2:$S$1048576,G$2,FALSE) -> 7.2629571 | H24: =VLOOKUP($A24,analysis!$A$2:$S$1048576,H$2,FALSE) -> 10.478309 | I24: =VLOOKUP($A24,analysis!$A$2:$S$1048576,I$2,FALSE) | J24: =VLOOKUP($A24,analysis!$A$2:$U$1048576,J$2,FALSE) -> 0 | K24: =VLOOKUP($A24,analysis!$A$2:$U$1048576,K$2,FALSE) -> 50 | L24: x | M24: =IF(L24="x",G24,"") -> 7.2629571
A25: Lauriente' | B25: =VLOOKUP($A25,analysis!$A$2:$S$1048576,B$2,FALSE) -> A | C25: =VLOOKUP($A25,analysis!$A$2:$S$1048576,C$2,FALSE) -> Sassuolo | D25: =VLOOKUP($A25,analysis!$A$2:$S$1048576,D$2,FALSE) -> Avg | E25: =VLOOKUP($A25,analysis!$A$2:$S$1048576,E$2,FALSE) -> 1 | F25: =VLOOKUP($A25,analysis!$A$2:$S$1048576,F$2,FALSE) -> 6.2286788 | G25: =VLOOKUP($A25,analysis!$A$2:$S$1048576,G$2,FALSE) -> 6.9807756 | H25: =VLOOKUP($A25,analysis!$A$2:$S$1048576,H$2,FALSE) -> 9.7019839 | I25: =VLOOKUP($A25,analysis!$A$2:$S$1048576,I$2,FALSE) | J25: =VLOOKUP($A25,analysis!$A$2:$U$1048576,J$2,FALSE) -> 1 | K25: =VLOOKUP($A25,analysis!$A$2:$U$1048576,K$2,FALSE) -> 100 | M25: =IF(L25="x",G25,"")
A26: Ngonge | B26: =VLOOKUP($A26,analysis!$A$2:$S$1048576,B$2,FALSE) -> A | C26: =VLOOKUP($A26,analysis!$A$2:$S$1048576,C$2,FALSE) -> Verona | D26: =VLOOKUP($A26,analysis!$A$2:$S$1048576,D$2,FALSE) -> Avg | E26: =VLOOKUP($A26,analysis!$A$2:$S$1048576,E$2,FALSE) -> 1 | F26: =VLOOKUP($A26,analysis!$A$2:$S$1048576,F$2,FALSE) -> 6.0780381 | G26: =VLOOKUP($A26,analysis!$A$2:$S$1048576,G$2,FALSE) -> 6.6990161 | H26: =VLOOKUP($A26,analysis!$A$2:$S$1048576,H$2,FALSE) -> 8.9546477 | I26: =VLOOKUP($A26,analysis!$A$2:$S$1048576,I$2,FALSE) | J26: =VLOOKUP($A26,analysis!$A$2:$U$1048576,J$2,FALSE) -> 1 | K26: =VLOOKUP($A26,analysis!$A$2:$U$1048576,K$2,FALSE) -> 100 | M26: =IF(L26="x",G26,"")
A27: Krstovic | B27: =VLOOKUP($A27,analysis!$A$2:$S$1048576,B$2,FALSE) -> A | C27: =VLOOKUP($A27,analysis!$A$2:$S$1048576,C$2,FALSE) -> Lecce | D27: =VLOOKUP($A27,analysis!$A$2:$S$1048576,D$2,FALSE) -> Avg | E27: =VLOOKUP($A27,analysis!$A$2:$S$1048576,E$2,FALSE) -> 1 | F27: =VLOOKUP($A27,analysis!$A$2:$S$1048576,F$2,FALSE) -> 6.2618168 | G27: =VLOOKUP($A27,analysis!$A$2:$S$1048576,G$2,FALSE) -> 6.6281956 | H27: =VLOOKUP($A27,analysis!$A$2:$S$1048576,H$2,FALSE) -> 8.2027529 | I27: =VLOOKUP($A27,analysis!$A$2:$S$1048576,I$2,FALSE) | J27: =VLOOKUP($A27,analysis!$A$2:$U$1048576,J$2,FALSE) -> 1 | K27: =VLOOKUP($A27,analysis!$A$2:$U$1048576,K$2,FALSE) -> 75 | M27: =IF(L27="x",G27,"")
A28: Players | B28: role | C28: team | D28: oppteam | E28: home | F28: MV | G28: FV | H28: Potential | I28: Clean Sheet % | J28: starter | K28: vote% | L28: Lineup
B29: 2 | C29: 3 | D29: 4 | E29: 5 | F29: 6 | G29: 8 | H29: 19 | I29: 10 | J29: 20 | K29: 21
A30: Provedel | B30: =VLOOKUP($A30,analysis!$A$2:$S$1048576,B$2,FALSE) -> P | C30: =VLOOKUP($A30,analysis!$A$2:$S$1048576,C$2,FALSE) -> Lazio | D30: =VLOOKUP($A30,analysis!$A$2:$S$1048576,D$2,FALSE) -> Avg | E30: =VLOOKUP($A30,analysis!$A$2:$S$1048576,E$2,FALSE) -> 1 | F30: =VLOOKUP($A30,analysis!$A$2:$S$1048576,F$2,FALSE) -> 6.1593845 | G30: =VLOOKUP($A30,analysis!$A$2:$S$1048576,G$2,FALSE) -> 4.5042254 | H30: =VLOOKUP($A30,analysis!$A$2:$S$1048576,H$2,FALSE) -> 2.544534 | I30: =VLOOKUP($A30,analysis!$A$2:$S$1048576,I$2,FALSE) -> 13.068862 | J30: =VLOOKUP($A30,analysis!$A$2:$U$1048576,J$2,FALSE) -> 1 | K30: =VLOOKUP($A30,analysis!$A$2:$U$1048576,K$2,FALSE) -> 100 | L30: x | M30: =IF(L30="x",G30,"") -> 4.5042254
A31: Milinkovic-Savic V. | B31: =VLOOKUP($A31,analysis!$A$2:$S$1048576,B$2,FALSE) -> P | C31: =VLOOKUP($A31,analysis!$A$2:$S$1048576,C$2,FALSE) -> Torino | D31: =VLOOKUP($A31,analysis!$A$2:$S$1048576,D$2,FALSE) -> Avg | E31: =VLOOKUP($A31,analysis!$A$2:$S$1048576,E$2,FALSE) -> 1 | F31: =VLOOKUP($A31,analysis!$A$2:$S$1048576,F$2,FALSE) -> 6.1486756 | G31: =VLOOKUP($A31,analysis!$A$2:$S$1048576,G$2,FALSE) -> 5.4146411 | H31: =VLOOKUP($A31,analysis!$A$2:$S$1048576,H$2,FALSE) -> 4.0875053 | I31: =VLOOKUP($A31,analysis!$A$2:$S$1048576,I$2,FALSE) -> 42.203921 | J31: =VLOOKUP($A31,analysis!$A$2:$U$1048576,J$2,FALSE) -> 1 | K31: =VLOOKUP($A31,analysis!$A$2:$U$1048576,K$2,FALSE) -> 100 | M31: =IF(L31="x",G31,"")
A32: Sepe | B32: =VLOOKUP($A32,analysis!$A$2:$S$1048576,B$2,FALSE) -> P | C32: =VLOOKUP($A32,analysis!$A$2:$S$1048576,C$2,FALSE) -> Lazio | D32: =VLOOKUP($A32,analysis!$A$2:$S$1048576,D$2,FALSE) -> Avg | E32: =VLOOKUP($A32,analysis!$A$2:$S$1048576,E$2,FALSE) -> 1 | F32: =VLOOKUP($A32,analysis!$A$2:$S$1048576,F$2,FALSE) -> 6.1368247 | G32: =VLOOKUP($A32,analysis!$A$2:$S$1048576,G$2,FALSE) -> 4.0312815 | H32: =VLOOKUP($A32,analysis!$A$2:$S$1048576,H$2,FALSE) -> 1.8612123 | I32: =VLOOKUP($A32,analysis!$A$2:$S$1048576,I$2,FALSE) -> 5.5716826 | J32: =VLOOKUP($A32,analysis!$A$2:$U$1048576,J$2,FALSE) -> 0 | K32: =VLOOKUP($A32,analysis!$A$2:$U$1048576,K$2,FALSE) -> 0 | M32: =IF(L32="x",G32,"")
A33: Danilo | B33: =VLOOKUP($A33,analysis!$A$2:$S$1048576,B$2,FALSE) -> D | C33: =VLOOKUP($A33,analysis!$A$2:$S$1048576,C$2,FALSE) -> Juventus | D33: =VLOOKUP($A33,analysis!$A$2:$S$1048576,D$2,FALSE) -> Avg | E33: =VLOOKUP($A33,analysis!$A$2:$S$1048576,E$2,FALSE) -> 1 | F33: =VLOOKUP($A33,analysis!$A$2:$S$1048576,F$2,FALSE) -> 6.3158818 | G33: =VLOOKUP($A33,analysis!$A$2:$S$1048576,G$2,FALSE) -> 6.6516273 | H33: =VLOOKUP($A33,analysis!$A$2:$S$1048576,H$2,FALSE) -> 8.1998043 | I33: =VLOOKUP($A33,analysis!$A$2:$S$1048576,I$2,FALSE) | J33: =VLOOKUP($A33,analysis!$A$2:$U$1048576,J$2,FALSE) -> 1 | K33: =VLOOKUP($A33,analysis!$A$2:$U$1048576,K$2,FALSE) -> 100 | L33: x | M33: =IF(L33="x",G33,"") -> 6.6516273 | P33: =COUNT(M28:M54) -> 11 | Q33: /11
A34: Pavard | B34: =VLOOKUP($A34,analysis!$A$2:$S$1048576,B$2,FALSE) -> D | C34: =VLOOKUP($A34,analysis!$A$2:$S$1048576,C$2,FALSE) -> Inter | D34: =VLOOKUP($A34,analysis!$A$2:$S$1048576,D$2,FALSE) -> Avg | E34: =VLOOKUP($A34,analysis!$A$2:$S$1048576,E$2,FALSE) -> 1 | F34: =VLOOKUP($A34,analysis!$A$2:$S$1048576,F$2,FALSE) -> 6.1205615 | G34: =VLOOKUP($A34,analysis!$A$2:$S$1048576,G$2,FALSE) -> 6.230457 | H34: =VLOOKUP($A34,analysis!$A$2:$S$1048576,H$2,FALSE) -> 7.085174 | I34: =VLOOKUP($A34,analysis!$A$2:$S$1048576,I$2,FALSE) | J34: =VLOOKUP($A34,analysis!$A$2:$U$1048576,J$2,FALSE) -> 0 | K34: =VLOOKUP($A34,analysis!$A$2:$U$1048576,K$2,FALSE) -> 0 | L34: x | M34: =IF(L34="x",G34,"") -> 6.230457
A35: Rrahmani | B35: =VLOOKUP($A35,analysis!$A$2:$S$1048576,B$2,FALSE) -> D | C35: =VLOOKUP($A35,analysis!$A$2:$S$1048576,C$2,FALSE) -> Napoli | D35: =VLOOKUP($A35,analysis!$A$2:$S$1048576,D$2,FALSE) -> Avg | E35: =VLOOKUP($A35,analysis!$A$2:$S$1048576,E$2,FALSE) -> 1 | F35: =VLOOKUP($A35,analysis!$A$2:$S$1048576,F$2,FALSE) -> 6.0728102 | G35: =VLOOKUP($A35,analysis!$A$2:$S$1048576,G$2,FALSE) -> 6.2680354 | H35: =VLOOKUP($A35,analysis!$A$2:$S$1048576,H$2,FALSE) -> 7.6986322 | I35: =VLOOKUP($A35,analysis!$A$2:$S$1048576,I$2,FALSE) | J35: =VLOOKUP($A35,analysis!$A$2:$U$1048576,J$2,FALSE) -> 1 | K35: =VLOOKUP($A35,analysis!$A$2:$U$1048576,K$2,FALSE) -> 75 | L35: x | M35: =IF(L35="x",G35,"") -> 6.2680354 | P35: TOT FV: | Q35: =SUM(M28:M54) -> 74.634824
A36: Carlos Augusto | B36: =VLOOKUP($A36,analysis!$A$2:$S$1048576,B$2,FALSE) -> D | C36: =VLOOKUP($A36,analysis!$A$2:$S$1048576,C$2,FALSE) -> Inter | D36: =VLOOKUP($A36,analysis!$A$2:$S$1048576,D$2,FALSE) -> Avg | E36: =VLOOKUP($A36,analysis!$A$2:$S$1048576,E$2,FALSE) -> 1 | F36: =VLOOKUP($A36,analysis!$A$2:$S$1048576,F$2,FALSE) -> 6.2771283 | G36: =VLOOKUP($A36,analysis!$A$2:$S$1048576,G$2,FALSE) -> 6.7588914 | H36: =VLOOKUP($A36,analysis!$A$2:$S$1048576,H$2,FALSE) -> 8.6023684 | I36: =VLOOKUP($A36,analysis!$A$2:$S$1048576,I$2,FALSE) | J36: =VLOOKUP($A36,analysis!$A$2:$U$1048576,J$2,FALSE) -> 0 | K36: =VLOOKUP($A36,analysis!$A$2:$U$1048576,K$2,FALSE) -> 100 | L36: x | M36: =IF(L36="x",G36,"") -> 6.7588914
A37: Doig | B37: =VLOOKUP($A37,analysis!$A$2:$S$1048576,B$2,FALSE) -> D | C37: =VLOOKUP($A37,analysis!$A$2:$S$1048576,C$2,FALSE) -> Verona | D37: =VLOOKUP($A37,analysis!$A$2:$S$1048576,D$2,FALSE) -> Avg | E37: =VLOOKUP($A37,analysis!$A$2:$S$1048576,E$2,FALSE) -> 1 | F37: =VLOOKUP($A37,analysis!$A$2:$S$1048576,F$2,FALSE) -> 5.9965659 | G37: =VLOOKUP($A37,analysis!$A$2:$S$1048576,G$2,FALSE) -> 6.3084797 | H37: =VLOOKUP($A37,analysis!$A$2:$S$1048576,H$2,FALSE) -> 7.9004332 | I37: =VLOOKUP($A37,analysis!$A$2:$S$1048576,I$2,FALSE) | J37: =VLOOKUP($A37,analysis!$A$2:$U$1048576,J$2,FALSE) -> 1 | K37: =VLOOKUP($A37,analysis!$A$2:$U$1048576,K$2,FALSE) -> 100 | M37: =IF(L37="x",G37,"")
A38: Kolasinac | B38: =VLOOKUP($A38,analysis!$A$2:$S$1048576,B$2,FALSE) -> D | C38: =VLOOKUP($A38,analysis!$A$2:$S$1048576,C$2,FALSE) -> Atalanta | D38: =VLOOKUP($A38,analysis!$A$2:$S$1048576,D$2,FALSE) -> Avg | E38: =VLOOKUP($A38,analysis!$A$2:$S$1048576,E$2,FALSE) -> 1 | F38: =VLOOKUP($A38,analysis!$A$2:$S$1048576,F$2,FALSE) -> 5.9808143 | G38: =VLOOKUP($A38,analysis!$A$2:$S$1048576,G$2,FALSE) -> 6.1330415 | H38: =VLOOKUP($A38,analysis!$A$2:$S$1048576,H$2,FALSE) -> 7.1524082 | I38: =VLOOKUP($A38,analysis!$A$2:$S$1048576,I$2,FALSE) | J38: =VLOOKUP($A38,analysis!$A$2:$U$1048576,J$2,FALSE) -> 1 | K38: =VLOOKUP($A38,analysis!$A$2:$U$1048576,K$2,FALSE) -> 100 | M38: =IF(L38="x",G38,"")
A39: Kristensen | B39: =VLOOKUP($A39,analysis!$A$2:$S$1048576,B$2,FALSE) -> D | C39: =VLOOKUP($A39,analysis!$A$2:$S$1048576,C$2,FALSE) -> Roma | D39: =VLOOKUP($A39,analysis!$A$2:$S$1048576,D$2,FALSE) -> Avg | E39: =VLOOKUP($A39,analysis!$A$2:$S$1048576,E$2,FALSE) -> 1 | F39: =VLOOKUP($A39,analysis!$A$2:$S$1048576,F$2,FALSE) -> 6.0116677 | G39: =VLOOKUP($A39,analysis!$A$2:$S$1048576,G$2,FALSE) -> 6.1891061 | H39: =VLOOKUP($A39,analysis!$A$2:$S$1048576,H$2,FALSE) -> 7.2652172 | I39: =VLOOKUP($A39,analysis!$A$2:$S$1048576,I$2,FALSE) | J39: =VLOOKUP($A39,analysis!$A$2:$U$1048576,J$2,FALSE) -> 0 | K39: =VLOOKUP($A39,analysis!$A$2:$U$1048576,K$2,FALSE) -> 0 | M39: =IF(L39="x",G39,"")
A40: Kristiansen | B40: =VLOOKUP($A40,analysis!$A$2:$S$1048576,B$2,FALSE) -> D | C40: =VLOOKUP($A40,analysis!$A$2:$S$1048576,C$2,FALSE) -> Bologna | D40: =VLOOKUP($A40,analysis!$A$2:$S$1048576,D$2,FALSE) -> Avg | E40: =VLOOKUP($A40,analysis!$A$2:$S$1048576,E$2,FALSE) -> 1 | F40: =VLOOKUP($A40,analysis!$A$2:$S$1048576,F$2,FALSE) -> 6.030633 | G40: =VLOOKUP($A40,analysis!$A$2:$S$1048576,G$2,FALSE) -> 6.1139919 | H40: =VLOOKUP($A40,analysis!$A$2:$S$1048576,H$2,FALSE) -> 7.1491536 | I40: =VLOOKUP($A40,analysis!$A$2:$S$1048576,I$2,FALSE) | J40: =VLOOKUP($A40,analysis!$A$2:$U$1048576,J$2,FALSE) -> 0 | K40: =VLOOKUP($A40,analysis!$A$2:$U$1048576,K$2,FALSE) -> 50 | M40: =IF(L40="x",G40,"")
A41: Zaccagni | B41: =VLOOKUP($A41,analysis!$A$2:$S$1048576,B$2,FALSE) -> C | C41: =VLOOKUP($A41,analysis!$A$2:$S$1048576,C$2,FALSE) -> Lazio | D41: =VLOOKUP($A41,analysis!$A$2:$S$1048576,D$2,FALSE) -> Avg | E41: =VLOOKUP($A41,analysis!$A$2:$S$1048576,E$2,FALSE) -> 1 | F41: =VLOOKUP($A41,analysis!$A$2:$S$1048576,F$2,FALSE) -> 6.3228783 | G41: =VLOOKUP($A41,analysis!$A$2:$S$1048576,G$2,FALSE) -> 6.9542755 | H41: =VLOOKUP($A41,analysis!$A$2:$S$1048576,H$2,FALSE) -> 9.2748745 | I41: =VLOOKUP($A41,analysis!$A$2:$S$1048576,I$2,FALSE) | J41: =VLOOKUP($A41,analysis!$A$2:$U$1048576,J$2,FALSE) -> 1 | K41: =VLOOKUP($A41,analysis!$A$2:$U$1048576,K$2,FALSE) -> 100 | L41: x | M41: =IF(L41="x",G41,"") -> 6.9542755
A42: Koopmeiners | B42: =VLOOKUP($A42,analysis!$A$2:$S$1048576,B$2,FALSE) -> C | C42: =VLOOKUP($A42,analysis!$A$2:$S$1048576,C$2,FALSE) -> Atalanta | D42: =VLOOKUP($A42,analysis!$A$2:$S$1048576,D$2,FALSE) -> Avg | E42: =VLOOKUP($A42,analysis!$A$2:$S$1048576,E$2,FALSE) -> 1 | F42: =VLOOKUP($A42,analysis!$A$2:$S$1048576,F$2,FALSE) -> 6.379654 | G42: =VLOOKUP($A42,analysis!$A$2:$S$1048576,G$2,FALSE) -> 7.2047032 | H42: =VLOOKUP($A42,analysis!$A$2:$S$1048576,H$2,FALSE) -> 9.9264878 | I42: =VLOOKUP($A42,analysis!$A$2:$S$1048576,I$2,FALSE) | J42: =VLOOKUP($A42,analysis!$A$2:$U$1048576,J$2,FALSE) -> 1 | K42: =VLOOKUP($A42,analysis!$A$2:$U$1048576,K$2,FALSE) -> 100 | L42: x | M42: =IF(L42="x",G42,"") -> 7.2047032
A43: Frattesi | B43: =VLOOKUP($A43,analysis!$A$2:$S$1048576,B$2,FALSE) -> C | C43: =VLOOKUP($A43,analysis!$A$2:$S$1048576,C$2,FALSE) -> Inter | D43: =VLOOKUP($A43,analysis!$A$2:$S$1048576,D$2,FALSE) -> Avg | E43: =VLOOKUP($A43,analysis!$A$2:$S$1048576,E$2,FALSE) -> 1 | F43: =VLOOKUP($A43,analysis!$A$2:$S$1048576,F$2,FALSE) -> 6.3456209 | G43: =VLOOKUP($A43,analysis!$A$2:$S$1048576,G$2,FALSE) -> 7.0422905 | H43: =VLOOKUP($A43,analysis!$A$2:$S$1048576,H$2,FALSE) -> 9.4460192 | I43: =VLOOKUP($A43,analysis!$A$2:$S$1048576,I$2,FALSE) | J43: =VLOOKUP($A43,analysis!$A$2:$U$1048576,J$2,FALSE) -> 0 | K43: =VLOOKUP($A43,analysis!$A$2:$U$1048576,K$2,FALSE) -> 100 | L43: x | M43: =IF(L43="x",G43,"") -> 7.0422905
A44: Pellegrini Lo. | B44: =VLOOKUP($A44,analysis!$A$2:$S$1048576,B$2,FALSE) -> C | C44: =VLOOKUP($A44,analysis!$A$2:$S$1048576,C$2,FALSE) -> Roma | D44: =VLOOKUP($A44,analysis!$A$2:$S$1048576,D$2,FALSE) -> Avg | E44: =VLOOKUP($A44,analysis!$A$2:$S$1048576,E$2,FALSE) -> 1 | F44: =VLOOKUP($A44,analysis!$A$2:$S$1048576,F$2,FALSE) -> 6.0771765 | G44: =VLOOKUP($A44,analysis!$A$2:$S$1048576,G$2,FALSE) -> 6.6297052 | H44: =VLOOKUP($A44,analysis!$A$2:$S$1048576,H$2,FALSE) -> 8.7247047 | I44: =VLOOKUP($A44,analysis!$A$2:$S$1048576,I$2,FALSE) | J44: =VLOOKUP($A44,analysis!$A$2:$U$1048576,J$2,FALSE) -> 0 | K44: =VLOOKUP($A44,analysis!$A$2:$U$1048576,K$2,FALSE) -> 50 | M44: =IF(L44="x",G44,"")
A45: Lovric | B45: =VLOOKUP($A45,analysis!$A$2:$S$1048576,B$2,FALSE) -> C | C45: =VLOOKUP($A45,analysis!$A$2:$S$1048576,C$2,FALSE) -> Udinese | D45: =VLOOKUP($A45,analysis!$A$2:$S$1048576,D$2,FALSE) -> Avg | E45: =VLOOKUP($A45,analysis!$A$2:$S$1048576,E$2,FALSE) -> 1 | F45: =VLOOKUP($A45,analysis!$A$2:$S$1048576,F$2,FALSE) -> 6.0492686 | G45: =VLOOKUP($A45,analysis!$A$2:$S$1048576,G$2,FALSE) -> 6.3662067 | H45: =VLOOKUP($A45,analysis!$A$2:$S$1048576,H$2,FALSE) -> 7.8792735 | I45: =VLOOKUP($A45,analysis!$A$2:$S$1048576,I$2,FALSE) | J45: =VLOOKUP($A45,analysis!$A$2:$U$1048576,J$2,FALSE) -> 1 | K45: =VLOOKUP($A45,analysis!$A$2:$U$1048576,K$2,FALSE) -> 100 | M45: =IF(L45="x",G45,"")
A46: Lazovic | B46: =VLOOKUP($A46,analysis!$A$2:$S$1048576,B$2,FALSE) -> C | C46: =VLOOKUP($A46,analysis!$A$2:$S$1048576,C$2,FALSE) -> Verona | D46: =VLOOKUP($A46,analysis!$A$2:$S$1048576,D$2,FALSE) -> Avg | E46: =VLOOKUP($A46,analysis!$A$2:$S$1048576,E$2,FALSE) -> 1 | F46: =VLOOKUP($A46,analysis!$A$2:$S$1048576,F$2,FALSE) -> 6.1732076 | G46: =VLOOKUP($A46,analysis!$A$2:$S$1048576,G$2,FALSE) -> 6.5717084 | H46: =VLOOKUP($A46,analysis!$A$2:$S$1048576,H$2,FALSE) -> 8.3213703 | I46: =VLOOKUP($A46,analysis!$A$2:$S$1048576,I$2,FALSE) | J46: =VLOOKUP($A46,analysis!$A$2:$U$1048576,J$2,FALSE) -> 0 | K46: =VLOOKUP($A46,analysis!$A$2:$U$1048576,K$2,FALSE) -> 25 | M46: =IF(L46="x",G46,"")
A47: Ndoye | B47: =VLOOKUP($A47,analysis!$A$2:$S$1048576,B$2,FALSE) -> C | C47: =VLOOKUP($A47,analysis!$A$2:$S$1048576,C$2,FALSE) -> Bologna | D47: =VLOOKUP($A47,analysis!$A$2:$S$1048576,D$2,FALSE) -> Avg | E47: =VLOOKUP($A47,analysis!$A$2:$S$1048576,E$2,FALSE) -> 1 | F47: =VLOOKUP($A47,analysis!$A$2:$S$1048576,F$2,FALSE) -> 5.8951827 | G47: =VLOOKUP($A47,analysis!$A$2:$S$1048576,G$2,FALSE) -> 5.9554607 | H47: =VLOOKUP($A47,analysis!$A$2:$S$1048576,H$2,FALSE) -> 6.9529551 | I47: =VLOOKUP($A47,analysis!$A$2:$S$1048576,I$2,FALSE) | J47: =VLOOKUP($A47,analysis!$A$2:$U$1048576,J$2,FALSE) -> 1 | K47: =VLOOKUP($A47,analysis!$A$2:$U$1048576,K$2,FALSE) -> 100 | M47: =IF(L47="x",G47,"")
A48: Kostic | B48: =VLOOKUP($A48,analysis!$A$2:$S$1048576,B$2,FALSE) -> C | C48: =VLOOKUP($A48,analysis!$A$2:$S$1048576,C$2,FALSE) -> Juventus | D48: =VLOOKUP($A48,analysis!$A$2:$S$1048576,D$2,FALSE) -> Avg | E48: =VLOOKUP($A48,analysis!$A$2:$S$1048576,E$2,FALSE) -> 1 | F48: =VLOOKUP($A48,analysis!$A$2:$S$1048576,F$2,FALSE) -> 6.2224612 | G48: =VLOOKUP($A48,analysis!$A$2:$S$1048576,G$2,FALSE) -> 6.6776564 | H48: =VLOOKUP($A48,analysis!$A$2:$S$1048576,H$2,FALSE) -> 8.4741444 | I48: =VLOOKUP($A48,analysis!$A$2:$S$1048576,I$2,FALSE) | J48: =VLOOKUP($A48,analysis!$A$2:$U$1048576,J$2,FALSE) -> 0 | K48: =VLOOKUP($A48,analysis!$A$2:$U$1048576,K$2,FALSE) -> 50 | M48: =IF(L48="x",G48,"")
A49: Osimhen | B49: =VLOOKUP($A49,analysis!$A$2:$S$1048576,B$2,FALSE) -> A | C49: =VLOOKUP($A49,analysis!$A$2:$S$1048576,C$2,FALSE) -> Napoli | D49: =VLOOKUP($A49,analysis!$A$2:$S$1048576,D$2,FALSE) -> Avg | E49: =VLOOKUP($A49,analysis!$A$2:$S$1048576,E$2,FALSE) -> 1 | F49: =VLOOKUP($A49,analysis!$A$2:$S$1048576,F$2,FALSE) -> 6.4672673 | G49: =VLOOKUP($A49,analysis!$A$2:$S$1048576,G$2,FALSE) -> 7.9041351 | H49: =VLOOKUP($A49,analysis!$A$2:$S$1048576,H$2,FALSE) -> 11.998433 | I49: =VLOOKUP($A49,analysis!$A$2:$S$1048576,I$2,FALSE) | J49: =VLOOKUP($A49,analysis!$A$2:$U$1048576,J$2,FALSE) -> 1 | K49: =VLOOKUP($A49,analysis!$A$2:$U$1048576,K$2,FALSE) -> 100 | L49: x | M49: =IF(L49="x",G49,"") -> 7.9041351
A50: Scamacca | B50: =VLOOKUP($A50,analysis!$A$2:$S$1048576,B$2,FALSE) -> A | C50: =VLOOKUP($A50,analysis!$A$2:$S$1048576,C$2,FALSE) -> Atalanta | D50: =VLOOKUP($A50,analysis!$A$2:$S$1048576,D$2,FALSE) -> Avg | E50: =VLOOKUP($A50,analysis!$A$2:$S$1048576,E$2,FALSE) -> 1 | F50: =VLOOKUP($A50,analysis!$A$2:$S$1048576,F$2,FALSE) -> 6.2817273 | G50: =VLOOKUP($A50,analysis!$A$2:$S$1048576,G$2,FALSE) -> 7.3341083 | H50: =VLOOKUP($A50,analysis!$A$2:$S$1048576,H$2,FALSE) -> 10.675645 | I50: =VLOOKUP($A50,analysis!$A$2:$S$1048576,I$2,FALSE) | J50: =VLOOKUP($A50,analysis!$A$2:$U$1048576,J$2,FALSE) -> 0 | K50: =VLOOKUP($A50,analysis!$A$2:$U$1048576,K$2,FALSE) -> 100 | L50: x | M50: =IF(L50="x",G50,"") -> 7.3341083
A51: Dybala | B51: =VLOOKUP($A51,analysis!$A$2:$S$1048576,B$2,FALSE) -> A | C51: =VLOOKUP($A51,analysis!$A$2:$S$1048576,C$2,FALSE) -> Roma | D51: =VLOOKUP($A51,analysis!$A$2:$S$1048576,D$2,FALSE) -> Avg | E51: =VLOOKUP($A51,analysis!$A$2:$S$1048576,E$2,FALSE) -> 1 | F51: =VLOOKUP($A51,analysis!$A$2:$S$1048576,F$2,FALSE) -> 6.4263225 | G51: =VLOOKUP($A51,analysis!$A$2:$S$1048576,G$2,FALSE) -> 7.7820748 | H51: =VLOOKUP($A51,analysis!$A$2:$S$1048576,H$2,FALSE) -> 11.684701 | I51: =VLOOKUP($A51,analysis!$A$2:$S$1048576,I$2,FALSE) | J51: =VLOOKUP($A51,analysis!$A$2:$U$1048576,J$2,FALSE) -> 0 | K51: =VLOOKUP($A51,analysis!$A$2:$U$1048576,K$2,FALSE) -> 50 | L51: x | M51: =IF(L51="x",G51,"") -> 7.7820748
A52: Arnautovic | B52: =VLOOKUP($A52,analysis!$A$2:$S$1048576,B$2,FALSE) -> A | C52: =VLOOKUP($A52,analysis!$A$2:$S$1048576,C$2,FALSE) -> Inter | D52: =VLOOKUP($A52,analysis!$A$2:$S$1048576,D$2,FALSE) -> Avg | E52: =VLOOKUP($A52,analysis!$A$2:$S$1048576,E$2,FALSE) -> 1 | F52: =VLOOKUP($A52,analysis!$A$2:$S$1048576,F$2,FALSE) -> 6.3625701 | G52: =VLOOKUP($A52,analysis!$A$2:$S$1048576,G$2,FALSE) -> 7.1755651 | H52: =VLOOKUP($A52,analysis!$A$2:$S$1048576,H$2,FALSE) -> 9.8421277 | I52: =VLOOKUP($A52,analysis!$A$2:$S$1048576,I$2,FALSE) | J52: =VLOOKUP($A52,analysis!$A$2:$U$1048576,J$2,FALSE) -> 0 | K52: =VLOOKUP($A52,analysis!$A$2:$U$1048576,K$2,FALSE) -> 100 | M52: =IF(L52="x",G52,"")
A53: Zirkzee | B53: =VLOOKUP($A53,analysis!$A$2:$S$1048576,B$2,FALSE) -> A | C53: =VLOOKUP($A53,analysis!$A$2:$S$1048576,C$2,FALSE) -> Bologna | D53: =VLOOKUP($A53,analysis!$A$2:$S$1048576,D$2,FALSE) -> Avg | E53: =VLOOKUP($A53,analysis!$A$2:$S$1048576,E$2,FALSE) -> 1 | F53: =VLOOKUP($A53,analysis!$A$2:$S$1048576,F$2,FALSE) -> 6.2128157 | G53: =VLOOKUP($A53,analysis!$A$2:$S$1048576,G$2,FALSE) -> 6.7313637 | H53: =VLOOKUP($A53,analysis!$A$2:$S$1048576,H$2,FALSE) -> 8.7274699 | I53: =VLOOKUP($A53,analysis!$A$2:$S$1048576,I$2,FALSE) | J53: =VLOOKUP($A53,analysis!$A$2:$U$1048576,J$2,FALSE) -> 1 | K53: =VLOOKUP($A53,analysis!$A$2:$U$1048576,K$2,FALSE) -> 100 | M53: =IF(L53="x",G53,"")
A54: Caputo | B54: =VLOOKUP($A54,analysis!$A$2:$S$1048576,B$2,FALSE) -> A | C54: =VLOOKUP($A54,analysis!$A$2:$S$1048576,C$2,FALSE) -> Empoli | D54: =VLOOKUP($A54,analysis!$A$2:$S$1048576,D$2,FALSE) -> Avg | E54: =VLOOKUP($A54,analysis!$A$2:$S$1048576,E$2,FALSE) -> 1 | F54: =VLOOKUP($A54,analysis!$A$2:$S$1048576,F$2,FALSE) -> 5.6921533 | G54: =VLOOKUP($A54,analysis!$A$2:$S$1048576,G$2,FALSE) -> 5.9528118 | H54: =VLOOKUP($A54,analysis!$A$2:$S$1048576,H$2,FALSE) -> 7.1716576 | I54: =VLOOKUP($A54,analysis!$A$2:$S$1048576,I$2,FALSE) | J54: =VLOOKUP($A54,analysis!$A$2:$U$1048576,J$2,FALSE) -> 1 | K54: =VLOOKUP($A54,analysis!$A$2:$U$1048576,K$2,FALSE) -> 100 | M54: =IF(L54="x",G54,"")
